BEGIN:VCALENDAR
VERSION:2.0
PRODID:-//Stadtmarketing Klosterneuburg - ECPv6.15.17.1//NONSGML v1.0//EN
CALSCALE:GREGORIAN
METHOD:PUBLISH
X-WR-CALNAME:Stadtmarketing Klosterneuburg
X-ORIGINAL-URL:https://www.stadtmarketing-klosterneuburg.at
X-WR-CALDESC:Veranstaltungen für Stadtmarketing Klosterneuburg
REFRESH-INTERVAL;VALUE=DURATION:PT1H
X-Robots-Tag:noindex
X-PUBLISHED-TTL:PT1H
BEGIN:VTIMEZONE
TZID:Europe/Vienna
BEGIN:DAYLIGHT
TZOFFSETFROM:+0100
TZOFFSETTO:+0200
TZNAME:CEST
DTSTART:20220327T010000
END:DAYLIGHT
BEGIN:STANDARD
TZOFFSETFROM:+0200
TZOFFSETTO:+0100
TZNAME:CET
DTSTART:20221030T010000
END:STANDARD
BEGIN:DAYLIGHT
TZOFFSETFROM:+0100
TZOFFSETTO:+0200
TZNAME:CEST
DTSTART:20230326T010000
END:DAYLIGHT
BEGIN:STANDARD
TZOFFSETFROM:+0200
TZOFFSETTO:+0100
TZNAME:CET
DTSTART:20231029T010000
END:STANDARD
BEGIN:DAYLIGHT
TZOFFSETFROM:+0100
TZOFFSETTO:+0200
TZNAME:CEST
DTSTART:20240331T010000
END:DAYLIGHT
BEGIN:STANDARD
TZOFFSETFROM:+0200
TZOFFSETTO:+0100
TZNAME:CET
DTSTART:20241027T010000
END:STANDARD
BEGIN:DAYLIGHT
TZOFFSETFROM:+0100
TZOFFSETTO:+0200
TZNAME:CEST
DTSTART:20250330T010000
END:DAYLIGHT
BEGIN:STANDARD
TZOFFSETFROM:+0200
TZOFFSETTO:+0100
TZNAME:CET
DTSTART:20251026T010000
END:STANDARD
END:VTIMEZONE
BEGIN:VEVENT
DTSTART;TZID=Europe/Vienna:20240217T173000
DTEND;TZID=Europe/Vienna:20240217T193000
DTSTAMP:20260419T200659
CREATED:20240201T100217Z
LAST-MODIFIED:20240213T102533Z
UID:10034621-1708191000-1708198200@www.stadtmarketing-klosterneuburg.at
SUMMARY:BK-Doppelpack Duchess / Dukes
DESCRIPTION:Doppelpack-Heimspiel am Samstag\, 17. Februar 2024 im Happyland \n\n14.30 Uhr BK Raiffeisen Duchess vs Basket Flames Women\n17.30 Uhr BK IMMOunited Dukes vs Arkadia Traiskirchen Lions\n\n\n\nTickets: ONLINE
URL:https://www.stadtmarketing-klosterneuburg.at/veranstaltung/bk-immounited-dukes-vs-arkadia-traiskirchen-lions/2024-02-17/2/
LOCATION:Sport- und Freizeitzentrum Happyland\, In der Au 2\, Klosterneuburg\, 3400\, Austria
CATEGORIES:Sport & Gesundheit,Wettbewerbe
ATTACH;FMTTYPE=image/jpeg:https://www.stadtmarketing-klosterneuburg.at/wp-content/uploads/2020/02/bk-dukes.jpg
ORGANIZER;CN="BK IMMOUnited Dukes":MAILTO:office@bk-klosterneuburg.at
END:VEVENT
BEGIN:VEVENT
DTSTART;TZID=Europe/Vienna:20240217T143000
DTEND;TZID=Europe/Vienna:20240217T163000
DTSTAMP:20260419T200659
CREATED:20240201T100217Z
LAST-MODIFIED:20240213T102533Z
UID:10034791-1708180200-1708187400@www.stadtmarketing-klosterneuburg.at
SUMMARY:BK-Doppelpack Duchess / Dukes
DESCRIPTION:Doppelpack-Heimspiel am Samstag\, 17. Februar 2024 im Happyland \n\n14.30 Uhr BK Raiffeisen Duchess vs Basket Flames Women\n17.30 Uhr BK IMMOunited Dukes vs Arkadia Traiskirchen Lions\n\n\n\nTickets: ONLINE
URL:https://www.stadtmarketing-klosterneuburg.at/veranstaltung/bk-immounited-dukes-vs-arkadia-traiskirchen-lions/2024-02-17/1/
LOCATION:Sport- und Freizeitzentrum Happyland\, In der Au 2\, Klosterneuburg\, 3400\, Austria
CATEGORIES:Sport & Gesundheit,Wettbewerbe
ATTACH;FMTTYPE=image/jpeg:https://www.stadtmarketing-klosterneuburg.at/wp-content/uploads/2020/02/bk-dukes.jpg
ORGANIZER;CN="BK IMMOUnited Dukes":MAILTO:office@bk-klosterneuburg.at
END:VEVENT
BEGIN:VEVENT
DTSTART;TZID=Europe/Vienna:20240127T173000
DTEND;TZID=Europe/Vienna:20240127T193000
DTSTAMP:20260419T200659
CREATED:20240109T140020Z
LAST-MODIFIED:20240109T140020Z
UID:10030538-1706376600-1706383800@www.stadtmarketing-klosterneuburg.at
SUMMARY:BK IMMOUnited Dukes vs BBC Nord Dragonz
DESCRIPTION:Heimspiel im Happyland!\nSamstag\, 27. Jänner\, Beginn: 17.30 Uhr\n\nTickets: ONLINE
URL:https://www.stadtmarketing-klosterneuburg.at/veranstaltung/bk-immounited-dukes-vs-bbc-nord-dragonz/
LOCATION:Sport- und Freizeitzentrum Happyland\, In der Au 2\, Klosterneuburg\, 3400\, Austria
CATEGORIES:Sport & Gesundheit,Wettbewerbe
ATTACH;FMTTYPE=image/jpeg:https://www.stadtmarketing-klosterneuburg.at/wp-content/uploads/2020/02/bk-dukes.jpg
ORGANIZER;CN="BK IMMOUnited Dukes":MAILTO:office@bk-klosterneuburg.at
END:VEVENT
BEGIN:VEVENT
DTSTART;TZID=Europe/Vienna:20240121T093000
DTEND;TZID=Europe/Vienna:20240121T153000
DTSTAMP:20260419T200659
CREATED:20240112T163333Z
LAST-MODIFIED:20240112T165816Z
UID:10033809-1705829400-1705851000@www.stadtmarketing-klosterneuburg.at
SUMMARY:Wasserball U12-Meisterschaft
DESCRIPTION:Österreichische U12-Meisterschaft im Happyland\nSamstag\, 20. Jänner – Sonntag\, 21. Jänner 2024 \nSamstag:\n16.30 Uhr USC Klosterneuburg – Badener AC\n18.00 Uhr WBC Tirol – ASV Wien \nSonntag:\n9.30 Uhr USC Klosterneuburg – WBC Tirol\n\n10.45 Uhr ASV Wien – Badener AC\n12.30 Uhr Badener AC – WBC Tirol\n\n13.45 Uhr USC Klosterneuburg – ASV Wien\n  \nFreier Eintritt! \nKontakt: 1. USC Klosterneuburg\n\noffice@1usck.at\nwww.1usck.at
URL:https://www.stadtmarketing-klosterneuburg.at/veranstaltung/wasserball-u12-meisterschaft/2024-01-21/
LOCATION:Sport- und Freizeitzentrum Happyland\, In der Au 2\, Klosterneuburg\, 3400\, Austria
CATEGORIES:Sport & Gesundheit,Wettbewerbe
ATTACH;FMTTYPE=image/jpeg:https://www.stadtmarketing-klosterneuburg.at/wp-content/uploads/2024/01/Wasserball-U12-NEU-c-der_stefan_aus_wien.jpg
ORGANIZER;CN="BK IMMOUnited Dukes":MAILTO:office@bk-klosterneuburg.at
END:VEVENT
BEGIN:VEVENT
DTSTART;TZID=Europe/Vienna:20240120T163000
DTEND;TZID=Europe/Vienna:20240120T193000
DTSTAMP:20260419T200659
CREATED:20240112T163333Z
LAST-MODIFIED:20240112T165816Z
UID:10033808-1705768200-1705779000@www.stadtmarketing-klosterneuburg.at
SUMMARY:Wasserball U12-Meisterschaft
DESCRIPTION:Österreichische U12-Meisterschaft im Happyland\nSamstag\, 20. Jänner – Sonntag\, 21. Jänner 2024 \nSamstag:\n16.30 Uhr USC Klosterneuburg – Badener AC\n18.00 Uhr WBC Tirol – ASV Wien \nSonntag:\n9.30 Uhr USC Klosterneuburg – WBC Tirol\n\n10.45 Uhr ASV Wien – Badener AC\n12.30 Uhr Badener AC – WBC Tirol\n\n13.45 Uhr USC Klosterneuburg – ASV Wien\n  \nFreier Eintritt! \nKontakt: 1. USC Klosterneuburg\n\noffice@1usck.at\nwww.1usck.at
URL:https://www.stadtmarketing-klosterneuburg.at/veranstaltung/wasserball-u12-meisterschaft/2024-01-20/
LOCATION:Sport- und Freizeitzentrum Happyland\, In der Au 2\, Klosterneuburg\, 3400\, Austria
CATEGORIES:Sport & Gesundheit,Wettbewerbe
ATTACH;FMTTYPE=image/jpeg:https://www.stadtmarketing-klosterneuburg.at/wp-content/uploads/2024/01/Wasserball-U12-NEU-c-der_stefan_aus_wien.jpg
ORGANIZER;CN="BK IMMOUnited Dukes":MAILTO:office@bk-klosterneuburg.at
END:VEVENT
BEGIN:VEVENT
DTSTART;TZID=Europe/Vienna:20231221T190000
DTEND;TZID=Europe/Vienna:20231221T210000
DTSTAMP:20260419T200659
CREATED:20231220T155352Z
LAST-MODIFIED:20231220T163203Z
UID:10030521-1703185200-1703192400@www.stadtmarketing-klosterneuburg.at
SUMMARY:BK IMMOUnited Dukes vs CITIES Panthers Fürstenfeld
DESCRIPTION:Das letzte Heimspiel 2023!\nDonnerstag\, 21. Dezember\, Beginn: 19 Uhr\n\nTickets: ONLINE
URL:https://www.stadtmarketing-klosterneuburg.at/veranstaltung/bk-immounited-dukes-vs-cities-panthers-fuerstenfeld/
LOCATION:Sport- und Freizeitzentrum Happyland\, In der Au 2\, Klosterneuburg\, 3400\, Austria
CATEGORIES:Sport & Gesundheit,Wettbewerbe
ATTACH;FMTTYPE=image/jpeg:https://www.stadtmarketing-klosterneuburg.at/wp-content/uploads/2020/02/bk-dukes.jpg
ORGANIZER;CN="BK IMMOUnited Dukes":MAILTO:office@bk-klosterneuburg.at
END:VEVENT
BEGIN:VEVENT
DTSTART;TZID=Europe/Vienna:20231210T180000
DTEND;TZID=Europe/Vienna:20231210T200000
DTSTAMP:20260419T200659
CREATED:20231207T162334Z
LAST-MODIFIED:20231207T162334Z
UID:10030010-1702231200-1702238400@www.stadtmarketing-klosterneuburg.at
SUMMARY:BK IMMOUnited Dukes vs FLYERS WELS
DESCRIPTION:Basketball Austria Cup Halbfinale im Happyland\nSonntag\, 10. Dezember\, Beginn: 18 Uhr\n\nInformationen: www.bk-klosterneuburg.at
URL:https://www.stadtmarketing-klosterneuburg.at/veranstaltung/bk-immounited-dukes-vs-flyers-wels/
LOCATION:Sport- und Freizeitzentrum Happyland\, In der Au 2\, Klosterneuburg\, 3400\, Austria
CATEGORIES:Sport & Gesundheit,Wettbewerbe
ATTACH;FMTTYPE=image/jpeg:https://www.stadtmarketing-klosterneuburg.at/wp-content/uploads/2020/02/bk-dukes.jpg
ORGANIZER;CN="BK IMMOUnited Dukes":MAILTO:office@bk-klosterneuburg.at
END:VEVENT
BEGIN:VEVENT
DTSTART;TZID=Europe/Vienna:20231104T173000
DTEND;TZID=Europe/Vienna:20231104T193000
DTSTAMP:20260419T200659
CREATED:20231102T092745Z
LAST-MODIFIED:20231102T092745Z
UID:10029280-1699119000-1699126200@www.stadtmarketing-klosterneuburg.at
SUMMARY:BK IMMOUnited Dukes vs OCS CAPITAL BULLS
DESCRIPTION:Heimspiel im Happyland\nSamstag\, 4. November\, Beginn: 17.30 Uhr\n\nInformationen: www.bk-klosterneuburg.at
URL:https://www.stadtmarketing-klosterneuburg.at/veranstaltung/bk-immounited-dukes-vs-ocs-capital-bulls/
LOCATION:Sport- und Freizeitzentrum Happyland\, In der Au 2\, Klosterneuburg\, 3400\, Austria
CATEGORIES:Sport & Gesundheit,Wettbewerbe
ATTACH;FMTTYPE=image/jpeg:https://www.stadtmarketing-klosterneuburg.at/wp-content/uploads/2023/11/Gameday-c-BK-Klbg.jpg
ORGANIZER;CN="BK IMMOUnited Dukes":MAILTO:office@bk-klosterneuburg.at
END:VEVENT
BEGIN:VEVENT
DTSTART;TZID=Europe/Vienna:20231021T190000
DTEND;TZID=Europe/Vienna:20231021T210000
DTSTAMP:20260419T200659
CREATED:20230909T072651Z
LAST-MODIFIED:20231009T115256Z
UID:10027584-1697914800-1697922000@www.stadtmarketing-klosterneuburg.at
SUMMARY:BK IMMOUnited Dukes vs VIENNA TIMBERWOLVES
DESCRIPTION:Heimspiel im Happyland\nSamstag\, 21. Oktober\, Beginn: 19 Uhr\n\nInformationen: www.bk-klosterneuburg.at
URL:https://www.stadtmarketing-klosterneuburg.at/veranstaltung/bk-immounited-dukes-vs-vienna-timberwolves/
LOCATION:Sport- und Freizeitzentrum Happyland\, In der Au 2\, Klosterneuburg\, 3400\, Austria
CATEGORIES:Sport & Gesundheit,Wettbewerbe
ATTACH;FMTTYPE=image/jpeg:https://www.stadtmarketing-klosterneuburg.at/wp-content/uploads/2020/02/bk-dukes.jpg
ORGANIZER;CN="BK IMMOUnited Dukes":MAILTO:office@bk-klosterneuburg.at
END:VEVENT
BEGIN:VEVENT
DTSTART;TZID=Europe/Vienna:20231007T173000
DTEND;TZID=Europe/Vienna:20231007T193000
DTSTAMP:20260419T200659
CREATED:20230909T072444Z
LAST-MODIFIED:20230909T072444Z
UID:10027583-1696699800-1696707000@www.stadtmarketing-klosterneuburg.at
SUMMARY:BK IMMOUnited Dukes vs GMUNDEN
DESCRIPTION:1. Heimspiel der neuen Saison!\nSamstag\, 7. Oktober\, Beginn: 17.30 Uhr\n\nHier geht´s zu den Tickets!\n\nWeitere Informationen: www.bk-klosterneuburg.at
URL:https://www.stadtmarketing-klosterneuburg.at/veranstaltung/bk-immounited-dukes-vs-gmunden/
LOCATION:Sport- und Freizeitzentrum Happyland\, In der Au 2\, Klosterneuburg\, 3400\, Austria
CATEGORIES:Sport & Gesundheit,Wettbewerbe
ATTACH;FMTTYPE=image/jpeg:https://www.stadtmarketing-klosterneuburg.at/wp-content/uploads/2020/02/bk-dukes.jpg
ORGANIZER;CN="BK IMMOUnited Dukes":MAILTO:office@bk-klosterneuburg.at
END:VEVENT
BEGIN:VEVENT
DTSTART;TZID=Europe/Vienna:20230616T193000
DTEND;TZID=Europe/Vienna:20230616T203000
DTSTAMP:20260419T200659
CREATED:20230426T072534Z
LAST-MODIFIED:20240112T160640Z
UID:10026260-1686943800-1686947400@www.stadtmarketing-klosterneuburg.at
SUMMARY:1. USCK - Wasserball Meisterschaft
DESCRIPTION:Die Kampfmannschaft des 1.USCK ist heuer auf dem besten Wege die Regionalliga mit einem Meistertitel zu beenden!\nUnterstützt unsere Mannschaft durch zahlreiches Erscheinen und kräftigen Support bei diesem entscheidenden Spiel im Happyland! \nFreitag\, 16.6. im Happyland \nBeginn: 19:50 Uhr \nEnde: 20:30 Uhr (voraussichtlich) \nIm Anschluss lädt der 1. USC Raiffeisen Klosterneuburg zum gemeinsamen Anstoßen in die Sportsbar Happyland ein! \nKontakt: Oliver Smerda\n\n+43/ (0)660/ 320 90 16\noliver.smerda@k-l.at
URL:https://www.stadtmarketing-klosterneuburg.at/veranstaltung/1-usck-wasserball-meisterschaft/
LOCATION:Sport- und Freizeitzentrum Happyland\, In der Au 2\, Klosterneuburg\, 3400\, Austria
CATEGORIES:Sport & Gesundheit,Wettbewerbe
ATTACH;FMTTYPE=image/jpeg:https://www.stadtmarketing-klosterneuburg.at/wp-content/uploads/2023/04/USC-c-1.-USC-Raiffeisen-Klbg.jpg
ORGANIZER;CN="BK IMMOUnited Dukes":MAILTO:office@bk-klosterneuburg.at
END:VEVENT
BEGIN:VEVENT
DTSTART;TZID=Europe/Vienna:20230508T200000
DTEND;TZID=Europe/Vienna:20230508T220000
DTSTAMP:20260419T200659
CREATED:20230505T132011Z
LAST-MODIFIED:20230505T132138Z
UID:10026351-1683576000-1683583200@www.stadtmarketing-klosterneuburg.at
SUMMARY:BK IMMOUnited Dukes vs BC GGMT VIENNA
DESCRIPTION:Semifinale!!! \nMit Unterstützung der Fans soll der Aufstieg ins Finale klappen!\nBeginn: 20.15 Uhr\n\nHier geht´s zu den Tickets!\n\nWeitere Informationen: www.bk-klosterneuburg.at
URL:https://www.stadtmarketing-klosterneuburg.at/veranstaltung/bk-immounited-dukes-vs-oberwart-gunners/
LOCATION:Sport- und Freizeitzentrum Happyland\, In der Au 2\, Klosterneuburg\, 3400\, Austria
CATEGORIES:Sport & Gesundheit,Wettbewerbe
ATTACH;FMTTYPE=image/jpeg:https://www.stadtmarketing-klosterneuburg.at/wp-content/uploads/2020/02/bk-dukes.jpg
ORGANIZER;CN="BK IMMOUnited Dukes":MAILTO:office@bk-klosterneuburg.at
END:VEVENT
BEGIN:VEVENT
DTSTART;TZID=Europe/Vienna:20230430T173000
DTEND;TZID=Europe/Vienna:20230430T190000
DTSTAMP:20260419T200659
CREATED:20230423T095822Z
LAST-MODIFIED:20230430T081442Z
UID:10026243-1682875800-1682881200@www.stadtmarketing-klosterneuburg.at
SUMMARY:BK IMMOUnited Dukes vs Oberwart Gunners
DESCRIPTION:Playoff-Viertelfinale!!! \nMit Unterstützung der Fans soll der Aufstieg ins Semifinale klappen!\n\nHier geht´s zu den Tickets!\n\nWeitere Informationen: www.bk-klosterneuburg.at
URL:https://www.stadtmarketing-klosterneuburg.at/veranstaltung/bk-immounited-dukes-vs-unger-steel-gunners-oberwart-2/
LOCATION:Sport- und Freizeitzentrum Happyland\, In der Au 2\, Klosterneuburg\, 3400\, Austria
CATEGORIES:Sport & Gesundheit,Wettbewerbe
ATTACH;FMTTYPE=image/jpeg:https://www.stadtmarketing-klosterneuburg.at/wp-content/uploads/2020/02/bk-dukes.jpg
ORGANIZER;CN="BK IMMOUnited Dukes":MAILTO:office@bk-klosterneuburg.at
END:VEVENT
END:VCALENDAR