BEGIN:VCALENDAR
VERSION:2.0
PRODID:-//Stadtmarketing Klosterneuburg - ECPv6.15.20//NONSGML v1.0//EN
CALSCALE:GREGORIAN
METHOD:PUBLISH
X-WR-CALNAME:Stadtmarketing Klosterneuburg
X-ORIGINAL-URL:https://www.stadtmarketing-klosterneuburg.at
X-WR-CALDESC:Veranstaltungen für Stadtmarketing Klosterneuburg
REFRESH-INTERVAL;VALUE=DURATION:PT1H
X-Robots-Tag:noindex
X-PUBLISHED-TTL:PT1H
BEGIN:VTIMEZONE
TZID:Europe/Vienna
BEGIN:DAYLIGHT
TZOFFSETFROM:+0100
TZOFFSETTO:+0200
TZNAME:CEST
DTSTART:20250330T010000
END:DAYLIGHT
BEGIN:STANDARD
TZOFFSETFROM:+0200
TZOFFSETTO:+0100
TZNAME:CET
DTSTART:20251026T010000
END:STANDARD
BEGIN:DAYLIGHT
TZOFFSETFROM:+0100
TZOFFSETTO:+0200
TZNAME:CEST
DTSTART:20260329T010000
END:DAYLIGHT
BEGIN:STANDARD
TZOFFSETFROM:+0200
TZOFFSETTO:+0100
TZNAME:CET
DTSTART:20261025T010000
END:STANDARD
BEGIN:DAYLIGHT
TZOFFSETFROM:+0100
TZOFFSETTO:+0200
TZNAME:CEST
DTSTART:20270328T010000
END:DAYLIGHT
BEGIN:STANDARD
TZOFFSETFROM:+0200
TZOFFSETTO:+0100
TZNAME:CET
DTSTART:20271031T010000
END:STANDARD
BEGIN:DAYLIGHT
TZOFFSETFROM:+0100
TZOFFSETTO:+0200
TZNAME:CEST
DTSTART:20280326T010000
END:DAYLIGHT
BEGIN:STANDARD
TZOFFSETFROM:+0200
TZOFFSETTO:+0100
TZNAME:CET
DTSTART:20281029T010000
END:STANDARD
BEGIN:DAYLIGHT
TZOFFSETFROM:+0100
TZOFFSETTO:+0200
TZNAME:CEST
DTSTART:20290325T010000
END:DAYLIGHT
BEGIN:STANDARD
TZOFFSETFROM:+0200
TZOFFSETTO:+0100
TZNAME:CET
DTSTART:20291028T010000
END:STANDARD
END:VTIMEZONE
BEGIN:VEVENT
DTSTART;TZID=Europe/Vienna:20260503T100000
DTEND;TZID=Europe/Vienna:20260503T130000
DTSTAMP:20260424T222444
CREATED:20240504T070441Z
LAST-MODIFIED:20240528T124436Z
UID:10036146-1777802400-1777813200@www.stadtmarketing-klosterneuburg.at
SUMMARY:Vinothek Kafka
DESCRIPTION:ab 5.5.2024 jeden 1. Sonntag im Monat \nim Heurigenlokal
URL:https://www.stadtmarketing-klosterneuburg.at/veranstaltung/vinothek-kafka/2026-05-03/
LOCATION:Kafka bei Gartner\, Hauptstraße 160\, Kierling\, 3400\, Austria
CATEGORIES:Einkaufen & Wirtschaft,Kulinarik & Wein,Weinpräsentationen & Verkostungen
ATTACH;FMTTYPE=image/jpeg:https://www.stadtmarketing-klosterneuburg.at/wp-content/uploads/2024/05/Vinothek-Kafka-c-Kafka-Heuriger.jpg
END:VEVENT
BEGIN:VEVENT
DTSTART;TZID=Europe/Vienna:20260607T100000
DTEND;TZID=Europe/Vienna:20260607T130000
DTSTAMP:20260424T222444
CREATED:20240504T070441Z
LAST-MODIFIED:20240528T124436Z
UID:10036147-1780826400-1780837200@www.stadtmarketing-klosterneuburg.at
SUMMARY:Vinothek Kafka
DESCRIPTION:ab 5.5.2024 jeden 1. Sonntag im Monat \nim Heurigenlokal
URL:https://www.stadtmarketing-klosterneuburg.at/veranstaltung/vinothek-kafka/2026-06-07/
LOCATION:Kafka bei Gartner\, Hauptstraße 160\, Kierling\, 3400\, Austria
CATEGORIES:Einkaufen & Wirtschaft,Kulinarik & Wein,Weinpräsentationen & Verkostungen
ATTACH;FMTTYPE=image/jpeg:https://www.stadtmarketing-klosterneuburg.at/wp-content/uploads/2024/05/Vinothek-Kafka-c-Kafka-Heuriger.jpg
END:VEVENT
BEGIN:VEVENT
DTSTART;TZID=Europe/Vienna:20260705T100000
DTEND;TZID=Europe/Vienna:20260705T130000
DTSTAMP:20260424T222444
CREATED:20240504T070441Z
LAST-MODIFIED:20240528T124436Z
UID:10036148-1783245600-1783256400@www.stadtmarketing-klosterneuburg.at
SUMMARY:Vinothek Kafka
DESCRIPTION:ab 5.5.2024 jeden 1. Sonntag im Monat \nim Heurigenlokal
URL:https://www.stadtmarketing-klosterneuburg.at/veranstaltung/vinothek-kafka/2026-07-05/
LOCATION:Kafka bei Gartner\, Hauptstraße 160\, Kierling\, 3400\, Austria
CATEGORIES:Einkaufen & Wirtschaft,Kulinarik & Wein,Weinpräsentationen & Verkostungen
ATTACH;FMTTYPE=image/jpeg:https://www.stadtmarketing-klosterneuburg.at/wp-content/uploads/2024/05/Vinothek-Kafka-c-Kafka-Heuriger.jpg
END:VEVENT
BEGIN:VEVENT
DTSTART;TZID=Europe/Vienna:20260802T100000
DTEND;TZID=Europe/Vienna:20260802T130000
DTSTAMP:20260424T222444
CREATED:20240504T070441Z
LAST-MODIFIED:20240528T124436Z
UID:10036149-1785664800-1785675600@www.stadtmarketing-klosterneuburg.at
SUMMARY:Vinothek Kafka
DESCRIPTION:ab 5.5.2024 jeden 1. Sonntag im Monat \nim Heurigenlokal
URL:https://www.stadtmarketing-klosterneuburg.at/veranstaltung/vinothek-kafka/2026-08-02/
LOCATION:Kafka bei Gartner\, Hauptstraße 160\, Kierling\, 3400\, Austria
CATEGORIES:Einkaufen & Wirtschaft,Kulinarik & Wein,Weinpräsentationen & Verkostungen
ATTACH;FMTTYPE=image/jpeg:https://www.stadtmarketing-klosterneuburg.at/wp-content/uploads/2024/05/Vinothek-Kafka-c-Kafka-Heuriger.jpg
END:VEVENT
BEGIN:VEVENT
DTSTART;TZID=Europe/Vienna:20260906T100000
DTEND;TZID=Europe/Vienna:20260906T130000
DTSTAMP:20260424T222444
CREATED:20240504T070441Z
LAST-MODIFIED:20240528T124436Z
UID:10036150-1788688800-1788699600@www.stadtmarketing-klosterneuburg.at
SUMMARY:Vinothek Kafka
DESCRIPTION:ab 5.5.2024 jeden 1. Sonntag im Monat \nim Heurigenlokal
URL:https://www.stadtmarketing-klosterneuburg.at/veranstaltung/vinothek-kafka/2026-09-06/
LOCATION:Kafka bei Gartner\, Hauptstraße 160\, Kierling\, 3400\, Austria
CATEGORIES:Einkaufen & Wirtschaft,Kulinarik & Wein,Weinpräsentationen & Verkostungen
ATTACH;FMTTYPE=image/jpeg:https://www.stadtmarketing-klosterneuburg.at/wp-content/uploads/2024/05/Vinothek-Kafka-c-Kafka-Heuriger.jpg
END:VEVENT
BEGIN:VEVENT
DTSTART;TZID=Europe/Vienna:20261004T100000
DTEND;TZID=Europe/Vienna:20261004T130000
DTSTAMP:20260424T222444
CREATED:20240504T070441Z
LAST-MODIFIED:20240528T124436Z
UID:10036151-1791108000-1791118800@www.stadtmarketing-klosterneuburg.at
SUMMARY:Vinothek Kafka
DESCRIPTION:ab 5.5.2024 jeden 1. Sonntag im Monat \nim Heurigenlokal
URL:https://www.stadtmarketing-klosterneuburg.at/veranstaltung/vinothek-kafka/2026-10-04/
LOCATION:Kafka bei Gartner\, Hauptstraße 160\, Kierling\, 3400\, Austria
CATEGORIES:Einkaufen & Wirtschaft,Kulinarik & Wein,Weinpräsentationen & Verkostungen
ATTACH;FMTTYPE=image/jpeg:https://www.stadtmarketing-klosterneuburg.at/wp-content/uploads/2024/05/Vinothek-Kafka-c-Kafka-Heuriger.jpg
END:VEVENT
BEGIN:VEVENT
DTSTART;TZID=Europe/Vienna:20261101T100000
DTEND;TZID=Europe/Vienna:20261101T130000
DTSTAMP:20260424T222444
CREATED:20240504T070441Z
LAST-MODIFIED:20240528T124436Z
UID:10036152-1793527200-1793538000@www.stadtmarketing-klosterneuburg.at
SUMMARY:Vinothek Kafka
DESCRIPTION:ab 5.5.2024 jeden 1. Sonntag im Monat \nim Heurigenlokal
URL:https://www.stadtmarketing-klosterneuburg.at/veranstaltung/vinothek-kafka/2026-11-01/
LOCATION:Kafka bei Gartner\, Hauptstraße 160\, Kierling\, 3400\, Austria
CATEGORIES:Einkaufen & Wirtschaft,Kulinarik & Wein,Weinpräsentationen & Verkostungen
ATTACH;FMTTYPE=image/jpeg:https://www.stadtmarketing-klosterneuburg.at/wp-content/uploads/2024/05/Vinothek-Kafka-c-Kafka-Heuriger.jpg
END:VEVENT
BEGIN:VEVENT
DTSTART;TZID=Europe/Vienna:20261206T100000
DTEND;TZID=Europe/Vienna:20261206T130000
DTSTAMP:20260424T222444
CREATED:20240504T070441Z
LAST-MODIFIED:20240528T124436Z
UID:10036153-1796551200-1796562000@www.stadtmarketing-klosterneuburg.at
SUMMARY:Vinothek Kafka
DESCRIPTION:ab 5.5.2024 jeden 1. Sonntag im Monat \nim Heurigenlokal
URL:https://www.stadtmarketing-klosterneuburg.at/veranstaltung/vinothek-kafka/2026-12-06/
LOCATION:Kafka bei Gartner\, Hauptstraße 160\, Kierling\, 3400\, Austria
CATEGORIES:Einkaufen & Wirtschaft,Kulinarik & Wein,Weinpräsentationen & Verkostungen
ATTACH;FMTTYPE=image/jpeg:https://www.stadtmarketing-klosterneuburg.at/wp-content/uploads/2024/05/Vinothek-Kafka-c-Kafka-Heuriger.jpg
END:VEVENT
BEGIN:VEVENT
DTSTART;TZID=Europe/Vienna:20270103T100000
DTEND;TZID=Europe/Vienna:20270103T130000
DTSTAMP:20260424T222444
CREATED:20240504T070441Z
LAST-MODIFIED:20240528T124436Z
UID:10036154-1798970400-1798981200@www.stadtmarketing-klosterneuburg.at
SUMMARY:Vinothek Kafka
DESCRIPTION:ab 5.5.2024 jeden 1. Sonntag im Monat \nim Heurigenlokal
URL:https://www.stadtmarketing-klosterneuburg.at/veranstaltung/vinothek-kafka/2027-01-03/
LOCATION:Kafka bei Gartner\, Hauptstraße 160\, Kierling\, 3400\, Austria
CATEGORIES:Einkaufen & Wirtschaft,Kulinarik & Wein,Weinpräsentationen & Verkostungen
ATTACH;FMTTYPE=image/jpeg:https://www.stadtmarketing-klosterneuburg.at/wp-content/uploads/2024/05/Vinothek-Kafka-c-Kafka-Heuriger.jpg
END:VEVENT
BEGIN:VEVENT
DTSTART;TZID=Europe/Vienna:20270207T100000
DTEND;TZID=Europe/Vienna:20270207T130000
DTSTAMP:20260424T222444
CREATED:20240504T070441Z
LAST-MODIFIED:20240528T124436Z
UID:10036155-1801994400-1802005200@www.stadtmarketing-klosterneuburg.at
SUMMARY:Vinothek Kafka
DESCRIPTION:ab 5.5.2024 jeden 1. Sonntag im Monat \nim Heurigenlokal
URL:https://www.stadtmarketing-klosterneuburg.at/veranstaltung/vinothek-kafka/2027-02-07/
LOCATION:Kafka bei Gartner\, Hauptstraße 160\, Kierling\, 3400\, Austria
CATEGORIES:Einkaufen & Wirtschaft,Kulinarik & Wein,Weinpräsentationen & Verkostungen
ATTACH;FMTTYPE=image/jpeg:https://www.stadtmarketing-klosterneuburg.at/wp-content/uploads/2024/05/Vinothek-Kafka-c-Kafka-Heuriger.jpg
END:VEVENT
BEGIN:VEVENT
DTSTART;TZID=Europe/Vienna:20270307T100000
DTEND;TZID=Europe/Vienna:20270307T130000
DTSTAMP:20260424T222444
CREATED:20240504T070441Z
LAST-MODIFIED:20240528T124436Z
UID:10036156-1804413600-1804424400@www.stadtmarketing-klosterneuburg.at
SUMMARY:Vinothek Kafka
DESCRIPTION:ab 5.5.2024 jeden 1. Sonntag im Monat \nim Heurigenlokal
URL:https://www.stadtmarketing-klosterneuburg.at/veranstaltung/vinothek-kafka/2027-03-07/
LOCATION:Kafka bei Gartner\, Hauptstraße 160\, Kierling\, 3400\, Austria
CATEGORIES:Einkaufen & Wirtschaft,Kulinarik & Wein,Weinpräsentationen & Verkostungen
ATTACH;FMTTYPE=image/jpeg:https://www.stadtmarketing-klosterneuburg.at/wp-content/uploads/2024/05/Vinothek-Kafka-c-Kafka-Heuriger.jpg
END:VEVENT
BEGIN:VEVENT
DTSTART;TZID=Europe/Vienna:20270404T100000
DTEND;TZID=Europe/Vienna:20270404T130000
DTSTAMP:20260424T222444
CREATED:20240504T070441Z
LAST-MODIFIED:20240528T124436Z
UID:10036157-1806832800-1806843600@www.stadtmarketing-klosterneuburg.at
SUMMARY:Vinothek Kafka
DESCRIPTION:ab 5.5.2024 jeden 1. Sonntag im Monat \nim Heurigenlokal
URL:https://www.stadtmarketing-klosterneuburg.at/veranstaltung/vinothek-kafka/2027-04-04/
LOCATION:Kafka bei Gartner\, Hauptstraße 160\, Kierling\, 3400\, Austria
CATEGORIES:Einkaufen & Wirtschaft,Kulinarik & Wein,Weinpräsentationen & Verkostungen
ATTACH;FMTTYPE=image/jpeg:https://www.stadtmarketing-klosterneuburg.at/wp-content/uploads/2024/05/Vinothek-Kafka-c-Kafka-Heuriger.jpg
END:VEVENT
BEGIN:VEVENT
DTSTART;TZID=Europe/Vienna:20270502T100000
DTEND;TZID=Europe/Vienna:20270502T130000
DTSTAMP:20260424T222444
CREATED:20240504T070441Z
LAST-MODIFIED:20240528T124436Z
UID:10036158-1809252000-1809262800@www.stadtmarketing-klosterneuburg.at
SUMMARY:Vinothek Kafka
DESCRIPTION:ab 5.5.2024 jeden 1. Sonntag im Monat \nim Heurigenlokal
URL:https://www.stadtmarketing-klosterneuburg.at/veranstaltung/vinothek-kafka/2027-05-02/
LOCATION:Kafka bei Gartner\, Hauptstraße 160\, Kierling\, 3400\, Austria
CATEGORIES:Einkaufen & Wirtschaft,Kulinarik & Wein,Weinpräsentationen & Verkostungen
ATTACH;FMTTYPE=image/jpeg:https://www.stadtmarketing-klosterneuburg.at/wp-content/uploads/2024/05/Vinothek-Kafka-c-Kafka-Heuriger.jpg
END:VEVENT
BEGIN:VEVENT
DTSTART;TZID=Europe/Vienna:20270606T100000
DTEND;TZID=Europe/Vienna:20270606T130000
DTSTAMP:20260424T222444
CREATED:20240504T070441Z
LAST-MODIFIED:20240528T124436Z
UID:10036159-1812276000-1812286800@www.stadtmarketing-klosterneuburg.at
SUMMARY:Vinothek Kafka
DESCRIPTION:ab 5.5.2024 jeden 1. Sonntag im Monat \nim Heurigenlokal
URL:https://www.stadtmarketing-klosterneuburg.at/veranstaltung/vinothek-kafka/2027-06-06/
LOCATION:Kafka bei Gartner\, Hauptstraße 160\, Kierling\, 3400\, Austria
CATEGORIES:Einkaufen & Wirtschaft,Kulinarik & Wein,Weinpräsentationen & Verkostungen
ATTACH;FMTTYPE=image/jpeg:https://www.stadtmarketing-klosterneuburg.at/wp-content/uploads/2024/05/Vinothek-Kafka-c-Kafka-Heuriger.jpg
END:VEVENT
BEGIN:VEVENT
DTSTART;TZID=Europe/Vienna:20270704T100000
DTEND;TZID=Europe/Vienna:20270704T130000
DTSTAMP:20260424T222444
CREATED:20240504T070441Z
LAST-MODIFIED:20240528T124436Z
UID:10036160-1814695200-1814706000@www.stadtmarketing-klosterneuburg.at
SUMMARY:Vinothek Kafka
DESCRIPTION:ab 5.5.2024 jeden 1. Sonntag im Monat \nim Heurigenlokal
URL:https://www.stadtmarketing-klosterneuburg.at/veranstaltung/vinothek-kafka/2027-07-04/
LOCATION:Kafka bei Gartner\, Hauptstraße 160\, Kierling\, 3400\, Austria
CATEGORIES:Einkaufen & Wirtschaft,Kulinarik & Wein,Weinpräsentationen & Verkostungen
ATTACH;FMTTYPE=image/jpeg:https://www.stadtmarketing-klosterneuburg.at/wp-content/uploads/2024/05/Vinothek-Kafka-c-Kafka-Heuriger.jpg
END:VEVENT
BEGIN:VEVENT
DTSTART;TZID=Europe/Vienna:20270801T100000
DTEND;TZID=Europe/Vienna:20270801T130000
DTSTAMP:20260424T222444
CREATED:20240504T070441Z
LAST-MODIFIED:20240528T124436Z
UID:10036161-1817114400-1817125200@www.stadtmarketing-klosterneuburg.at
SUMMARY:Vinothek Kafka
DESCRIPTION:ab 5.5.2024 jeden 1. Sonntag im Monat \nim Heurigenlokal
URL:https://www.stadtmarketing-klosterneuburg.at/veranstaltung/vinothek-kafka/2027-08-01/
LOCATION:Kafka bei Gartner\, Hauptstraße 160\, Kierling\, 3400\, Austria
CATEGORIES:Einkaufen & Wirtschaft,Kulinarik & Wein,Weinpräsentationen & Verkostungen
ATTACH;FMTTYPE=image/jpeg:https://www.stadtmarketing-klosterneuburg.at/wp-content/uploads/2024/05/Vinothek-Kafka-c-Kafka-Heuriger.jpg
END:VEVENT
BEGIN:VEVENT
DTSTART;TZID=Europe/Vienna:20270905T100000
DTEND;TZID=Europe/Vienna:20270905T130000
DTSTAMP:20260424T222444
CREATED:20240504T070441Z
LAST-MODIFIED:20240528T124436Z
UID:10036162-1820138400-1820149200@www.stadtmarketing-klosterneuburg.at
SUMMARY:Vinothek Kafka
DESCRIPTION:ab 5.5.2024 jeden 1. Sonntag im Monat \nim Heurigenlokal
URL:https://www.stadtmarketing-klosterneuburg.at/veranstaltung/vinothek-kafka/2027-09-05/
LOCATION:Kafka bei Gartner\, Hauptstraße 160\, Kierling\, 3400\, Austria
CATEGORIES:Einkaufen & Wirtschaft,Kulinarik & Wein,Weinpräsentationen & Verkostungen
ATTACH;FMTTYPE=image/jpeg:https://www.stadtmarketing-klosterneuburg.at/wp-content/uploads/2024/05/Vinothek-Kafka-c-Kafka-Heuriger.jpg
END:VEVENT
BEGIN:VEVENT
DTSTART;TZID=Europe/Vienna:20271003T100000
DTEND;TZID=Europe/Vienna:20271003T130000
DTSTAMP:20260424T222444
CREATED:20240504T070441Z
LAST-MODIFIED:20240528T124436Z
UID:10036163-1822557600-1822568400@www.stadtmarketing-klosterneuburg.at
SUMMARY:Vinothek Kafka
DESCRIPTION:ab 5.5.2024 jeden 1. Sonntag im Monat \nim Heurigenlokal
URL:https://www.stadtmarketing-klosterneuburg.at/veranstaltung/vinothek-kafka/2027-10-03/
LOCATION:Kafka bei Gartner\, Hauptstraße 160\, Kierling\, 3400\, Austria
CATEGORIES:Einkaufen & Wirtschaft,Kulinarik & Wein,Weinpräsentationen & Verkostungen
ATTACH;FMTTYPE=image/jpeg:https://www.stadtmarketing-klosterneuburg.at/wp-content/uploads/2024/05/Vinothek-Kafka-c-Kafka-Heuriger.jpg
END:VEVENT
BEGIN:VEVENT
DTSTART;TZID=Europe/Vienna:20271107T100000
DTEND;TZID=Europe/Vienna:20271107T130000
DTSTAMP:20260424T222444
CREATED:20240504T070441Z
LAST-MODIFIED:20240528T124436Z
UID:10036164-1825581600-1825592400@www.stadtmarketing-klosterneuburg.at
SUMMARY:Vinothek Kafka
DESCRIPTION:ab 5.5.2024 jeden 1. Sonntag im Monat \nim Heurigenlokal
URL:https://www.stadtmarketing-klosterneuburg.at/veranstaltung/vinothek-kafka/2027-11-07/
LOCATION:Kafka bei Gartner\, Hauptstraße 160\, Kierling\, 3400\, Austria
CATEGORIES:Einkaufen & Wirtschaft,Kulinarik & Wein,Weinpräsentationen & Verkostungen
ATTACH;FMTTYPE=image/jpeg:https://www.stadtmarketing-klosterneuburg.at/wp-content/uploads/2024/05/Vinothek-Kafka-c-Kafka-Heuriger.jpg
END:VEVENT
BEGIN:VEVENT
DTSTART;TZID=Europe/Vienna:20271205T100000
DTEND;TZID=Europe/Vienna:20271205T130000
DTSTAMP:20260424T222444
CREATED:20240504T070441Z
LAST-MODIFIED:20240528T124436Z
UID:10036165-1828000800-1828011600@www.stadtmarketing-klosterneuburg.at
SUMMARY:Vinothek Kafka
DESCRIPTION:ab 5.5.2024 jeden 1. Sonntag im Monat \nim Heurigenlokal
URL:https://www.stadtmarketing-klosterneuburg.at/veranstaltung/vinothek-kafka/2027-12-05/
LOCATION:Kafka bei Gartner\, Hauptstraße 160\, Kierling\, 3400\, Austria
CATEGORIES:Einkaufen & Wirtschaft,Kulinarik & Wein,Weinpräsentationen & Verkostungen
ATTACH;FMTTYPE=image/jpeg:https://www.stadtmarketing-klosterneuburg.at/wp-content/uploads/2024/05/Vinothek-Kafka-c-Kafka-Heuriger.jpg
END:VEVENT
BEGIN:VEVENT
DTSTART;TZID=Europe/Vienna:20280102T100000
DTEND;TZID=Europe/Vienna:20280102T130000
DTSTAMP:20260424T222444
CREATED:20240504T070441Z
LAST-MODIFIED:20240528T124436Z
UID:10036166-1830420000-1830430800@www.stadtmarketing-klosterneuburg.at
SUMMARY:Vinothek Kafka
DESCRIPTION:ab 5.5.2024 jeden 1. Sonntag im Monat \nim Heurigenlokal
URL:https://www.stadtmarketing-klosterneuburg.at/veranstaltung/vinothek-kafka/2028-01-02/
LOCATION:Kafka bei Gartner\, Hauptstraße 160\, Kierling\, 3400\, Austria
CATEGORIES:Einkaufen & Wirtschaft,Kulinarik & Wein,Weinpräsentationen & Verkostungen
ATTACH;FMTTYPE=image/jpeg:https://www.stadtmarketing-klosterneuburg.at/wp-content/uploads/2024/05/Vinothek-Kafka-c-Kafka-Heuriger.jpg
END:VEVENT
BEGIN:VEVENT
DTSTART;TZID=Europe/Vienna:20280206T100000
DTEND;TZID=Europe/Vienna:20280206T130000
DTSTAMP:20260424T222444
CREATED:20240504T070441Z
LAST-MODIFIED:20240528T124436Z
UID:10036167-1833444000-1833454800@www.stadtmarketing-klosterneuburg.at
SUMMARY:Vinothek Kafka
DESCRIPTION:ab 5.5.2024 jeden 1. Sonntag im Monat \nim Heurigenlokal
URL:https://www.stadtmarketing-klosterneuburg.at/veranstaltung/vinothek-kafka/2028-02-06/
LOCATION:Kafka bei Gartner\, Hauptstraße 160\, Kierling\, 3400\, Austria
CATEGORIES:Einkaufen & Wirtschaft,Kulinarik & Wein,Weinpräsentationen & Verkostungen
ATTACH;FMTTYPE=image/jpeg:https://www.stadtmarketing-klosterneuburg.at/wp-content/uploads/2024/05/Vinothek-Kafka-c-Kafka-Heuriger.jpg
END:VEVENT
BEGIN:VEVENT
DTSTART;TZID=Europe/Vienna:20280305T100000
DTEND;TZID=Europe/Vienna:20280305T130000
DTSTAMP:20260424T222444
CREATED:20240504T070441Z
LAST-MODIFIED:20240528T124436Z
UID:10036168-1835863200-1835874000@www.stadtmarketing-klosterneuburg.at
SUMMARY:Vinothek Kafka
DESCRIPTION:ab 5.5.2024 jeden 1. Sonntag im Monat \nim Heurigenlokal
URL:https://www.stadtmarketing-klosterneuburg.at/veranstaltung/vinothek-kafka/2028-03-05/
LOCATION:Kafka bei Gartner\, Hauptstraße 160\, Kierling\, 3400\, Austria
CATEGORIES:Einkaufen & Wirtschaft,Kulinarik & Wein,Weinpräsentationen & Verkostungen
ATTACH;FMTTYPE=image/jpeg:https://www.stadtmarketing-klosterneuburg.at/wp-content/uploads/2024/05/Vinothek-Kafka-c-Kafka-Heuriger.jpg
END:VEVENT
BEGIN:VEVENT
DTSTART;TZID=Europe/Vienna:20280402T100000
DTEND;TZID=Europe/Vienna:20280402T130000
DTSTAMP:20260424T222444
CREATED:20240504T070441Z
LAST-MODIFIED:20240528T124436Z
UID:10036169-1838282400-1838293200@www.stadtmarketing-klosterneuburg.at
SUMMARY:Vinothek Kafka
DESCRIPTION:ab 5.5.2024 jeden 1. Sonntag im Monat \nim Heurigenlokal
URL:https://www.stadtmarketing-klosterneuburg.at/veranstaltung/vinothek-kafka/2028-04-02/
LOCATION:Kafka bei Gartner\, Hauptstraße 160\, Kierling\, 3400\, Austria
CATEGORIES:Einkaufen & Wirtschaft,Kulinarik & Wein,Weinpräsentationen & Verkostungen
ATTACH;FMTTYPE=image/jpeg:https://www.stadtmarketing-klosterneuburg.at/wp-content/uploads/2024/05/Vinothek-Kafka-c-Kafka-Heuriger.jpg
END:VEVENT
BEGIN:VEVENT
DTSTART;TZID=Europe/Vienna:20280507T100000
DTEND;TZID=Europe/Vienna:20280507T130000
DTSTAMP:20260424T222444
CREATED:20240504T070441Z
LAST-MODIFIED:20240528T124436Z
UID:10036170-1841306400-1841317200@www.stadtmarketing-klosterneuburg.at
SUMMARY:Vinothek Kafka
DESCRIPTION:ab 5.5.2024 jeden 1. Sonntag im Monat \nim Heurigenlokal
URL:https://www.stadtmarketing-klosterneuburg.at/veranstaltung/vinothek-kafka/2028-05-07/
LOCATION:Kafka bei Gartner\, Hauptstraße 160\, Kierling\, 3400\, Austria
CATEGORIES:Einkaufen & Wirtschaft,Kulinarik & Wein,Weinpräsentationen & Verkostungen
ATTACH;FMTTYPE=image/jpeg:https://www.stadtmarketing-klosterneuburg.at/wp-content/uploads/2024/05/Vinothek-Kafka-c-Kafka-Heuriger.jpg
END:VEVENT
BEGIN:VEVENT
DTSTART;TZID=Europe/Vienna:20280604T100000
DTEND;TZID=Europe/Vienna:20280604T130000
DTSTAMP:20260424T222444
CREATED:20240504T070441Z
LAST-MODIFIED:20240528T124436Z
UID:10036171-1843725600-1843736400@www.stadtmarketing-klosterneuburg.at
SUMMARY:Vinothek Kafka
DESCRIPTION:ab 5.5.2024 jeden 1. Sonntag im Monat \nim Heurigenlokal
URL:https://www.stadtmarketing-klosterneuburg.at/veranstaltung/vinothek-kafka/2028-06-04/
LOCATION:Kafka bei Gartner\, Hauptstraße 160\, Kierling\, 3400\, Austria
CATEGORIES:Einkaufen & Wirtschaft,Kulinarik & Wein,Weinpräsentationen & Verkostungen
ATTACH;FMTTYPE=image/jpeg:https://www.stadtmarketing-klosterneuburg.at/wp-content/uploads/2024/05/Vinothek-Kafka-c-Kafka-Heuriger.jpg
END:VEVENT
BEGIN:VEVENT
DTSTART;TZID=Europe/Vienna:20280702T100000
DTEND;TZID=Europe/Vienna:20280702T130000
DTSTAMP:20260424T222444
CREATED:20240504T070441Z
LAST-MODIFIED:20240528T124436Z
UID:10036172-1846144800-1846155600@www.stadtmarketing-klosterneuburg.at
SUMMARY:Vinothek Kafka
DESCRIPTION:ab 5.5.2024 jeden 1. Sonntag im Monat \nim Heurigenlokal
URL:https://www.stadtmarketing-klosterneuburg.at/veranstaltung/vinothek-kafka/2028-07-02/
LOCATION:Kafka bei Gartner\, Hauptstraße 160\, Kierling\, 3400\, Austria
CATEGORIES:Einkaufen & Wirtschaft,Kulinarik & Wein,Weinpräsentationen & Verkostungen
ATTACH;FMTTYPE=image/jpeg:https://www.stadtmarketing-klosterneuburg.at/wp-content/uploads/2024/05/Vinothek-Kafka-c-Kafka-Heuriger.jpg
END:VEVENT
BEGIN:VEVENT
DTSTART;TZID=Europe/Vienna:20280806T100000
DTEND;TZID=Europe/Vienna:20280806T130000
DTSTAMP:20260424T222444
CREATED:20240504T070441Z
LAST-MODIFIED:20240528T124436Z
UID:10036173-1849168800-1849179600@www.stadtmarketing-klosterneuburg.at
SUMMARY:Vinothek Kafka
DESCRIPTION:ab 5.5.2024 jeden 1. Sonntag im Monat \nim Heurigenlokal
URL:https://www.stadtmarketing-klosterneuburg.at/veranstaltung/vinothek-kafka/2028-08-06/
LOCATION:Kafka bei Gartner\, Hauptstraße 160\, Kierling\, 3400\, Austria
CATEGORIES:Einkaufen & Wirtschaft,Kulinarik & Wein,Weinpräsentationen & Verkostungen
ATTACH;FMTTYPE=image/jpeg:https://www.stadtmarketing-klosterneuburg.at/wp-content/uploads/2024/05/Vinothek-Kafka-c-Kafka-Heuriger.jpg
END:VEVENT
BEGIN:VEVENT
DTSTART;TZID=Europe/Vienna:20280903T100000
DTEND;TZID=Europe/Vienna:20280903T130000
DTSTAMP:20260424T222444
CREATED:20240504T070441Z
LAST-MODIFIED:20240528T124436Z
UID:10036174-1851588000-1851598800@www.stadtmarketing-klosterneuburg.at
SUMMARY:Vinothek Kafka
DESCRIPTION:ab 5.5.2024 jeden 1. Sonntag im Monat \nim Heurigenlokal
URL:https://www.stadtmarketing-klosterneuburg.at/veranstaltung/vinothek-kafka/2028-09-03/
LOCATION:Kafka bei Gartner\, Hauptstraße 160\, Kierling\, 3400\, Austria
CATEGORIES:Einkaufen & Wirtschaft,Kulinarik & Wein,Weinpräsentationen & Verkostungen
ATTACH;FMTTYPE=image/jpeg:https://www.stadtmarketing-klosterneuburg.at/wp-content/uploads/2024/05/Vinothek-Kafka-c-Kafka-Heuriger.jpg
END:VEVENT
BEGIN:VEVENT
DTSTART;TZID=Europe/Vienna:20281001T100000
DTEND;TZID=Europe/Vienna:20281001T130000
DTSTAMP:20260424T222444
CREATED:20240504T070441Z
LAST-MODIFIED:20240528T124436Z
UID:10036175-1854007200-1854018000@www.stadtmarketing-klosterneuburg.at
SUMMARY:Vinothek Kafka
DESCRIPTION:ab 5.5.2024 jeden 1. Sonntag im Monat \nim Heurigenlokal
URL:https://www.stadtmarketing-klosterneuburg.at/veranstaltung/vinothek-kafka/2028-10-01/
LOCATION:Kafka bei Gartner\, Hauptstraße 160\, Kierling\, 3400\, Austria
CATEGORIES:Einkaufen & Wirtschaft,Kulinarik & Wein,Weinpräsentationen & Verkostungen
ATTACH;FMTTYPE=image/jpeg:https://www.stadtmarketing-klosterneuburg.at/wp-content/uploads/2024/05/Vinothek-Kafka-c-Kafka-Heuriger.jpg
END:VEVENT
END:VCALENDAR