BEGIN:VCALENDAR
VERSION:2.0
PRODID:-//Stadtmarketing Klosterneuburg - ECPv6.15.17.1//NONSGML v1.0//EN
CALSCALE:GREGORIAN
METHOD:PUBLISH
X-WR-CALNAME:Stadtmarketing Klosterneuburg
X-ORIGINAL-URL:https://www.stadtmarketing-klosterneuburg.at
X-WR-CALDESC:Veranstaltungen für Stadtmarketing Klosterneuburg
REFRESH-INTERVAL;VALUE=DURATION:PT1H
X-Robots-Tag:noindex
X-PUBLISHED-TTL:PT1H
BEGIN:VTIMEZONE
TZID:Europe/Vienna
BEGIN:DAYLIGHT
TZOFFSETFROM:+0100
TZOFFSETTO:+0200
TZNAME:CEST
DTSTART:20250330T010000
END:DAYLIGHT
BEGIN:STANDARD
TZOFFSETFROM:+0200
TZOFFSETTO:+0100
TZNAME:CET
DTSTART:20251026T010000
END:STANDARD
BEGIN:DAYLIGHT
TZOFFSETFROM:+0100
TZOFFSETTO:+0200
TZNAME:CEST
DTSTART:20260329T010000
END:DAYLIGHT
BEGIN:STANDARD
TZOFFSETFROM:+0200
TZOFFSETTO:+0100
TZNAME:CET
DTSTART:20261025T010000
END:STANDARD
BEGIN:DAYLIGHT
TZOFFSETFROM:+0100
TZOFFSETTO:+0200
TZNAME:CEST
DTSTART:20270328T010000
END:DAYLIGHT
BEGIN:STANDARD
TZOFFSETFROM:+0200
TZOFFSETTO:+0100
TZNAME:CET
DTSTART:20271031T010000
END:STANDARD
END:VTIMEZONE
BEGIN:VEVENT
DTSTART;TZID=Europe/Vienna:20260512T190000
DTEND;TZID=Europe/Vienna:20260512T203000
DTSTAMP:20260420T102910
CREATED:20260223T135156Z
LAST-MODIFIED:20260223T135510Z
UID:10045108-1778612400-1778617800@www.stadtmarketing-klosterneuburg.at
SUMMARY:Bücherabend in der Stiftsbibliothek
DESCRIPTION:Die Welt hinter den Zahlen\nBegeben Sie sich mit Herbert Krammer und Anna Vierlinger auf Spurensuche durch jahrhundertealte Aufzeichnungen der Klosterneuburger Rechnungsbücher. Hinter vermeintlich spröden Zahlenreihen eröffnen sich bei genauerem Hinsehen spannende Einblicke in vergangene Lebenswelten\, in denen Menschen und ihr Alltag greifbar werden. \nTermin: 12. Mai 2026\, 19 Uhr \n  \nOrt: Stiftsbibliothek\, Treffpunkt: Portier \nTickets: € 8 /Erwachsener | Freier Eintritt bis zum vollendeten 27. Lebensjahr \nBeschränkte Teilnehmerzahl\, daher wird um Anmeldung gebeten:\n\nT: +43/ (0)2243/411-200\nE-Mail: bibliothek@stift-klosterneuburg.at\nONLINE
URL:https://www.stadtmarketing-klosterneuburg.at/veranstaltung/buecherabend-in-der-stiftsbibliothek/
LOCATION:Stift Klosterneuburg\, Stiftsplatz 1\, Klosterneuburg\, 3400\, Austria
CATEGORIES:Bildung,Geschichte,Kunst & Kultur,Kurse, Seminare & Workshops,Literatur,Vorträge & Diskussionen
ATTACH;FMTTYPE=image/jpeg:https://www.stadtmarketing-klosterneuburg.at/wp-content/uploads/2022/06/Buecherabend-c-Stift.jpg
END:VEVENT
BEGIN:VEVENT
DTSTART;TZID=Europe/Vienna:20260527T190000
DTEND;TZID=Europe/Vienna:20260527T203000
DTSTAMP:20260420T102910
CREATED:20260419T091632Z
LAST-MODIFIED:20260419T091726Z
UID:10046151-1779908400-1779913800@www.stadtmarketing-klosterneuburg.at
SUMMARY:Bücherabend in der Stiftsbibliothek
DESCRIPTION:Wie viel ist das eigentlich wert?\nWie viel kann ein Buch wert sein\, das es nur einmal auf der Welt gibt? Und welche Kriterien werden zur Bewertung herangezogen? Christopher Frey vom Antiquariat Inlibris diskutiert dies anhand einiger Bücher aus der Stiftsbibliothek. \nTermin: 27. Mai 2026\, 19 Uhr \n  \nOrt: Stiftsbibliothek\, Treffpunkt: Portier \nTickets: € 8 /Erwachsener | Freier Eintritt bis zum vollendeten 27. Lebensjahr \nBeschränkte Teilnehmerzahl\, daher wird um Anmeldung gebeten:\n\nT: +43/ (0)2243/411-200\nE-Mail: bibliothek@stift-klosterneuburg.at\nONLINE
URL:https://www.stadtmarketing-klosterneuburg.at/veranstaltung/buecherabend-in-der-stiftsbibliothek-2/
LOCATION:Stift Klosterneuburg\, Stiftsplatz 1\, Klosterneuburg\, 3400\, Austria
CATEGORIES:Bildung,Geschichte,Kunst & Kultur,Kurse, Seminare & Workshops,Literatur,Vorträge & Diskussionen
ATTACH;FMTTYPE=image/jpeg:https://www.stadtmarketing-klosterneuburg.at/wp-content/uploads/2022/06/Buecherabend-Juni-c-Stift.jpg
END:VEVENT
BEGIN:VEVENT
DTSTART;TZID=Europe/Vienna:20260609T190000
DTEND;TZID=Europe/Vienna:20260609T203000
DTSTAMP:20260420T102910
CREATED:20260419T092018Z
LAST-MODIFIED:20260419T092227Z
UID:10046152-1781031600-1781037000@www.stadtmarketing-klosterneuburg.at
SUMMARY:Bücherabend in der Stiftsbibliothek
DESCRIPTION:Tränen lachen – Gift und Galle spucken?\nEmotionen gehören zum täglichen Leben – und damit auch zu Texten vom Mittelalter bis in die Gegenwart. Freude\, Liebe\, Schmerz\, Wut und Zorn begegnen uns teilweise auch ganz körperlich. Über Gefühle und damit in Verbindung stehende Gestik und Mimik in Texten spricht Edith Kapeller. Hoffentlich ist dieser Abend nicht zum Haareraufen! \nTermin: 9. Juni 2026\, 19 Uhr \n  \nOrt: Stiftsbibliothek\, Treffpunkt: Portier \nTickets: € 8 /Erwachsener | Freier Eintritt bis zum vollendeten 27. Lebensjahr \nBeschränkte Teilnehmerzahl\, daher wird um Anmeldung gebeten:\n\nT: +43/ (0)2243/411-200\nE-Mail: bibliothek@stift-klosterneuburg.at\nONLINE
URL:https://www.stadtmarketing-klosterneuburg.at/veranstaltung/buecherabend-in-der-stiftsbibliothek-3/
LOCATION:Stift Klosterneuburg\, Stiftsplatz 1\, Klosterneuburg\, 3400\, Austria
CATEGORIES:Bildung,Geschichte,Kunst & Kultur,Kurse, Seminare & Workshops,Literatur,Vorträge & Diskussionen
ATTACH;FMTTYPE=image/jpeg:https://www.stadtmarketing-klosterneuburg.at/wp-content/uploads/2022/06/Buecherabend-Juni-c-Stift.jpg
END:VEVENT
BEGIN:VEVENT
DTSTART;TZID=Europe/Vienna:20260624T190000
DTEND;TZID=Europe/Vienna:20260624T203000
DTSTAMP:20260420T102910
CREATED:20260419T092424Z
LAST-MODIFIED:20260419T092535Z
UID:10046153-1782327600-1782333000@www.stadtmarketing-klosterneuburg.at
SUMMARY:Bücherabend in der Stiftsbibliothek
DESCRIPTION:Graffiti\, Wappen und 3D-Fotografie\n„Ich war da!“ – auch heute noch als Schmiererei auf Hausmauern beliebt\, haben sich auch früher Reisende mit Graffiti verewigt: für Zeitgenossen eine fragwürdige Praxis\, für Historiker jedoch eine Fundgrube für Stimmen aus der Vergangenheit. Ilya Berkovich und Sabine Miesgang wandeln auf den Spuren frühneuzeitlicher Pilger in Klosterneuburg und Jerusalem. \nTermin: 24. Juni 2026\, 19 Uhr \n  \nOrt: Stiftsbibliothek\, Treffpunkt: Portier \nTickets: € 8 /Erwachsener | Freier Eintritt bis zum vollendeten 27. Lebensjahr \nBeschränkte Teilnehmerzahl\, daher wird um Anmeldung gebeten:\n\nT: +43/ (0)2243/411-200\nE-Mail: bibliothek@stift-klosterneuburg.at\nONLINE
URL:https://www.stadtmarketing-klosterneuburg.at/veranstaltung/buecherabend-in-der-stiftsbibliothek-4/
LOCATION:Stift Klosterneuburg\, Stiftsplatz 1\, Klosterneuburg\, 3400\, Austria
CATEGORIES:Bildung,Geschichte,Kunst & Kultur,Kurse, Seminare & Workshops,Literatur,Vorträge & Diskussionen
ATTACH;FMTTYPE=image/jpeg:https://www.stadtmarketing-klosterneuburg.at/wp-content/uploads/2022/06/Buecherabend-Juni-c-Stift.jpg
END:VEVENT
BEGIN:VEVENT
DTSTART;TZID=Europe/Vienna:20260907T190000
DTEND;TZID=Europe/Vienna:20260907T203000
DTSTAMP:20260420T102910
CREATED:20260419T092806Z
LAST-MODIFIED:20260419T092829Z
UID:10046154-1788807600-1788813000@www.stadtmarketing-klosterneuburg.at
SUMMARY:Bücherabend in der Stiftsbibliothek
DESCRIPTION:Achtung\, Werbung!\nWerbung ist heute allgegenwärtig. Doch wie sah das in den vorigen Jahrhunderten aus? Die vielen Zeitschriften\, die in der Stiftsbibliothek aufbewahrt werden\, zeichnen ein buntes Bild: Wo gab es die geschmeidigsten Hosenträger? Wer verkaufte Kirchenspitzen oder Ewiges-Licht-Apparate\, Cocosläufer oder Hanfkrawatten? Christina Jackel führt durch die Welt der Anzeigen und Inserate. \nTermin: 7. September 2026\, 19 Uhr \n  \nOrt: Stiftsbibliothek\, Treffpunkt: Portier \nTickets: € 8 /Erwachsener | Freier Eintritt bis zum vollendeten 27. Lebensjahr \nBeschränkte Teilnehmerzahl\, daher wird um Anmeldung gebeten:\n\nT: +43/ (0)2243/411-200\nE-Mail: bibliothek@stift-klosterneuburg.at\nONLINE
URL:https://www.stadtmarketing-klosterneuburg.at/veranstaltung/buecherabend-in-der-stiftsbibliothek-5/
LOCATION:Stift Klosterneuburg\, Stiftsplatz 1\, Klosterneuburg\, 3400\, Austria
CATEGORIES:Bildung,Geschichte,Kunst & Kultur,Kurse, Seminare & Workshops,Literatur,Vorträge & Diskussionen
ATTACH;FMTTYPE=image/jpeg:https://www.stadtmarketing-klosterneuburg.at/wp-content/uploads/2022/06/Buecherabend-Juni-c-Stift.jpg
END:VEVENT
BEGIN:VEVENT
DTSTART;TZID=Europe/Vienna:20260924T190000
DTEND;TZID=Europe/Vienna:20260924T203000
DTSTAMP:20260420T102910
CREATED:20260419T093120Z
LAST-MODIFIED:20260419T093213Z
UID:10046155-1790276400-1790281800@www.stadtmarketing-klosterneuburg.at
SUMMARY:Bücherabend in der Stiftsbibliothek
DESCRIPTION:Eine literarische Weinverlesung\nWein lässt sich nicht nur trinken\, sondern auch lesen. Statt zur klassischen Weinverkostung wird zu einer Weinlese der anderen Art geladen: Gelesen wird nicht aus Gläsern\, sondern aus den Büchern der Stiftsbibliothek – über Weinbau\, klösterliche Traditionen und die heilsame Wirkung des Klosterneuburger Stiftsweins. Ein Abend voller berauschender Geschichten mit Helene Kratky. \nTermin: 24. September 2026\, 19 Uhr \n  \nOrt: Stiftsbibliothek\, Treffpunkt: Portier \nTickets: € 8 /Erwachsener | Freier Eintritt bis zum vollendeten 27. Lebensjahr \nBeschränkte Teilnehmerzahl\, daher wird um Anmeldung gebeten:\n\nT: +43/ (0)2243/411-200\nE-Mail: bibliothek@stift-klosterneuburg.at\nONLINE
URL:https://www.stadtmarketing-klosterneuburg.at/veranstaltung/buecherabend-in-der-stiftsbibliothek-6/
LOCATION:Stift Klosterneuburg\, Stiftsplatz 1\, Klosterneuburg\, 3400\, Austria
CATEGORIES:Bildung,Geschichte,Kunst & Kultur,Kurse, Seminare & Workshops,Literatur,Vorträge & Diskussionen
ATTACH;FMTTYPE=image/jpeg:https://www.stadtmarketing-klosterneuburg.at/wp-content/uploads/2022/06/Buecherabend-Juni-c-Stift.jpg
END:VEVENT
END:VCALENDAR