BEGIN:VCALENDAR
VERSION:2.0
PRODID:-//Stadtmarketing Klosterneuburg - ECPv6.15.20//NONSGML v1.0//EN
CALSCALE:GREGORIAN
METHOD:PUBLISH
X-WR-CALNAME:Stadtmarketing Klosterneuburg
X-ORIGINAL-URL:https://www.stadtmarketing-klosterneuburg.at
X-WR-CALDESC:Veranstaltungen für Stadtmarketing Klosterneuburg
REFRESH-INTERVAL;VALUE=DURATION:PT1H
X-Robots-Tag:noindex
X-PUBLISHED-TTL:PT1H
BEGIN:VTIMEZONE
TZID:Europe/Vienna
BEGIN:DAYLIGHT
TZOFFSETFROM:+0100
TZOFFSETTO:+0200
TZNAME:CEST
DTSTART:20250330T010000
END:DAYLIGHT
BEGIN:STANDARD
TZOFFSETFROM:+0200
TZOFFSETTO:+0100
TZNAME:CET
DTSTART:20251026T010000
END:STANDARD
BEGIN:DAYLIGHT
TZOFFSETFROM:+0100
TZOFFSETTO:+0200
TZNAME:CEST
DTSTART:20260329T010000
END:DAYLIGHT
BEGIN:STANDARD
TZOFFSETFROM:+0200
TZOFFSETTO:+0100
TZNAME:CET
DTSTART:20261025T010000
END:STANDARD
BEGIN:DAYLIGHT
TZOFFSETFROM:+0100
TZOFFSETTO:+0200
TZNAME:CEST
DTSTART:20270328T010000
END:DAYLIGHT
BEGIN:STANDARD
TZOFFSETFROM:+0200
TZOFFSETTO:+0100
TZNAME:CET
DTSTART:20271031T010000
END:STANDARD
END:VTIMEZONE
BEGIN:VEVENT
DTSTART;TZID=Europe/Vienna:20260425T100000
DTEND;TZID=Europe/Vienna:20260425T180000
DTSTAMP:20260421T000030
CREATED:20251008T144358Z
LAST-MODIFIED:20251015T115404Z
UID:10043378-1777111200-1777140000@www.stadtmarketing-klosterneuburg.at
SUMMARY:Schmuck- & Mineralien-Tage
DESCRIPTION:Schmuck-und Mineralienmesse mit zahlreichen Ausstellern aus der ganzen Welt. \nEs werden eine große Zahl an Schmucksteinen\, Ketten und Kettenzubehör\, Süßwasserperlen\, Sammlermineralien für Groß und Klein\, Edelsteine für Gold- und Silberschmiede zur Weiterverarbeitung\, sowie Fossilien und Meteorite angeboten. \nAuch die Edelsteinheilkunde nimmt einen bedeutenden Platz im Angebot der Aussteller ein. \nEintritt frei! \n  \nVeranstalter: Lothar Zanaschka\n\nwww.zanaschkamineralien.com\ninfo@zanaschkamineralien.com\n+43/ (0)664/422 52 95
URL:https://www.stadtmarketing-klosterneuburg.at/veranstaltung/schmuck-mineralien-tage-2/2026-04-25/
LOCATION:Babenbergerhalle\, Rathausplatz 25\, Klosterneuburg\, 3400\, Austria
CATEGORIES:Ausstellungen & Messen,Einkaufen & Wirtschaft,Kunst & Kultur,Märkte
ATTACH;FMTTYPE=image/jpeg:https://www.stadtmarketing-klosterneuburg.at/wp-content/uploads/2023/01/Edelsteine-c-Pixabay.jpg
END:VEVENT
BEGIN:VEVENT
DTSTART;TZID=Europe/Vienna:20260426T100000
DTEND;TZID=Europe/Vienna:20260426T170000
DTSTAMP:20260421T000030
CREATED:20251008T144358Z
LAST-MODIFIED:20251015T115404Z
UID:10043379-1777197600-1777222800@www.stadtmarketing-klosterneuburg.at
SUMMARY:Schmuck- & Mineralien-Tage
DESCRIPTION:Schmuck-und Mineralienmesse mit zahlreichen Ausstellern aus der ganzen Welt. \nEs werden eine große Zahl an Schmucksteinen\, Ketten und Kettenzubehör\, Süßwasserperlen\, Sammlermineralien für Groß und Klein\, Edelsteine für Gold- und Silberschmiede zur Weiterverarbeitung\, sowie Fossilien und Meteorite angeboten. \nAuch die Edelsteinheilkunde nimmt einen bedeutenden Platz im Angebot der Aussteller ein. \nEintritt frei! \n  \nVeranstalter: Lothar Zanaschka\n\nwww.zanaschkamineralien.com\ninfo@zanaschkamineralien.com\n+43/ (0)664/422 52 95
URL:https://www.stadtmarketing-klosterneuburg.at/veranstaltung/schmuck-mineralien-tage-2/2026-04-26/
LOCATION:Babenbergerhalle\, Rathausplatz 25\, Klosterneuburg\, 3400\, Austria
CATEGORIES:Ausstellungen & Messen,Einkaufen & Wirtschaft,Kunst & Kultur,Märkte
ATTACH;FMTTYPE=image/jpeg:https://www.stadtmarketing-klosterneuburg.at/wp-content/uploads/2023/01/Edelsteine-c-Pixabay.jpg
END:VEVENT
BEGIN:VEVENT
DTSTART;TZID=Europe/Vienna:20261205T100000
DTEND;TZID=Europe/Vienna:20261205T180000
DTSTAMP:20260421T000030
CREATED:20251008T144358Z
LAST-MODIFIED:20251015T115404Z
UID:10043413-1796464800-1796493600@www.stadtmarketing-klosterneuburg.at
SUMMARY:Schmuck- & Mineralien-Tage
DESCRIPTION:Schmuck-und Mineralienmesse mit zahlreichen Ausstellern aus der ganzen Welt. \nEs werden eine große Zahl an Schmucksteinen\, Ketten und Kettenzubehör\, Süßwasserperlen\, Sammlermineralien für Groß und Klein\, Edelsteine für Gold- und Silberschmiede zur Weiterverarbeitung\, sowie Fossilien und Meteorite angeboten. \nAuch die Edelsteinheilkunde nimmt einen bedeutenden Platz im Angebot der Aussteller ein. \nEintritt frei! \n  \nVeranstalter: Lothar Zanaschka\n\nwww.zanaschkamineralien.com\ninfo@zanaschkamineralien.com\n+43/ (0)664/422 52 95
URL:https://www.stadtmarketing-klosterneuburg.at/veranstaltung/schmuck-mineralien-tage-2/2026-12-05/
LOCATION:Babenbergerhalle\, Rathausplatz 25\, Klosterneuburg\, 3400\, Austria
CATEGORIES:Ausstellungen & Messen,Einkaufen & Wirtschaft,Kunst & Kultur,Märkte
ATTACH;FMTTYPE=image/jpeg:https://www.stadtmarketing-klosterneuburg.at/wp-content/uploads/2023/01/Edelsteine-c-Pixabay.jpg
END:VEVENT
BEGIN:VEVENT
DTSTART;TZID=Europe/Vienna:20261206T100000
DTEND;TZID=Europe/Vienna:20261206T170000
DTSTAMP:20260421T000030
CREATED:20251008T144358Z
LAST-MODIFIED:20251015T115404Z
UID:10043414-1796551200-1796576400@www.stadtmarketing-klosterneuburg.at
SUMMARY:Schmuck- & Mineralien-Tage
DESCRIPTION:Schmuck-und Mineralienmesse mit zahlreichen Ausstellern aus der ganzen Welt. \nEs werden eine große Zahl an Schmucksteinen\, Ketten und Kettenzubehör\, Süßwasserperlen\, Sammlermineralien für Groß und Klein\, Edelsteine für Gold- und Silberschmiede zur Weiterverarbeitung\, sowie Fossilien und Meteorite angeboten. \nAuch die Edelsteinheilkunde nimmt einen bedeutenden Platz im Angebot der Aussteller ein. \nEintritt frei! \n  \nVeranstalter: Lothar Zanaschka\n\nwww.zanaschkamineralien.com\ninfo@zanaschkamineralien.com\n+43/ (0)664/422 52 95
URL:https://www.stadtmarketing-klosterneuburg.at/veranstaltung/schmuck-mineralien-tage-2/2026-12-06/
LOCATION:Babenbergerhalle\, Rathausplatz 25\, Klosterneuburg\, 3400\, Austria
CATEGORIES:Ausstellungen & Messen,Einkaufen & Wirtschaft,Kunst & Kultur,Märkte
ATTACH;FMTTYPE=image/jpeg:https://www.stadtmarketing-klosterneuburg.at/wp-content/uploads/2023/01/Edelsteine-c-Pixabay.jpg
END:VEVENT
END:VCALENDAR