BEGIN:VCALENDAR
VERSION:2.0
PRODID:-//Stadtmarketing Klosterneuburg - ECPv6.15.17.1//NONSGML v1.0//EN
CALSCALE:GREGORIAN
METHOD:PUBLISH
X-WR-CALNAME:Stadtmarketing Klosterneuburg
X-ORIGINAL-URL:https://www.stadtmarketing-klosterneuburg.at
X-WR-CALDESC:Veranstaltungen für Stadtmarketing Klosterneuburg
REFRESH-INTERVAL;VALUE=DURATION:PT1H
X-Robots-Tag:noindex
X-PUBLISHED-TTL:PT1H
BEGIN:VTIMEZONE
TZID:Europe/Vienna
BEGIN:DAYLIGHT
TZOFFSETFROM:+0100
TZOFFSETTO:+0200
TZNAME:CEST
DTSTART:20250330T010000
END:DAYLIGHT
BEGIN:STANDARD
TZOFFSETFROM:+0200
TZOFFSETTO:+0100
TZNAME:CET
DTSTART:20251026T010000
END:STANDARD
BEGIN:DAYLIGHT
TZOFFSETFROM:+0100
TZOFFSETTO:+0200
TZNAME:CEST
DTSTART:20260329T010000
END:DAYLIGHT
BEGIN:STANDARD
TZOFFSETFROM:+0200
TZOFFSETTO:+0100
TZNAME:CET
DTSTART:20261025T010000
END:STANDARD
BEGIN:DAYLIGHT
TZOFFSETFROM:+0100
TZOFFSETTO:+0200
TZNAME:CEST
DTSTART:20270328T010000
END:DAYLIGHT
BEGIN:STANDARD
TZOFFSETFROM:+0200
TZOFFSETTO:+0100
TZNAME:CET
DTSTART:20271031T010000
END:STANDARD
END:VTIMEZONE
BEGIN:VEVENT
DTSTART;TZID=Europe/Vienna:20260502T130000
DTEND;TZID=Europe/Vienna:20260502T170000
DTSTAMP:20260420T154734
CREATED:20260116T115647Z
LAST-MODIFIED:20260116T124039Z
UID:10044177-1777726800-1777741200@www.stadtmarketing-klosterneuburg.at
SUMMARY:Kinderflohmarkt im Aupark 2026
DESCRIPTION:Kinder und ihre Eltern können im Aupark Klosterneuburg gemeinsam ihre Schätze (nur Kinder- und Jugendartikel) verkaufen oder nach günstigen Spielwaren\, Bekleidung\, Büchern und Sportartikeln Ausschau halten! Die Platzgebühr wird für sozial benachteiligte Jugendliche und deren Ausbildung verwendet. \nDie „Naschkatze“ und „Michl´s heiße Hütte“ bieten Essen und Getränke an. \nTermine für 2026:\nSamstag\, 2. Mai\nSamstag\, 6. Juni\nSamstag\, 5. September\nSamstag\, 3. Oktober \nJeweils 13 – 17 Uhr \nStellplätze können nur im Voraus reserviert werden auf! \nAnmeldungen ab Februar 2026: ONLINE \nWeitere Infos:\n\nkinderflohmarkt.klosterneuburg@gmx.at\nwww.kinderflohmarkt-klosterneuburg.at\n\n  \n 
URL:https://www.stadtmarketing-klosterneuburg.at/veranstaltung/kinderflohmarkt-im-aupark-2026/2026-05-02/
LOCATION:Aupark\, In der Au\, Klosterneuburg\, 3400\, Austria
CATEGORIES:Einkaufen & Wirtschaft,Familien,Flohmärkte,Kinder
ATTACH;FMTTYPE=image/jpeg:https://www.stadtmarketing-klosterneuburg.at/wp-content/uploads/2022/03/Kinderflohmarkt-Logo-c-Kinderflohmarkt-Klbg.jpg
END:VEVENT
BEGIN:VEVENT
DTSTART;TZID=Europe/Vienna:20260606T130000
DTEND;TZID=Europe/Vienna:20260606T170000
DTSTAMP:20260420T154734
CREATED:20260116T115647Z
LAST-MODIFIED:20260116T124039Z
UID:10044178-1780750800-1780765200@www.stadtmarketing-klosterneuburg.at
SUMMARY:Kinderflohmarkt im Aupark 2026
DESCRIPTION:Kinder und ihre Eltern können im Aupark Klosterneuburg gemeinsam ihre Schätze (nur Kinder- und Jugendartikel) verkaufen oder nach günstigen Spielwaren\, Bekleidung\, Büchern und Sportartikeln Ausschau halten! Die Platzgebühr wird für sozial benachteiligte Jugendliche und deren Ausbildung verwendet. \nDie „Naschkatze“ und „Michl´s heiße Hütte“ bieten Essen und Getränke an. \nTermine für 2026:\nSamstag\, 2. Mai\nSamstag\, 6. Juni\nSamstag\, 5. September\nSamstag\, 3. Oktober \nJeweils 13 – 17 Uhr \nStellplätze können nur im Voraus reserviert werden auf! \nAnmeldungen ab Februar 2026: ONLINE \nWeitere Infos:\n\nkinderflohmarkt.klosterneuburg@gmx.at\nwww.kinderflohmarkt-klosterneuburg.at\n\n  \n 
URL:https://www.stadtmarketing-klosterneuburg.at/veranstaltung/kinderflohmarkt-im-aupark-2026/2026-06-06/
LOCATION:Aupark\, In der Au\, Klosterneuburg\, 3400\, Austria
CATEGORIES:Einkaufen & Wirtschaft,Familien,Flohmärkte,Kinder
ATTACH;FMTTYPE=image/jpeg:https://www.stadtmarketing-klosterneuburg.at/wp-content/uploads/2022/03/Kinderflohmarkt-Logo-c-Kinderflohmarkt-Klbg.jpg
END:VEVENT
BEGIN:VEVENT
DTSTART;TZID=Europe/Vienna:20260905T130000
DTEND;TZID=Europe/Vienna:20260905T170000
DTSTAMP:20260420T154734
CREATED:20260116T115647Z
LAST-MODIFIED:20260116T124039Z
UID:10044179-1788613200-1788627600@www.stadtmarketing-klosterneuburg.at
SUMMARY:Kinderflohmarkt im Aupark 2026
DESCRIPTION:Kinder und ihre Eltern können im Aupark Klosterneuburg gemeinsam ihre Schätze (nur Kinder- und Jugendartikel) verkaufen oder nach günstigen Spielwaren\, Bekleidung\, Büchern und Sportartikeln Ausschau halten! Die Platzgebühr wird für sozial benachteiligte Jugendliche und deren Ausbildung verwendet. \nDie „Naschkatze“ und „Michl´s heiße Hütte“ bieten Essen und Getränke an. \nTermine für 2026:\nSamstag\, 2. Mai\nSamstag\, 6. Juni\nSamstag\, 5. September\nSamstag\, 3. Oktober \nJeweils 13 – 17 Uhr \nStellplätze können nur im Voraus reserviert werden auf! \nAnmeldungen ab Februar 2026: ONLINE \nWeitere Infos:\n\nkinderflohmarkt.klosterneuburg@gmx.at\nwww.kinderflohmarkt-klosterneuburg.at\n\n  \n 
URL:https://www.stadtmarketing-klosterneuburg.at/veranstaltung/kinderflohmarkt-im-aupark-2026/2026-09-05/
LOCATION:Aupark\, In der Au\, Klosterneuburg\, 3400\, Austria
CATEGORIES:Einkaufen & Wirtschaft,Familien,Flohmärkte,Kinder
ATTACH;FMTTYPE=image/jpeg:https://www.stadtmarketing-klosterneuburg.at/wp-content/uploads/2022/03/Kinderflohmarkt-Logo-c-Kinderflohmarkt-Klbg.jpg
END:VEVENT
BEGIN:VEVENT
DTSTART;TZID=Europe/Vienna:20261003T130000
DTEND;TZID=Europe/Vienna:20261003T170000
DTSTAMP:20260420T154734
CREATED:20260116T115647Z
LAST-MODIFIED:20260116T124039Z
UID:10044180-1791032400-1791046800@www.stadtmarketing-klosterneuburg.at
SUMMARY:Kinderflohmarkt im Aupark 2026
DESCRIPTION:Kinder und ihre Eltern können im Aupark Klosterneuburg gemeinsam ihre Schätze (nur Kinder- und Jugendartikel) verkaufen oder nach günstigen Spielwaren\, Bekleidung\, Büchern und Sportartikeln Ausschau halten! Die Platzgebühr wird für sozial benachteiligte Jugendliche und deren Ausbildung verwendet. \nDie „Naschkatze“ und „Michl´s heiße Hütte“ bieten Essen und Getränke an. \nTermine für 2026:\nSamstag\, 2. Mai\nSamstag\, 6. Juni\nSamstag\, 5. September\nSamstag\, 3. Oktober \nJeweils 13 – 17 Uhr \nStellplätze können nur im Voraus reserviert werden auf! \nAnmeldungen ab Februar 2026: ONLINE \nWeitere Infos:\n\nkinderflohmarkt.klosterneuburg@gmx.at\nwww.kinderflohmarkt-klosterneuburg.at\n\n  \n 
URL:https://www.stadtmarketing-klosterneuburg.at/veranstaltung/kinderflohmarkt-im-aupark-2026/2026-10-03/
LOCATION:Aupark\, In der Au\, Klosterneuburg\, 3400\, Austria
CATEGORIES:Einkaufen & Wirtschaft,Familien,Flohmärkte,Kinder
ATTACH;FMTTYPE=image/jpeg:https://www.stadtmarketing-klosterneuburg.at/wp-content/uploads/2022/03/Kinderflohmarkt-Logo-c-Kinderflohmarkt-Klbg.jpg
END:VEVENT
END:VCALENDAR