BEGIN:VCALENDAR
VERSION:2.0
PRODID:-//Stadtmarketing Klosterneuburg - ECPv6.15.17.1//NONSGML v1.0//EN
CALSCALE:GREGORIAN
METHOD:PUBLISH
X-WR-CALNAME:Stadtmarketing Klosterneuburg
X-ORIGINAL-URL:https://www.stadtmarketing-klosterneuburg.at
X-WR-CALDESC:Veranstaltungen für Stadtmarketing Klosterneuburg
REFRESH-INTERVAL;VALUE=DURATION:PT1H
X-Robots-Tag:noindex
X-PUBLISHED-TTL:PT1H
BEGIN:VTIMEZONE
TZID:Europe/Vienna
BEGIN:DAYLIGHT
TZOFFSETFROM:+0100
TZOFFSETTO:+0200
TZNAME:CEST
DTSTART:20250330T010000
END:DAYLIGHT
BEGIN:STANDARD
TZOFFSETFROM:+0200
TZOFFSETTO:+0100
TZNAME:CET
DTSTART:20251026T010000
END:STANDARD
BEGIN:DAYLIGHT
TZOFFSETFROM:+0100
TZOFFSETTO:+0200
TZNAME:CEST
DTSTART:20260329T010000
END:DAYLIGHT
BEGIN:STANDARD
TZOFFSETFROM:+0200
TZOFFSETTO:+0100
TZNAME:CET
DTSTART:20261025T010000
END:STANDARD
BEGIN:DAYLIGHT
TZOFFSETFROM:+0100
TZOFFSETTO:+0200
TZNAME:CEST
DTSTART:20270328T010000
END:DAYLIGHT
BEGIN:STANDARD
TZOFFSETFROM:+0200
TZOFFSETTO:+0100
TZNAME:CET
DTSTART:20271031T010000
END:STANDARD
END:VTIMEZONE
BEGIN:VEVENT
DTSTART;TZID=Europe/Vienna:20260424T150000
DTEND;TZID=Europe/Vienna:20260424T160000
DTSTAMP:20260419T201552
CREATED:20260204T102714Z
LAST-MODIFIED:20260204T112817Z
UID:10044555-1777042800-1777046400@www.stadtmarketing-klosterneuburg.at
SUMMARY:Marko Simsa „Tschiribim“
DESCRIPTION:Klezmermusik für Kinder\nFahrende Gesellen sind in der Stadt. Im Gepäck bringen sie viele Lieder mit. Da wird ausgelassen gespielt und gesungen\, lustig getanzt und geklatscht\, aus vollem Herzen gelacht\, ein wenig geweint und wieder gelacht. Ein „Klezmer“ ist ein Volksmusikant\, der die Musik von seinen Eltern lernt. In bester Tradition erzählen seine Lieder von Familie\, Freunden und Festen\, aber auch von Liebe und von Leid. Marko Simsa und das Ensemble „KlezmerReloaded“ stellen die Lebensfreude in den Mittelpunkt und bereiten Klezmermusik für Kinder auf. \nTermine: Freitag\, 15 Uhr und 16.30 Uhr \nEinzelkarten (falls verfügbar): Kinder € 12\,50 / Erwachsene € 17 \nInfos & Tickets:\n\nKulturamt\, 3400 Klosterneuburg\, Rathausplatz 25\, +43/ (0)2243/ 444-351\, kulturamt@klosterneuburg.at\nTourismus & Stadtmarketing Klosterneuburg GmbH\, 3400 Klosterneuburg\, In der Au 2-4\, +43/ (0)2243/ 320 38\nONLINE
URL:https://www.stadtmarketing-klosterneuburg.at/veranstaltung/marko-simsa-tschiribim/2026-04-24/1/
LOCATION:Kellertheater Wilheringerhof\, Albrechtstraße 61\, Klosterneuburg\, 3400\, Austria
CATEGORIES:Familien,Kinder,Kleinkunst & Kabarett,Kunst & Kultur,Musik & Konzerte,Theater & Oper
ATTACH;FMTTYPE=image/jpeg:https://www.stadtmarketing-klosterneuburg.at/wp-content/uploads/2026/02/Tschiribim-c-Marko-Simsa.jpg
END:VEVENT
BEGIN:VEVENT
DTSTART;TZID=Europe/Vienna:20260424T163000
DTEND;TZID=Europe/Vienna:20260424T173000
DTSTAMP:20260419T201552
CREATED:20260204T102714Z
LAST-MODIFIED:20260204T112817Z
UID:10044556-1777048200-1777051800@www.stadtmarketing-klosterneuburg.at
SUMMARY:Marko Simsa „Tschiribim“
DESCRIPTION:Klezmermusik für Kinder\nFahrende Gesellen sind in der Stadt. Im Gepäck bringen sie viele Lieder mit. Da wird ausgelassen gespielt und gesungen\, lustig getanzt und geklatscht\, aus vollem Herzen gelacht\, ein wenig geweint und wieder gelacht. Ein „Klezmer“ ist ein Volksmusikant\, der die Musik von seinen Eltern lernt. In bester Tradition erzählen seine Lieder von Familie\, Freunden und Festen\, aber auch von Liebe und von Leid. Marko Simsa und das Ensemble „KlezmerReloaded“ stellen die Lebensfreude in den Mittelpunkt und bereiten Klezmermusik für Kinder auf. \nTermine: Freitag\, 15 Uhr und 16.30 Uhr \nEinzelkarten (falls verfügbar): Kinder € 12\,50 / Erwachsene € 17 \nInfos & Tickets:\n\nKulturamt\, 3400 Klosterneuburg\, Rathausplatz 25\, +43/ (0)2243/ 444-351\, kulturamt@klosterneuburg.at\nTourismus & Stadtmarketing Klosterneuburg GmbH\, 3400 Klosterneuburg\, In der Au 2-4\, +43/ (0)2243/ 320 38\nONLINE
URL:https://www.stadtmarketing-klosterneuburg.at/veranstaltung/marko-simsa-tschiribim/2026-04-24/2/
LOCATION:Kellertheater Wilheringerhof\, Albrechtstraße 61\, Klosterneuburg\, 3400\, Austria
CATEGORIES:Familien,Kinder,Kleinkunst & Kabarett,Kunst & Kultur,Musik & Konzerte,Theater & Oper
ATTACH;FMTTYPE=image/jpeg:https://www.stadtmarketing-klosterneuburg.at/wp-content/uploads/2026/02/Tschiribim-c-Marko-Simsa.jpg
END:VEVENT
END:VCALENDAR