BEGIN:VCALENDAR
VERSION:2.0
PRODID:-//Stadtmarketing Klosterneuburg - ECPv6.15.20//NONSGML v1.0//EN
CALSCALE:GREGORIAN
METHOD:PUBLISH
X-WR-CALNAME:Stadtmarketing Klosterneuburg
X-ORIGINAL-URL:https://www.stadtmarketing-klosterneuburg.at
X-WR-CALDESC:Veranstaltungen für Stadtmarketing Klosterneuburg
REFRESH-INTERVAL;VALUE=DURATION:PT1H
X-Robots-Tag:noindex
X-PUBLISHED-TTL:PT1H
BEGIN:VTIMEZONE
TZID:Europe/Vienna
BEGIN:DAYLIGHT
TZOFFSETFROM:+0100
TZOFFSETTO:+0200
TZNAME:CEST
DTSTART:20250330T010000
END:DAYLIGHT
BEGIN:STANDARD
TZOFFSETFROM:+0200
TZOFFSETTO:+0100
TZNAME:CET
DTSTART:20251026T010000
END:STANDARD
BEGIN:DAYLIGHT
TZOFFSETFROM:+0100
TZOFFSETTO:+0200
TZNAME:CEST
DTSTART:20260329T010000
END:DAYLIGHT
BEGIN:STANDARD
TZOFFSETFROM:+0200
TZOFFSETTO:+0100
TZNAME:CET
DTSTART:20261025T010000
END:STANDARD
BEGIN:DAYLIGHT
TZOFFSETFROM:+0100
TZOFFSETTO:+0200
TZNAME:CEST
DTSTART:20270328T010000
END:DAYLIGHT
BEGIN:STANDARD
TZOFFSETFROM:+0200
TZOFFSETTO:+0100
TZNAME:CET
DTSTART:20271031T010000
END:STANDARD
END:VTIMEZONE
BEGIN:VEVENT
DTSTART;TZID=Europe/Vienna:20260501T190000
DTEND;TZID=Europe/Vienna:20260501T193000
DTSTAMP:20260420T204649
CREATED:20260205T154153Z
LAST-MODIFIED:20260205T154313Z
UID:10044715-1777662000-1777663800@www.stadtmarketing-klosterneuburg.at
SUMMARY:Freund(t)-Musiken 2026
DESCRIPTION:30 Minuten Musik und Wort zu verschiedenen Themen der Kirchenmusik\nAn jedem 1. Freitag im Monat verschmilzt Liturgie mit Konzert. Bei den Freund(t)-Musiken (Synthese aus Abendmusik und Freundt-Orgel) erwarten Sie spannende musikalische Konzepte\, gepaart mit geistlichen Impulsen bzw. kurzen Werkeinführungen. Im Anschluss sind die Besucher zu Brot und Wein sowie zum Gespräch mit den Ausführenden eingeladen. \nHERR\, WENN DIE STOLZEN FEINDE SCHNAUBEN\nDie sechste Kantate aus dem Weihnachtsoratorium von J.S.Bach\n2. Jänner 2026 / 19 Uhr \nHÄNDEL VS. CORELLI\nBarocke Klangduelle im Concerto grosso\n6. Februar 2026 / 19 Uhr \nDAS PHANTOM DER STIFTSKIRCHE\nOrgan meets Musical\n1. Mai 2026 / 19 Uhr \nTANGOS ECCLESIASTICOS\nDie Festorgel schwingt das Tanzbein\n5. Juni 2026 / 19 Uhr \nI NEVER SAW ANOTHER BUTTERFLY\nDas Duo So:und berührt mit neuartigen Klangwelten\n3. Juli 2026 / 19 Uhr \nSTARS\nMusik für Chor und Weingläser im prachtvollen Marmorsaal\n7. August 2026 / 19 Uhr \nTHAT ARE THE FINEST THINGS THAT I EVER HEARD IN MY LIFE\nHändels weltberühmte Orgelkonzerte\n4. September 2026 / 19 Uhr \nDRAMMA PER ORGANO\nOpernhits an der Chororgel\n2. Oktober 2026 / 19 Uhr \nSO FAHR ICH HIN\nTrauermusik von H. Schütz und J.C. Kerll\nTheater Tröbinger\, Puppenspieler\n6. November 2026 / 19 Uhr \n  \nTickets: Ein Unkostenbeitrag von € 5\,– wird erbeten\nOrt: Stiftskirche Klosterneuburg \nInformation:\nONLINE
URL:https://www.stadtmarketing-klosterneuburg.at/veranstaltung/freundt-musiken-2026/2026-05-01/
LOCATION:Stift Klosterneuburg\, Stiftsplatz 1\, Klosterneuburg\, 3400\, Austria
CATEGORIES:Kunst & Kultur,Musik & Konzerte,Sakral
ATTACH;FMTTYPE=image/jpeg:https://www.stadtmarketing-klosterneuburg.at/wp-content/uploads/2025/01/Freundt-Musiken-2025-c-Stift-Klbg.jpg
END:VEVENT
BEGIN:VEVENT
DTSTART;TZID=Europe/Vienna:20260605T190000
DTEND;TZID=Europe/Vienna:20260605T193000
DTSTAMP:20260420T204649
CREATED:20260205T154153Z
LAST-MODIFIED:20260205T154313Z
UID:10044716-1780686000-1780687800@www.stadtmarketing-klosterneuburg.at
SUMMARY:Freund(t)-Musiken 2026
DESCRIPTION:30 Minuten Musik und Wort zu verschiedenen Themen der Kirchenmusik\nAn jedem 1. Freitag im Monat verschmilzt Liturgie mit Konzert. Bei den Freund(t)-Musiken (Synthese aus Abendmusik und Freundt-Orgel) erwarten Sie spannende musikalische Konzepte\, gepaart mit geistlichen Impulsen bzw. kurzen Werkeinführungen. Im Anschluss sind die Besucher zu Brot und Wein sowie zum Gespräch mit den Ausführenden eingeladen. \nHERR\, WENN DIE STOLZEN FEINDE SCHNAUBEN\nDie sechste Kantate aus dem Weihnachtsoratorium von J.S.Bach\n2. Jänner 2026 / 19 Uhr \nHÄNDEL VS. CORELLI\nBarocke Klangduelle im Concerto grosso\n6. Februar 2026 / 19 Uhr \nDAS PHANTOM DER STIFTSKIRCHE\nOrgan meets Musical\n1. Mai 2026 / 19 Uhr \nTANGOS ECCLESIASTICOS\nDie Festorgel schwingt das Tanzbein\n5. Juni 2026 / 19 Uhr \nI NEVER SAW ANOTHER BUTTERFLY\nDas Duo So:und berührt mit neuartigen Klangwelten\n3. Juli 2026 / 19 Uhr \nSTARS\nMusik für Chor und Weingläser im prachtvollen Marmorsaal\n7. August 2026 / 19 Uhr \nTHAT ARE THE FINEST THINGS THAT I EVER HEARD IN MY LIFE\nHändels weltberühmte Orgelkonzerte\n4. September 2026 / 19 Uhr \nDRAMMA PER ORGANO\nOpernhits an der Chororgel\n2. Oktober 2026 / 19 Uhr \nSO FAHR ICH HIN\nTrauermusik von H. Schütz und J.C. Kerll\nTheater Tröbinger\, Puppenspieler\n6. November 2026 / 19 Uhr \n  \nTickets: Ein Unkostenbeitrag von € 5\,– wird erbeten\nOrt: Stiftskirche Klosterneuburg \nInformation:\nONLINE
URL:https://www.stadtmarketing-klosterneuburg.at/veranstaltung/freundt-musiken-2026/2026-06-05/
LOCATION:Stift Klosterneuburg\, Stiftsplatz 1\, Klosterneuburg\, 3400\, Austria
CATEGORIES:Kunst & Kultur,Musik & Konzerte,Sakral
ATTACH;FMTTYPE=image/jpeg:https://www.stadtmarketing-klosterneuburg.at/wp-content/uploads/2025/01/Freundt-Musiken-2025-c-Stift-Klbg.jpg
END:VEVENT
BEGIN:VEVENT
DTSTART;TZID=Europe/Vienna:20260703T190000
DTEND;TZID=Europe/Vienna:20260703T193000
DTSTAMP:20260420T204649
CREATED:20260205T154153Z
LAST-MODIFIED:20260205T154313Z
UID:10044717-1783105200-1783107000@www.stadtmarketing-klosterneuburg.at
SUMMARY:Freund(t)-Musiken 2026
DESCRIPTION:30 Minuten Musik und Wort zu verschiedenen Themen der Kirchenmusik\nAn jedem 1. Freitag im Monat verschmilzt Liturgie mit Konzert. Bei den Freund(t)-Musiken (Synthese aus Abendmusik und Freundt-Orgel) erwarten Sie spannende musikalische Konzepte\, gepaart mit geistlichen Impulsen bzw. kurzen Werkeinführungen. Im Anschluss sind die Besucher zu Brot und Wein sowie zum Gespräch mit den Ausführenden eingeladen. \nHERR\, WENN DIE STOLZEN FEINDE SCHNAUBEN\nDie sechste Kantate aus dem Weihnachtsoratorium von J.S.Bach\n2. Jänner 2026 / 19 Uhr \nHÄNDEL VS. CORELLI\nBarocke Klangduelle im Concerto grosso\n6. Februar 2026 / 19 Uhr \nDAS PHANTOM DER STIFTSKIRCHE\nOrgan meets Musical\n1. Mai 2026 / 19 Uhr \nTANGOS ECCLESIASTICOS\nDie Festorgel schwingt das Tanzbein\n5. Juni 2026 / 19 Uhr \nI NEVER SAW ANOTHER BUTTERFLY\nDas Duo So:und berührt mit neuartigen Klangwelten\n3. Juli 2026 / 19 Uhr \nSTARS\nMusik für Chor und Weingläser im prachtvollen Marmorsaal\n7. August 2026 / 19 Uhr \nTHAT ARE THE FINEST THINGS THAT I EVER HEARD IN MY LIFE\nHändels weltberühmte Orgelkonzerte\n4. September 2026 / 19 Uhr \nDRAMMA PER ORGANO\nOpernhits an der Chororgel\n2. Oktober 2026 / 19 Uhr \nSO FAHR ICH HIN\nTrauermusik von H. Schütz und J.C. Kerll\nTheater Tröbinger\, Puppenspieler\n6. November 2026 / 19 Uhr \n  \nTickets: Ein Unkostenbeitrag von € 5\,– wird erbeten\nOrt: Stiftskirche Klosterneuburg \nInformation:\nONLINE
URL:https://www.stadtmarketing-klosterneuburg.at/veranstaltung/freundt-musiken-2026/2026-07-03/
LOCATION:Stift Klosterneuburg\, Stiftsplatz 1\, Klosterneuburg\, 3400\, Austria
CATEGORIES:Kunst & Kultur,Musik & Konzerte,Sakral
ATTACH;FMTTYPE=image/jpeg:https://www.stadtmarketing-klosterneuburg.at/wp-content/uploads/2025/01/Freundt-Musiken-2025-c-Stift-Klbg.jpg
END:VEVENT
BEGIN:VEVENT
DTSTART;TZID=Europe/Vienna:20260807T190000
DTEND;TZID=Europe/Vienna:20260807T193000
DTSTAMP:20260420T204649
CREATED:20260205T154153Z
LAST-MODIFIED:20260205T154313Z
UID:10044718-1786129200-1786131000@www.stadtmarketing-klosterneuburg.at
SUMMARY:Freund(t)-Musiken 2026
DESCRIPTION:30 Minuten Musik und Wort zu verschiedenen Themen der Kirchenmusik\nAn jedem 1. Freitag im Monat verschmilzt Liturgie mit Konzert. Bei den Freund(t)-Musiken (Synthese aus Abendmusik und Freundt-Orgel) erwarten Sie spannende musikalische Konzepte\, gepaart mit geistlichen Impulsen bzw. kurzen Werkeinführungen. Im Anschluss sind die Besucher zu Brot und Wein sowie zum Gespräch mit den Ausführenden eingeladen. \nHERR\, WENN DIE STOLZEN FEINDE SCHNAUBEN\nDie sechste Kantate aus dem Weihnachtsoratorium von J.S.Bach\n2. Jänner 2026 / 19 Uhr \nHÄNDEL VS. CORELLI\nBarocke Klangduelle im Concerto grosso\n6. Februar 2026 / 19 Uhr \nDAS PHANTOM DER STIFTSKIRCHE\nOrgan meets Musical\n1. Mai 2026 / 19 Uhr \nTANGOS ECCLESIASTICOS\nDie Festorgel schwingt das Tanzbein\n5. Juni 2026 / 19 Uhr \nI NEVER SAW ANOTHER BUTTERFLY\nDas Duo So:und berührt mit neuartigen Klangwelten\n3. Juli 2026 / 19 Uhr \nSTARS\nMusik für Chor und Weingläser im prachtvollen Marmorsaal\n7. August 2026 / 19 Uhr \nTHAT ARE THE FINEST THINGS THAT I EVER HEARD IN MY LIFE\nHändels weltberühmte Orgelkonzerte\n4. September 2026 / 19 Uhr \nDRAMMA PER ORGANO\nOpernhits an der Chororgel\n2. Oktober 2026 / 19 Uhr \nSO FAHR ICH HIN\nTrauermusik von H. Schütz und J.C. Kerll\nTheater Tröbinger\, Puppenspieler\n6. November 2026 / 19 Uhr \n  \nTickets: Ein Unkostenbeitrag von € 5\,– wird erbeten\nOrt: Stiftskirche Klosterneuburg \nInformation:\nONLINE
URL:https://www.stadtmarketing-klosterneuburg.at/veranstaltung/freundt-musiken-2026/2026-08-07/
LOCATION:Stift Klosterneuburg\, Stiftsplatz 1\, Klosterneuburg\, 3400\, Austria
CATEGORIES:Kunst & Kultur,Musik & Konzerte,Sakral
ATTACH;FMTTYPE=image/jpeg:https://www.stadtmarketing-klosterneuburg.at/wp-content/uploads/2025/01/Freundt-Musiken-2025-c-Stift-Klbg.jpg
END:VEVENT
BEGIN:VEVENT
DTSTART;TZID=Europe/Vienna:20260904T190000
DTEND;TZID=Europe/Vienna:20260904T193000
DTSTAMP:20260420T204649
CREATED:20260205T154153Z
LAST-MODIFIED:20260205T154313Z
UID:10044719-1788548400-1788550200@www.stadtmarketing-klosterneuburg.at
SUMMARY:Freund(t)-Musiken 2026
DESCRIPTION:30 Minuten Musik und Wort zu verschiedenen Themen der Kirchenmusik\nAn jedem 1. Freitag im Monat verschmilzt Liturgie mit Konzert. Bei den Freund(t)-Musiken (Synthese aus Abendmusik und Freundt-Orgel) erwarten Sie spannende musikalische Konzepte\, gepaart mit geistlichen Impulsen bzw. kurzen Werkeinführungen. Im Anschluss sind die Besucher zu Brot und Wein sowie zum Gespräch mit den Ausführenden eingeladen. \nHERR\, WENN DIE STOLZEN FEINDE SCHNAUBEN\nDie sechste Kantate aus dem Weihnachtsoratorium von J.S.Bach\n2. Jänner 2026 / 19 Uhr \nHÄNDEL VS. CORELLI\nBarocke Klangduelle im Concerto grosso\n6. Februar 2026 / 19 Uhr \nDAS PHANTOM DER STIFTSKIRCHE\nOrgan meets Musical\n1. Mai 2026 / 19 Uhr \nTANGOS ECCLESIASTICOS\nDie Festorgel schwingt das Tanzbein\n5. Juni 2026 / 19 Uhr \nI NEVER SAW ANOTHER BUTTERFLY\nDas Duo So:und berührt mit neuartigen Klangwelten\n3. Juli 2026 / 19 Uhr \nSTARS\nMusik für Chor und Weingläser im prachtvollen Marmorsaal\n7. August 2026 / 19 Uhr \nTHAT ARE THE FINEST THINGS THAT I EVER HEARD IN MY LIFE\nHändels weltberühmte Orgelkonzerte\n4. September 2026 / 19 Uhr \nDRAMMA PER ORGANO\nOpernhits an der Chororgel\n2. Oktober 2026 / 19 Uhr \nSO FAHR ICH HIN\nTrauermusik von H. Schütz und J.C. Kerll\nTheater Tröbinger\, Puppenspieler\n6. November 2026 / 19 Uhr \n  \nTickets: Ein Unkostenbeitrag von € 5\,– wird erbeten\nOrt: Stiftskirche Klosterneuburg \nInformation:\nONLINE
URL:https://www.stadtmarketing-klosterneuburg.at/veranstaltung/freundt-musiken-2026/2026-09-04/
LOCATION:Stift Klosterneuburg\, Stiftsplatz 1\, Klosterneuburg\, 3400\, Austria
CATEGORIES:Kunst & Kultur,Musik & Konzerte,Sakral
ATTACH;FMTTYPE=image/jpeg:https://www.stadtmarketing-klosterneuburg.at/wp-content/uploads/2025/01/Freundt-Musiken-2025-c-Stift-Klbg.jpg
END:VEVENT
BEGIN:VEVENT
DTSTART;TZID=Europe/Vienna:20261002T190000
DTEND;TZID=Europe/Vienna:20261002T193000
DTSTAMP:20260420T204649
CREATED:20260205T154153Z
LAST-MODIFIED:20260205T154313Z
UID:10044720-1790967600-1790969400@www.stadtmarketing-klosterneuburg.at
SUMMARY:Freund(t)-Musiken 2026
DESCRIPTION:30 Minuten Musik und Wort zu verschiedenen Themen der Kirchenmusik\nAn jedem 1. Freitag im Monat verschmilzt Liturgie mit Konzert. Bei den Freund(t)-Musiken (Synthese aus Abendmusik und Freundt-Orgel) erwarten Sie spannende musikalische Konzepte\, gepaart mit geistlichen Impulsen bzw. kurzen Werkeinführungen. Im Anschluss sind die Besucher zu Brot und Wein sowie zum Gespräch mit den Ausführenden eingeladen. \nHERR\, WENN DIE STOLZEN FEINDE SCHNAUBEN\nDie sechste Kantate aus dem Weihnachtsoratorium von J.S.Bach\n2. Jänner 2026 / 19 Uhr \nHÄNDEL VS. CORELLI\nBarocke Klangduelle im Concerto grosso\n6. Februar 2026 / 19 Uhr \nDAS PHANTOM DER STIFTSKIRCHE\nOrgan meets Musical\n1. Mai 2026 / 19 Uhr \nTANGOS ECCLESIASTICOS\nDie Festorgel schwingt das Tanzbein\n5. Juni 2026 / 19 Uhr \nI NEVER SAW ANOTHER BUTTERFLY\nDas Duo So:und berührt mit neuartigen Klangwelten\n3. Juli 2026 / 19 Uhr \nSTARS\nMusik für Chor und Weingläser im prachtvollen Marmorsaal\n7. August 2026 / 19 Uhr \nTHAT ARE THE FINEST THINGS THAT I EVER HEARD IN MY LIFE\nHändels weltberühmte Orgelkonzerte\n4. September 2026 / 19 Uhr \nDRAMMA PER ORGANO\nOpernhits an der Chororgel\n2. Oktober 2026 / 19 Uhr \nSO FAHR ICH HIN\nTrauermusik von H. Schütz und J.C. Kerll\nTheater Tröbinger\, Puppenspieler\n6. November 2026 / 19 Uhr \n  \nTickets: Ein Unkostenbeitrag von € 5\,– wird erbeten\nOrt: Stiftskirche Klosterneuburg \nInformation:\nONLINE
URL:https://www.stadtmarketing-klosterneuburg.at/veranstaltung/freundt-musiken-2026/2026-10-02/
LOCATION:Stift Klosterneuburg\, Stiftsplatz 1\, Klosterneuburg\, 3400\, Austria
CATEGORIES:Kunst & Kultur,Musik & Konzerte,Sakral
ATTACH;FMTTYPE=image/jpeg:https://www.stadtmarketing-klosterneuburg.at/wp-content/uploads/2025/01/Freundt-Musiken-2025-c-Stift-Klbg.jpg
END:VEVENT
BEGIN:VEVENT
DTSTART;TZID=Europe/Vienna:20261106T190000
DTEND;TZID=Europe/Vienna:20261106T193000
DTSTAMP:20260420T204649
CREATED:20260205T154153Z
LAST-MODIFIED:20260205T154313Z
UID:10044721-1793991600-1793993400@www.stadtmarketing-klosterneuburg.at
SUMMARY:Freund(t)-Musiken 2026
DESCRIPTION:30 Minuten Musik und Wort zu verschiedenen Themen der Kirchenmusik\nAn jedem 1. Freitag im Monat verschmilzt Liturgie mit Konzert. Bei den Freund(t)-Musiken (Synthese aus Abendmusik und Freundt-Orgel) erwarten Sie spannende musikalische Konzepte\, gepaart mit geistlichen Impulsen bzw. kurzen Werkeinführungen. Im Anschluss sind die Besucher zu Brot und Wein sowie zum Gespräch mit den Ausführenden eingeladen. \nHERR\, WENN DIE STOLZEN FEINDE SCHNAUBEN\nDie sechste Kantate aus dem Weihnachtsoratorium von J.S.Bach\n2. Jänner 2026 / 19 Uhr \nHÄNDEL VS. CORELLI\nBarocke Klangduelle im Concerto grosso\n6. Februar 2026 / 19 Uhr \nDAS PHANTOM DER STIFTSKIRCHE\nOrgan meets Musical\n1. Mai 2026 / 19 Uhr \nTANGOS ECCLESIASTICOS\nDie Festorgel schwingt das Tanzbein\n5. Juni 2026 / 19 Uhr \nI NEVER SAW ANOTHER BUTTERFLY\nDas Duo So:und berührt mit neuartigen Klangwelten\n3. Juli 2026 / 19 Uhr \nSTARS\nMusik für Chor und Weingläser im prachtvollen Marmorsaal\n7. August 2026 / 19 Uhr \nTHAT ARE THE FINEST THINGS THAT I EVER HEARD IN MY LIFE\nHändels weltberühmte Orgelkonzerte\n4. September 2026 / 19 Uhr \nDRAMMA PER ORGANO\nOpernhits an der Chororgel\n2. Oktober 2026 / 19 Uhr \nSO FAHR ICH HIN\nTrauermusik von H. Schütz und J.C. Kerll\nTheater Tröbinger\, Puppenspieler\n6. November 2026 / 19 Uhr \n  \nTickets: Ein Unkostenbeitrag von € 5\,– wird erbeten\nOrt: Stiftskirche Klosterneuburg \nInformation:\nONLINE
URL:https://www.stadtmarketing-klosterneuburg.at/veranstaltung/freundt-musiken-2026/2026-11-06/
LOCATION:Stift Klosterneuburg\, Stiftsplatz 1\, Klosterneuburg\, 3400\, Austria
CATEGORIES:Kunst & Kultur,Musik & Konzerte,Sakral
ATTACH;FMTTYPE=image/jpeg:https://www.stadtmarketing-klosterneuburg.at/wp-content/uploads/2025/01/Freundt-Musiken-2025-c-Stift-Klbg.jpg
END:VEVENT
END:VCALENDAR