BEGIN:VCALENDAR
VERSION:2.0
PRODID:-//Stadtmarketing Klosterneuburg - ECPv6.15.17.1//NONSGML v1.0//EN
CALSCALE:GREGORIAN
METHOD:PUBLISH
X-WR-CALNAME:Stadtmarketing Klosterneuburg
X-ORIGINAL-URL:https://www.stadtmarketing-klosterneuburg.at
X-WR-CALDESC:Veranstaltungen für Stadtmarketing Klosterneuburg
REFRESH-INTERVAL;VALUE=DURATION:PT1H
X-Robots-Tag:noindex
X-PUBLISHED-TTL:PT1H
BEGIN:VTIMEZONE
TZID:Europe/Vienna
BEGIN:DAYLIGHT
TZOFFSETFROM:+0100
TZOFFSETTO:+0200
TZNAME:CEST
DTSTART:20250330T010000
END:DAYLIGHT
BEGIN:STANDARD
TZOFFSETFROM:+0200
TZOFFSETTO:+0100
TZNAME:CET
DTSTART:20251026T010000
END:STANDARD
BEGIN:DAYLIGHT
TZOFFSETFROM:+0100
TZOFFSETTO:+0200
TZNAME:CEST
DTSTART:20260329T010000
END:DAYLIGHT
BEGIN:STANDARD
TZOFFSETFROM:+0200
TZOFFSETTO:+0100
TZNAME:CET
DTSTART:20261025T010000
END:STANDARD
BEGIN:DAYLIGHT
TZOFFSETFROM:+0100
TZOFFSETTO:+0200
TZNAME:CEST
DTSTART:20270328T010000
END:DAYLIGHT
BEGIN:STANDARD
TZOFFSETFROM:+0200
TZOFFSETTO:+0100
TZNAME:CET
DTSTART:20271031T010000
END:STANDARD
END:VTIMEZONE
BEGIN:VEVENT
DTSTART;TZID=Europe/Vienna:20260423T190000
DTEND;TZID=Europe/Vienna:20260423T210000
DTSTAMP:20260420T135513
CREATED:20260223T131404Z
LAST-MODIFIED:20260223T132035Z
UID:10045099-1776970800-1776978000@www.stadtmarketing-klosterneuburg.at
SUMMARY:Raritäten- bzw. Altweinverkostung
DESCRIPTION:Auch heuer öffnet das Stiftsweingut sein Wein-Archiv und bietet die Verkostung der Raritäten- und Altweine in der Stiftsvinothek an. \nDas ist eine einzigartige Möglichkeit\, sich durch die großen Jahrgänge und bewegten Zeiten zu kosten. \nKommen Sie mit auf eine önologische Zeitreise und probieren Sie sich durch die raren Tropfen! \n  \nPreis/Person: € 65 \n  \nOrt: Vinothek Stift Klosterneuburg \nAnmeldung erforderlich:\n\n\n\nONLINE\n\n\n\n  \nFoto: ©Jürgen Skarwan
URL:https://www.stadtmarketing-klosterneuburg.at/veranstaltung/raritaeten-bzw-altweinverkostung/2026-04-23/
LOCATION:Vinothek Stift Klosterneuburg\, Rathausplatz 24\, Klosterneuburg\, Niederösterreich\, 3400\, Austria
CATEGORIES:Einkaufen & Wirtschaft,Sonstige,Weinpräsentationen & Verkostungen
ATTACH;FMTTYPE=image/jpeg:https://www.stadtmarketing-klosterneuburg.at/wp-content/uploads/2024/02/Weinverkostung-Stiftsvinothek-c-Juergen-Skarwan.jpg
END:VEVENT
END:VCALENDAR