BEGIN:VCALENDAR
VERSION:2.0
PRODID:-//Stadtmarketing Klosterneuburg - ECPv6.15.20//NONSGML v1.0//EN
CALSCALE:GREGORIAN
METHOD:PUBLISH
X-WR-CALNAME:Stadtmarketing Klosterneuburg
X-ORIGINAL-URL:https://www.stadtmarketing-klosterneuburg.at
X-WR-CALDESC:Veranstaltungen für Stadtmarketing Klosterneuburg
REFRESH-INTERVAL;VALUE=DURATION:PT1H
X-Robots-Tag:noindex
X-PUBLISHED-TTL:PT1H
BEGIN:VTIMEZONE
TZID:Europe/Vienna
BEGIN:DAYLIGHT
TZOFFSETFROM:+0100
TZOFFSETTO:+0200
TZNAME:CEST
DTSTART:20250330T010000
END:DAYLIGHT
BEGIN:STANDARD
TZOFFSETFROM:+0200
TZOFFSETTO:+0100
TZNAME:CET
DTSTART:20251026T010000
END:STANDARD
BEGIN:DAYLIGHT
TZOFFSETFROM:+0100
TZOFFSETTO:+0200
TZNAME:CEST
DTSTART:20260329T010000
END:DAYLIGHT
BEGIN:STANDARD
TZOFFSETFROM:+0200
TZOFFSETTO:+0100
TZNAME:CET
DTSTART:20261025T010000
END:STANDARD
BEGIN:DAYLIGHT
TZOFFSETFROM:+0100
TZOFFSETTO:+0200
TZNAME:CEST
DTSTART:20270328T010000
END:DAYLIGHT
BEGIN:STANDARD
TZOFFSETFROM:+0200
TZOFFSETTO:+0100
TZNAME:CET
DTSTART:20271031T010000
END:STANDARD
END:VTIMEZONE
BEGIN:VEVENT
DTSTART;TZID=Europe/Vienna:20260817T080000
DTEND;TZID=Europe/Vienna:20260817T160000
DTSTAMP:20260420T184224
CREATED:20260226T142900Z
LAST-MODIFIED:20260226T154302Z
UID:10045254-1786953600-1786982400@www.stadtmarketing-klosterneuburg.at
SUMMARY:Waldferienwoche der Bundesforste
DESCRIPTION:Expedition zu den Geheimnissen des Waldes (für Kinder 7 – 14 Jahre)\n17. – 21. August 2026 / jeweils 8 – 16 Uhr \nEine Ferienwoche lang täglich gemeinsam den Wald entdecken\, erleben und enträtseln! Spannende Herausforderungen für jede Altersgruppe!  \nTreffpunkt: Windischhütte \nAusrüstung: feste Schuhe\, Sonnenschutz\, wetterfeste Kleidung. FSME-Impfung empfohlen. \nKosten: € 350 pro Kind (inkl. Mittagsverpflegung) / Early Bird-Aktion bei Anmeldung bis Ende März: € 340 \nBei anhaltendem Sturm muss auf alternative Indoorprogramme ausgewichen werden! In diesem Fall wird um Verständnis gebeten\, dass Zusatzkosten für Eintritte in Museen etc. anfallen können. \nOnline-Anmeldung bis 31. Mai:\nwww.bundesforste.at/waldferienwoche \nVeranstalter: Österreichische Bundesforste \n 
URL:https://www.stadtmarketing-klosterneuburg.at/veranstaltung/waldferienwoche-der-bundesforste-4/2026-08-17/
LOCATION:Landgasthof Windischhütte\, Windischhütte 30\, Weidlingbach\, Niederösterreich\, 3400\, Austria
CATEGORIES:Feriencamp,Führungen, Wanderungen & Touren,Kinder,Natur,Sommerferien
ATTACH;FMTTYPE=image/jpeg:https://www.stadtmarketing-klosterneuburg.at/wp-content/uploads/2023/06/Waldferien-c-Bundesforste.jpg
END:VEVENT
BEGIN:VEVENT
DTSTART;TZID=Europe/Vienna:20260818T080000
DTEND;TZID=Europe/Vienna:20260818T160000
DTSTAMP:20260420T184224
CREATED:20260226T142900Z
LAST-MODIFIED:20260226T154302Z
UID:10045255-1787040000-1787068800@www.stadtmarketing-klosterneuburg.at
SUMMARY:Waldferienwoche der Bundesforste
DESCRIPTION:Expedition zu den Geheimnissen des Waldes (für Kinder 7 – 14 Jahre)\n17. – 21. August 2026 / jeweils 8 – 16 Uhr \nEine Ferienwoche lang täglich gemeinsam den Wald entdecken\, erleben und enträtseln! Spannende Herausforderungen für jede Altersgruppe!  \nTreffpunkt: Windischhütte \nAusrüstung: feste Schuhe\, Sonnenschutz\, wetterfeste Kleidung. FSME-Impfung empfohlen. \nKosten: € 350 pro Kind (inkl. Mittagsverpflegung) / Early Bird-Aktion bei Anmeldung bis Ende März: € 340 \nBei anhaltendem Sturm muss auf alternative Indoorprogramme ausgewichen werden! In diesem Fall wird um Verständnis gebeten\, dass Zusatzkosten für Eintritte in Museen etc. anfallen können. \nOnline-Anmeldung bis 31. Mai:\nwww.bundesforste.at/waldferienwoche \nVeranstalter: Österreichische Bundesforste \n 
URL:https://www.stadtmarketing-klosterneuburg.at/veranstaltung/waldferienwoche-der-bundesforste-4/2026-08-18/
LOCATION:Landgasthof Windischhütte\, Windischhütte 30\, Weidlingbach\, Niederösterreich\, 3400\, Austria
CATEGORIES:Feriencamp,Führungen, Wanderungen & Touren,Kinder,Natur,Sommerferien
ATTACH;FMTTYPE=image/jpeg:https://www.stadtmarketing-klosterneuburg.at/wp-content/uploads/2023/06/Waldferien-c-Bundesforste.jpg
END:VEVENT
BEGIN:VEVENT
DTSTART;TZID=Europe/Vienna:20260819T080000
DTEND;TZID=Europe/Vienna:20260819T160000
DTSTAMP:20260420T184224
CREATED:20260226T142900Z
LAST-MODIFIED:20260226T154302Z
UID:10045256-1787126400-1787155200@www.stadtmarketing-klosterneuburg.at
SUMMARY:Waldferienwoche der Bundesforste
DESCRIPTION:Expedition zu den Geheimnissen des Waldes (für Kinder 7 – 14 Jahre)\n17. – 21. August 2026 / jeweils 8 – 16 Uhr \nEine Ferienwoche lang täglich gemeinsam den Wald entdecken\, erleben und enträtseln! Spannende Herausforderungen für jede Altersgruppe!  \nTreffpunkt: Windischhütte \nAusrüstung: feste Schuhe\, Sonnenschutz\, wetterfeste Kleidung. FSME-Impfung empfohlen. \nKosten: € 350 pro Kind (inkl. Mittagsverpflegung) / Early Bird-Aktion bei Anmeldung bis Ende März: € 340 \nBei anhaltendem Sturm muss auf alternative Indoorprogramme ausgewichen werden! In diesem Fall wird um Verständnis gebeten\, dass Zusatzkosten für Eintritte in Museen etc. anfallen können. \nOnline-Anmeldung bis 31. Mai:\nwww.bundesforste.at/waldferienwoche \nVeranstalter: Österreichische Bundesforste \n 
URL:https://www.stadtmarketing-klosterneuburg.at/veranstaltung/waldferienwoche-der-bundesforste-4/2026-08-19/
LOCATION:Landgasthof Windischhütte\, Windischhütte 30\, Weidlingbach\, Niederösterreich\, 3400\, Austria
CATEGORIES:Feriencamp,Führungen, Wanderungen & Touren,Kinder,Natur,Sommerferien
ATTACH;FMTTYPE=image/jpeg:https://www.stadtmarketing-klosterneuburg.at/wp-content/uploads/2023/06/Waldferien-c-Bundesforste.jpg
END:VEVENT
BEGIN:VEVENT
DTSTART;TZID=Europe/Vienna:20260820T080000
DTEND;TZID=Europe/Vienna:20260820T160000
DTSTAMP:20260420T184224
CREATED:20260226T142900Z
LAST-MODIFIED:20260226T154302Z
UID:10045257-1787212800-1787241600@www.stadtmarketing-klosterneuburg.at
SUMMARY:Waldferienwoche der Bundesforste
DESCRIPTION:Expedition zu den Geheimnissen des Waldes (für Kinder 7 – 14 Jahre)\n17. – 21. August 2026 / jeweils 8 – 16 Uhr \nEine Ferienwoche lang täglich gemeinsam den Wald entdecken\, erleben und enträtseln! Spannende Herausforderungen für jede Altersgruppe!  \nTreffpunkt: Windischhütte \nAusrüstung: feste Schuhe\, Sonnenschutz\, wetterfeste Kleidung. FSME-Impfung empfohlen. \nKosten: € 350 pro Kind (inkl. Mittagsverpflegung) / Early Bird-Aktion bei Anmeldung bis Ende März: € 340 \nBei anhaltendem Sturm muss auf alternative Indoorprogramme ausgewichen werden! In diesem Fall wird um Verständnis gebeten\, dass Zusatzkosten für Eintritte in Museen etc. anfallen können. \nOnline-Anmeldung bis 31. Mai:\nwww.bundesforste.at/waldferienwoche \nVeranstalter: Österreichische Bundesforste \n 
URL:https://www.stadtmarketing-klosterneuburg.at/veranstaltung/waldferienwoche-der-bundesforste-4/2026-08-20/
LOCATION:Landgasthof Windischhütte\, Windischhütte 30\, Weidlingbach\, Niederösterreich\, 3400\, Austria
CATEGORIES:Feriencamp,Führungen, Wanderungen & Touren,Kinder,Natur,Sommerferien
ATTACH;FMTTYPE=image/jpeg:https://www.stadtmarketing-klosterneuburg.at/wp-content/uploads/2023/06/Waldferien-c-Bundesforste.jpg
END:VEVENT
BEGIN:VEVENT
DTSTART;TZID=Europe/Vienna:20260821T080000
DTEND;TZID=Europe/Vienna:20260821T160000
DTSTAMP:20260420T184224
CREATED:20260226T142900Z
LAST-MODIFIED:20260226T154302Z
UID:10045258-1787299200-1787328000@www.stadtmarketing-klosterneuburg.at
SUMMARY:Waldferienwoche der Bundesforste
DESCRIPTION:Expedition zu den Geheimnissen des Waldes (für Kinder 7 – 14 Jahre)\n17. – 21. August 2026 / jeweils 8 – 16 Uhr \nEine Ferienwoche lang täglich gemeinsam den Wald entdecken\, erleben und enträtseln! Spannende Herausforderungen für jede Altersgruppe!  \nTreffpunkt: Windischhütte \nAusrüstung: feste Schuhe\, Sonnenschutz\, wetterfeste Kleidung. FSME-Impfung empfohlen. \nKosten: € 350 pro Kind (inkl. Mittagsverpflegung) / Early Bird-Aktion bei Anmeldung bis Ende März: € 340 \nBei anhaltendem Sturm muss auf alternative Indoorprogramme ausgewichen werden! In diesem Fall wird um Verständnis gebeten\, dass Zusatzkosten für Eintritte in Museen etc. anfallen können. \nOnline-Anmeldung bis 31. Mai:\nwww.bundesforste.at/waldferienwoche \nVeranstalter: Österreichische Bundesforste \n 
URL:https://www.stadtmarketing-klosterneuburg.at/veranstaltung/waldferienwoche-der-bundesforste-4/2026-08-21/
LOCATION:Landgasthof Windischhütte\, Windischhütte 30\, Weidlingbach\, Niederösterreich\, 3400\, Austria
CATEGORIES:Feriencamp,Führungen, Wanderungen & Touren,Kinder,Natur,Sommerferien
ATTACH;FMTTYPE=image/jpeg:https://www.stadtmarketing-klosterneuburg.at/wp-content/uploads/2023/06/Waldferien-c-Bundesforste.jpg
END:VEVENT
END:VCALENDAR