BEGIN:VCALENDAR
VERSION:2.0
PRODID:-//Stadtmarketing Klosterneuburg - ECPv6.15.20//NONSGML v1.0//EN
CALSCALE:GREGORIAN
METHOD:PUBLISH
X-WR-CALNAME:Stadtmarketing Klosterneuburg
X-ORIGINAL-URL:https://www.stadtmarketing-klosterneuburg.at
X-WR-CALDESC:Veranstaltungen für Stadtmarketing Klosterneuburg
REFRESH-INTERVAL;VALUE=DURATION:PT1H
X-Robots-Tag:noindex
X-PUBLISHED-TTL:PT1H
BEGIN:VTIMEZONE
TZID:Europe/Vienna
BEGIN:DAYLIGHT
TZOFFSETFROM:+0100
TZOFFSETTO:+0200
TZNAME:CEST
DTSTART:20250330T010000
END:DAYLIGHT
BEGIN:STANDARD
TZOFFSETFROM:+0200
TZOFFSETTO:+0100
TZNAME:CET
DTSTART:20251026T010000
END:STANDARD
BEGIN:DAYLIGHT
TZOFFSETFROM:+0100
TZOFFSETTO:+0200
TZNAME:CEST
DTSTART:20260329T010000
END:DAYLIGHT
BEGIN:STANDARD
TZOFFSETFROM:+0200
TZOFFSETTO:+0100
TZNAME:CET
DTSTART:20261025T010000
END:STANDARD
BEGIN:DAYLIGHT
TZOFFSETFROM:+0100
TZOFFSETTO:+0200
TZNAME:CEST
DTSTART:20270328T010000
END:DAYLIGHT
BEGIN:STANDARD
TZOFFSETFROM:+0200
TZOFFSETTO:+0100
TZNAME:CET
DTSTART:20271031T010000
END:STANDARD
END:VTIMEZONE
BEGIN:VEVENT
DTSTART;TZID=Europe/Vienna:20260424T140000
DTEND;TZID=Europe/Vienna:20260424T203000
DTSTAMP:20260422T002459
CREATED:20260421T145018Z
LAST-MODIFIED:20260421T145636Z
UID:10046168-1777039200-1777062600@www.stadtmarketing-klosterneuburg.at
SUMMARY:Music Weekend @Uferhaus
DESCRIPTION:Veranstaltungen\n\n\nFreitag\, 24.4. | 14 Uhr DJ Eisbær – Daydrinking Music\nSamstag\, 25.4. | 14 Uhr DJ Andy – Afro Tribal House\nSonntag\, 26.4. | 14 Uhr DJ Eisbær – Chill Out Music\n\nVorausgesetzt das Wetter passt!
URL:https://www.stadtmarketing-klosterneuburg.at/veranstaltung/music-weekend-uferhaus-4/2026-04-24/
LOCATION:Uferhaus\, Rollfährestraße 200\, Klosterneuburg\, 3400\, Austria
CATEGORIES:Clubbings & Parties,Kulinarik & Wein,Kunst & Kultur,Musik & Konzerte
ATTACH;FMTTYPE=image/jpeg:https://www.stadtmarketing-klosterneuburg.at/wp-content/uploads/2022/04/Uferhaus-c-Uferhaus.jpg
END:VEVENT
BEGIN:VEVENT
DTSTART;TZID=Europe/Vienna:20260425T140000
DTEND;TZID=Europe/Vienna:20260425T203000
DTSTAMP:20260422T002459
CREATED:20260421T145018Z
LAST-MODIFIED:20260421T145636Z
UID:10046169-1777125600-1777149000@www.stadtmarketing-klosterneuburg.at
SUMMARY:Music Weekend @Uferhaus
DESCRIPTION:Veranstaltungen\n\n\nFreitag\, 24.4. | 14 Uhr DJ Eisbær – Daydrinking Music\nSamstag\, 25.4. | 14 Uhr DJ Andy – Afro Tribal House\nSonntag\, 26.4. | 14 Uhr DJ Eisbær – Chill Out Music\n\nVorausgesetzt das Wetter passt!
URL:https://www.stadtmarketing-klosterneuburg.at/veranstaltung/music-weekend-uferhaus-4/2026-04-25/
LOCATION:Uferhaus\, Rollfährestraße 200\, Klosterneuburg\, 3400\, Austria
CATEGORIES:Clubbings & Parties,Kulinarik & Wein,Kunst & Kultur,Musik & Konzerte
ATTACH;FMTTYPE=image/jpeg:https://www.stadtmarketing-klosterneuburg.at/wp-content/uploads/2022/04/Uferhaus-c-Uferhaus.jpg
END:VEVENT
BEGIN:VEVENT
DTSTART;TZID=Europe/Vienna:20260426T140000
DTEND;TZID=Europe/Vienna:20260426T203000
DTSTAMP:20260422T002459
CREATED:20260421T145018Z
LAST-MODIFIED:20260421T145636Z
UID:10046170-1777212000-1777235400@www.stadtmarketing-klosterneuburg.at
SUMMARY:Music Weekend @Uferhaus
DESCRIPTION:Veranstaltungen\n\n\nFreitag\, 24.4. | 14 Uhr DJ Eisbær – Daydrinking Music\nSamstag\, 25.4. | 14 Uhr DJ Andy – Afro Tribal House\nSonntag\, 26.4. | 14 Uhr DJ Eisbær – Chill Out Music\n\nVorausgesetzt das Wetter passt!
URL:https://www.stadtmarketing-klosterneuburg.at/veranstaltung/music-weekend-uferhaus-4/2026-04-26/
LOCATION:Uferhaus\, Rollfährestraße 200\, Klosterneuburg\, 3400\, Austria
CATEGORIES:Clubbings & Parties,Kulinarik & Wein,Kunst & Kultur,Musik & Konzerte
ATTACH;FMTTYPE=image/jpeg:https://www.stadtmarketing-klosterneuburg.at/wp-content/uploads/2022/04/Uferhaus-c-Uferhaus.jpg
END:VEVENT
END:VCALENDAR