BEGIN:VCALENDAR
VERSION:2.0
PRODID:-//Stadtmarketing Klosterneuburg - ECPv6.15.20//NONSGML v1.0//EN
CALSCALE:GREGORIAN
METHOD:PUBLISH
X-ORIGINAL-URL:https://www.stadtmarketing-klosterneuburg.at
X-WR-CALDESC:Veranstaltungen für Stadtmarketing Klosterneuburg
REFRESH-INTERVAL;VALUE=DURATION:PT1H
X-Robots-Tag:noindex
X-PUBLISHED-TTL:PT1H
BEGIN:VTIMEZONE
TZID:Europe/Vienna
BEGIN:DAYLIGHT
TZOFFSETFROM:+0100
TZOFFSETTO:+0200
TZNAME:CEST
DTSTART:20250330T010000
END:DAYLIGHT
BEGIN:STANDARD
TZOFFSETFROM:+0200
TZOFFSETTO:+0100
TZNAME:CET
DTSTART:20251026T010000
END:STANDARD
BEGIN:DAYLIGHT
TZOFFSETFROM:+0100
TZOFFSETTO:+0200
TZNAME:CEST
DTSTART:20260329T010000
END:DAYLIGHT
BEGIN:STANDARD
TZOFFSETFROM:+0200
TZOFFSETTO:+0100
TZNAME:CET
DTSTART:20261025T010000
END:STANDARD
BEGIN:DAYLIGHT
TZOFFSETFROM:+0100
TZOFFSETTO:+0200
TZNAME:CEST
DTSTART:20270328T010000
END:DAYLIGHT
BEGIN:STANDARD
TZOFFSETFROM:+0200
TZOFFSETTO:+0100
TZNAME:CET
DTSTART:20271031T010000
END:STANDARD
END:VTIMEZONE
BEGIN:VEVENT
DTSTART;TZID=Europe/Vienna:20260505T180000
DTEND;TZID=Europe/Vienna:20260505T193000
DTSTAMP:20260421T192458
CREATED:20250908T144224Z
LAST-MODIFIED:20250908T144328Z
UID:10042881-1778004000-1778009400@www.stadtmarketing-klosterneuburg.at
SUMMARY:Offene Trauergruppe
DESCRIPTION:Ehrenamtliche Begleitung für Trauernde\, die sich die Unterstützung und den Halt einer Gruppe wünschen. \nKeine Anmeldung erforderlich! Einstieg jederzeit möglich! \nOrt: 3400 Klosterneuburg\, Kreutzergasse 1 \n  \nVerein für mobile Hospizbegleitung St. Martin\n\nwww.hospiz-stmartin.at\n+43/ (0)664/ 422 79 05
URL:https://www.stadtmarketing-klosterneuburg.at/veranstaltung/offene-trauergruppe/2026-05-05/
CATEGORIES:Bildung,Vorträge & Diskussionen
ATTACH;FMTTYPE=image/jpeg:https://www.stadtmarketing-klosterneuburg.at/wp-content/uploads/2025/09/Trauergruppe2025-c-Hospiz-St.-Martin.jpg
END:VEVENT
BEGIN:VEVENT
DTSTART;TZID=Europe/Vienna:20260602T180000
DTEND;TZID=Europe/Vienna:20260602T193000
DTSTAMP:20260421T192458
CREATED:20250908T144224Z
LAST-MODIFIED:20250908T144328Z
UID:10042882-1780423200-1780428600@www.stadtmarketing-klosterneuburg.at
SUMMARY:Offene Trauergruppe
DESCRIPTION:Ehrenamtliche Begleitung für Trauernde\, die sich die Unterstützung und den Halt einer Gruppe wünschen. \nKeine Anmeldung erforderlich! Einstieg jederzeit möglich! \nOrt: 3400 Klosterneuburg\, Kreutzergasse 1 \n  \nVerein für mobile Hospizbegleitung St. Martin\n\nwww.hospiz-stmartin.at\n+43/ (0)664/ 422 79 05
URL:https://www.stadtmarketing-klosterneuburg.at/veranstaltung/offene-trauergruppe/2026-06-02/
CATEGORIES:Bildung,Vorträge & Diskussionen
ATTACH;FMTTYPE=image/jpeg:https://www.stadtmarketing-klosterneuburg.at/wp-content/uploads/2025/09/Trauergruppe2025-c-Hospiz-St.-Martin.jpg
END:VEVENT
END:VCALENDAR