BEGIN:VCALENDAR
VERSION:2.0
PRODID:-//Stadtmarketing Klosterneuburg - ECPv6.15.17.1//NONSGML v1.0//EN
CALSCALE:GREGORIAN
METHOD:PUBLISH
X-ORIGINAL-URL:https://www.stadtmarketing-klosterneuburg.at
X-WR-CALDESC:Veranstaltungen für Stadtmarketing Klosterneuburg
REFRESH-INTERVAL;VALUE=DURATION:PT1H
X-Robots-Tag:noindex
X-PUBLISHED-TTL:PT1H
BEGIN:VTIMEZONE
TZID:Europe/Vienna
BEGIN:DAYLIGHT
TZOFFSETFROM:+0100
TZOFFSETTO:+0200
TZNAME:CEST
DTSTART:20250330T010000
END:DAYLIGHT
BEGIN:STANDARD
TZOFFSETFROM:+0200
TZOFFSETTO:+0100
TZNAME:CET
DTSTART:20251026T010000
END:STANDARD
BEGIN:DAYLIGHT
TZOFFSETFROM:+0100
TZOFFSETTO:+0200
TZNAME:CEST
DTSTART:20260329T010000
END:DAYLIGHT
BEGIN:STANDARD
TZOFFSETFROM:+0200
TZOFFSETTO:+0100
TZNAME:CET
DTSTART:20261025T010000
END:STANDARD
BEGIN:DAYLIGHT
TZOFFSETFROM:+0100
TZOFFSETTO:+0200
TZNAME:CEST
DTSTART:20270328T010000
END:DAYLIGHT
BEGIN:STANDARD
TZOFFSETFROM:+0200
TZOFFSETTO:+0100
TZNAME:CET
DTSTART:20271031T010000
END:STANDARD
END:VTIMEZONE
BEGIN:VEVENT
DTSTART;TZID=Europe/Vienna:20260530T100000
DTEND;TZID=Europe/Vienna:20260530T123000
DTSTAMP:20260420T115821
CREATED:20260115T083542Z
LAST-MODIFIED:20260115T083713Z
UID:10044157-1780135200-1780144200@www.stadtmarketing-klosterneuburg.at
SUMMARY:Waldbaden 2026
DESCRIPTION:Eintauchen in die Stiftswälder\nWer in den Wald geht spürt es gleich: die Umgebung tut uns gut. Aber es ist nicht nur das Abtauchen von der Hektik des Alltags\, auch unser Immunsystem erlebt eine Stärkung. Sich dessen bewusst zu werden und durch gezielte Übungen die Heilwirkung des Waldes zu intensivieren\, das ist Shinrin Yoku\, das Waldbaden. \nDie Wälder des Stiftes Klosterneuburg bieten den Rahmen\, und es sind ausgewählte\, besonders stimmungsvolle Orte\, die Sie auf Ihrem 2\,5-stündigen Weg entdecken. Begleitet werden Sie von Zsófi Schmitz\, Naturvermittlerin und Waldbadentrainerin. Sie erleben inspirierende Achtsamkeitsübungen\, die die Verbindung zur Natur\, zum eigenen Selbst sowie zum großen Ganzen stärken. \nDas Programm findet auch bei leichtem Regen statt. (Absage bei Starkregen und Sturm/Gewitterwarnung). Bitte beachten Sie: Die Tour dauert 2\,5 Stunden und führt auch über nicht ausgetretene Pfade sowie teilweise bergauf. Mitzunehmen: Trinkwasser\, ev. kleine Jause\, wetterfeste Kleidung\, gutes Schuhwerk\, Sitzunterlage \nTermine:\n\nSa\, 11. April 2026 | 10 Uhr\nSa\, 30. Mai 2026 | 10 Uhr\nSa\, 13. Juni 2026 | 10 Uhr\nSa\, 29. August 2026 | 10 Uhr\nSa\, 12. September 2026 | 10 Uhr\nSa\, 3. Oktober 2026 | 10 Uhr\n\nTickets ausschließlich online bis 18 Uhr des Vortages buchbar: € 39\,- pro Termin\nBegrenzte Teilnehmer:innenzahl! \n\nONLINE\nFragen zum Onlineticketing: ticketservice@stift-klosterneuburg.at
URL:https://www.stadtmarketing-klosterneuburg.at/veranstaltung/waldbaden-2026/2026-05-30/
CATEGORIES:Führungen, Wanderungen & Touren,Natur,Outdoorsport,Sport & Gesundheit
ATTACH;FMTTYPE=image/jpeg:https://www.stadtmarketing-klosterneuburg.at/wp-content/uploads/2023/05/Waldbaden-c-Stift-Klbg.jpg
END:VEVENT
BEGIN:VEVENT
DTSTART;TZID=Europe/Vienna:20260613T100000
DTEND;TZID=Europe/Vienna:20260613T123000
DTSTAMP:20260420T115821
CREATED:20260115T083542Z
LAST-MODIFIED:20260115T083713Z
UID:10044158-1781344800-1781353800@www.stadtmarketing-klosterneuburg.at
SUMMARY:Waldbaden 2026
DESCRIPTION:Eintauchen in die Stiftswälder\nWer in den Wald geht spürt es gleich: die Umgebung tut uns gut. Aber es ist nicht nur das Abtauchen von der Hektik des Alltags\, auch unser Immunsystem erlebt eine Stärkung. Sich dessen bewusst zu werden und durch gezielte Übungen die Heilwirkung des Waldes zu intensivieren\, das ist Shinrin Yoku\, das Waldbaden. \nDie Wälder des Stiftes Klosterneuburg bieten den Rahmen\, und es sind ausgewählte\, besonders stimmungsvolle Orte\, die Sie auf Ihrem 2\,5-stündigen Weg entdecken. Begleitet werden Sie von Zsófi Schmitz\, Naturvermittlerin und Waldbadentrainerin. Sie erleben inspirierende Achtsamkeitsübungen\, die die Verbindung zur Natur\, zum eigenen Selbst sowie zum großen Ganzen stärken. \nDas Programm findet auch bei leichtem Regen statt. (Absage bei Starkregen und Sturm/Gewitterwarnung). Bitte beachten Sie: Die Tour dauert 2\,5 Stunden und führt auch über nicht ausgetretene Pfade sowie teilweise bergauf. Mitzunehmen: Trinkwasser\, ev. kleine Jause\, wetterfeste Kleidung\, gutes Schuhwerk\, Sitzunterlage \nTermine:\n\nSa\, 11. April 2026 | 10 Uhr\nSa\, 30. Mai 2026 | 10 Uhr\nSa\, 13. Juni 2026 | 10 Uhr\nSa\, 29. August 2026 | 10 Uhr\nSa\, 12. September 2026 | 10 Uhr\nSa\, 3. Oktober 2026 | 10 Uhr\n\nTickets ausschließlich online bis 18 Uhr des Vortages buchbar: € 39\,- pro Termin\nBegrenzte Teilnehmer:innenzahl! \n\nONLINE\nFragen zum Onlineticketing: ticketservice@stift-klosterneuburg.at
URL:https://www.stadtmarketing-klosterneuburg.at/veranstaltung/waldbaden-2026/2026-06-13/
CATEGORIES:Führungen, Wanderungen & Touren,Natur,Outdoorsport,Sport & Gesundheit
ATTACH;FMTTYPE=image/jpeg:https://www.stadtmarketing-klosterneuburg.at/wp-content/uploads/2023/05/Waldbaden-c-Stift-Klbg.jpg
END:VEVENT
BEGIN:VEVENT
DTSTART;TZID=Europe/Vienna:20260829T100000
DTEND;TZID=Europe/Vienna:20260829T123000
DTSTAMP:20260420T115821
CREATED:20260115T083542Z
LAST-MODIFIED:20260115T083713Z
UID:10044159-1787997600-1788006600@www.stadtmarketing-klosterneuburg.at
SUMMARY:Waldbaden 2026
DESCRIPTION:Eintauchen in die Stiftswälder\nWer in den Wald geht spürt es gleich: die Umgebung tut uns gut. Aber es ist nicht nur das Abtauchen von der Hektik des Alltags\, auch unser Immunsystem erlebt eine Stärkung. Sich dessen bewusst zu werden und durch gezielte Übungen die Heilwirkung des Waldes zu intensivieren\, das ist Shinrin Yoku\, das Waldbaden. \nDie Wälder des Stiftes Klosterneuburg bieten den Rahmen\, und es sind ausgewählte\, besonders stimmungsvolle Orte\, die Sie auf Ihrem 2\,5-stündigen Weg entdecken. Begleitet werden Sie von Zsófi Schmitz\, Naturvermittlerin und Waldbadentrainerin. Sie erleben inspirierende Achtsamkeitsübungen\, die die Verbindung zur Natur\, zum eigenen Selbst sowie zum großen Ganzen stärken. \nDas Programm findet auch bei leichtem Regen statt. (Absage bei Starkregen und Sturm/Gewitterwarnung). Bitte beachten Sie: Die Tour dauert 2\,5 Stunden und führt auch über nicht ausgetretene Pfade sowie teilweise bergauf. Mitzunehmen: Trinkwasser\, ev. kleine Jause\, wetterfeste Kleidung\, gutes Schuhwerk\, Sitzunterlage \nTermine:\n\nSa\, 11. April 2026 | 10 Uhr\nSa\, 30. Mai 2026 | 10 Uhr\nSa\, 13. Juni 2026 | 10 Uhr\nSa\, 29. August 2026 | 10 Uhr\nSa\, 12. September 2026 | 10 Uhr\nSa\, 3. Oktober 2026 | 10 Uhr\n\nTickets ausschließlich online bis 18 Uhr des Vortages buchbar: € 39\,- pro Termin\nBegrenzte Teilnehmer:innenzahl! \n\nONLINE\nFragen zum Onlineticketing: ticketservice@stift-klosterneuburg.at
URL:https://www.stadtmarketing-klosterneuburg.at/veranstaltung/waldbaden-2026/2026-08-29/
CATEGORIES:Führungen, Wanderungen & Touren,Natur,Outdoorsport,Sport & Gesundheit
ATTACH;FMTTYPE=image/jpeg:https://www.stadtmarketing-klosterneuburg.at/wp-content/uploads/2023/05/Waldbaden-c-Stift-Klbg.jpg
END:VEVENT
BEGIN:VEVENT
DTSTART;TZID=Europe/Vienna:20260912T100000
DTEND;TZID=Europe/Vienna:20260912T123000
DTSTAMP:20260420T115821
CREATED:20260115T083542Z
LAST-MODIFIED:20260115T083713Z
UID:10044160-1789207200-1789216200@www.stadtmarketing-klosterneuburg.at
SUMMARY:Waldbaden 2026
DESCRIPTION:Eintauchen in die Stiftswälder\nWer in den Wald geht spürt es gleich: die Umgebung tut uns gut. Aber es ist nicht nur das Abtauchen von der Hektik des Alltags\, auch unser Immunsystem erlebt eine Stärkung. Sich dessen bewusst zu werden und durch gezielte Übungen die Heilwirkung des Waldes zu intensivieren\, das ist Shinrin Yoku\, das Waldbaden. \nDie Wälder des Stiftes Klosterneuburg bieten den Rahmen\, und es sind ausgewählte\, besonders stimmungsvolle Orte\, die Sie auf Ihrem 2\,5-stündigen Weg entdecken. Begleitet werden Sie von Zsófi Schmitz\, Naturvermittlerin und Waldbadentrainerin. Sie erleben inspirierende Achtsamkeitsübungen\, die die Verbindung zur Natur\, zum eigenen Selbst sowie zum großen Ganzen stärken. \nDas Programm findet auch bei leichtem Regen statt. (Absage bei Starkregen und Sturm/Gewitterwarnung). Bitte beachten Sie: Die Tour dauert 2\,5 Stunden und führt auch über nicht ausgetretene Pfade sowie teilweise bergauf. Mitzunehmen: Trinkwasser\, ev. kleine Jause\, wetterfeste Kleidung\, gutes Schuhwerk\, Sitzunterlage \nTermine:\n\nSa\, 11. April 2026 | 10 Uhr\nSa\, 30. Mai 2026 | 10 Uhr\nSa\, 13. Juni 2026 | 10 Uhr\nSa\, 29. August 2026 | 10 Uhr\nSa\, 12. September 2026 | 10 Uhr\nSa\, 3. Oktober 2026 | 10 Uhr\n\nTickets ausschließlich online bis 18 Uhr des Vortages buchbar: € 39\,- pro Termin\nBegrenzte Teilnehmer:innenzahl! \n\nONLINE\nFragen zum Onlineticketing: ticketservice@stift-klosterneuburg.at
URL:https://www.stadtmarketing-klosterneuburg.at/veranstaltung/waldbaden-2026/2026-09-12/
CATEGORIES:Führungen, Wanderungen & Touren,Natur,Outdoorsport,Sport & Gesundheit
ATTACH;FMTTYPE=image/jpeg:https://www.stadtmarketing-klosterneuburg.at/wp-content/uploads/2023/05/Waldbaden-c-Stift-Klbg.jpg
END:VEVENT
BEGIN:VEVENT
DTSTART;TZID=Europe/Vienna:20261003T100000
DTEND;TZID=Europe/Vienna:20261003T123000
DTSTAMP:20260420T115821
CREATED:20260115T083542Z
LAST-MODIFIED:20260115T083713Z
UID:10044161-1791021600-1791030600@www.stadtmarketing-klosterneuburg.at
SUMMARY:Waldbaden 2026
DESCRIPTION:Eintauchen in die Stiftswälder\nWer in den Wald geht spürt es gleich: die Umgebung tut uns gut. Aber es ist nicht nur das Abtauchen von der Hektik des Alltags\, auch unser Immunsystem erlebt eine Stärkung. Sich dessen bewusst zu werden und durch gezielte Übungen die Heilwirkung des Waldes zu intensivieren\, das ist Shinrin Yoku\, das Waldbaden. \nDie Wälder des Stiftes Klosterneuburg bieten den Rahmen\, und es sind ausgewählte\, besonders stimmungsvolle Orte\, die Sie auf Ihrem 2\,5-stündigen Weg entdecken. Begleitet werden Sie von Zsófi Schmitz\, Naturvermittlerin und Waldbadentrainerin. Sie erleben inspirierende Achtsamkeitsübungen\, die die Verbindung zur Natur\, zum eigenen Selbst sowie zum großen Ganzen stärken. \nDas Programm findet auch bei leichtem Regen statt. (Absage bei Starkregen und Sturm/Gewitterwarnung). Bitte beachten Sie: Die Tour dauert 2\,5 Stunden und führt auch über nicht ausgetretene Pfade sowie teilweise bergauf. Mitzunehmen: Trinkwasser\, ev. kleine Jause\, wetterfeste Kleidung\, gutes Schuhwerk\, Sitzunterlage \nTermine:\n\nSa\, 11. April 2026 | 10 Uhr\nSa\, 30. Mai 2026 | 10 Uhr\nSa\, 13. Juni 2026 | 10 Uhr\nSa\, 29. August 2026 | 10 Uhr\nSa\, 12. September 2026 | 10 Uhr\nSa\, 3. Oktober 2026 | 10 Uhr\n\nTickets ausschließlich online bis 18 Uhr des Vortages buchbar: € 39\,- pro Termin\nBegrenzte Teilnehmer:innenzahl! \n\nONLINE\nFragen zum Onlineticketing: ticketservice@stift-klosterneuburg.at
URL:https://www.stadtmarketing-klosterneuburg.at/veranstaltung/waldbaden-2026/2026-10-03/
CATEGORIES:Führungen, Wanderungen & Touren,Natur,Outdoorsport,Sport & Gesundheit
ATTACH;FMTTYPE=image/jpeg:https://www.stadtmarketing-klosterneuburg.at/wp-content/uploads/2023/05/Waldbaden-c-Stift-Klbg.jpg
END:VEVENT
END:VCALENDAR