BEGIN:VCALENDAR
VERSION:2.0
PRODID:-//Stadtmarketing Klosterneuburg - ECPv6.15.17.1//NONSGML v1.0//EN
CALSCALE:GREGORIAN
METHOD:PUBLISH
X-ORIGINAL-URL:https://www.stadtmarketing-klosterneuburg.at
X-WR-CALDESC:Veranstaltungen für Stadtmarketing Klosterneuburg
REFRESH-INTERVAL;VALUE=DURATION:PT1H
X-Robots-Tag:noindex
X-PUBLISHED-TTL:PT1H
BEGIN:VTIMEZONE
TZID:Europe/Vienna
BEGIN:DAYLIGHT
TZOFFSETFROM:+0100
TZOFFSETTO:+0200
TZNAME:CEST
DTSTART:20250330T010000
END:DAYLIGHT
BEGIN:STANDARD
TZOFFSETFROM:+0200
TZOFFSETTO:+0100
TZNAME:CET
DTSTART:20251026T010000
END:STANDARD
BEGIN:DAYLIGHT
TZOFFSETFROM:+0100
TZOFFSETTO:+0200
TZNAME:CEST
DTSTART:20260329T010000
END:DAYLIGHT
BEGIN:STANDARD
TZOFFSETFROM:+0200
TZOFFSETTO:+0100
TZNAME:CET
DTSTART:20261025T010000
END:STANDARD
BEGIN:DAYLIGHT
TZOFFSETFROM:+0100
TZOFFSETTO:+0200
TZNAME:CEST
DTSTART:20270328T010000
END:DAYLIGHT
BEGIN:STANDARD
TZOFFSETFROM:+0200
TZOFFSETTO:+0100
TZNAME:CET
DTSTART:20271031T010000
END:STANDARD
END:VTIMEZONE
BEGIN:VEVENT
DTSTART;TZID=Europe/Vienna:20260513T090000
DTEND;TZID=Europe/Vienna:20260513T210000
DTSTAMP:20260420T170749
CREATED:20260203T151842Z
LAST-MODIFIED:20260203T152157Z
UID:10044483-1778662800-1778706000@www.stadtmarketing-klosterneuburg.at
SUMMARY:Italienischer Markt
DESCRIPTION:Der „Mercato Italiano“ bringt Dolce Vita\, italienisches Flair und kulinarische Köstlichkeiten nach Klosterneuburg. \nVon Mittwoch\, 13. bis Samstag\, 16. Mai 2026 wird jeweils von 9 – 21 Uhr eine große Auswahl an frischen regionaltypischen Produkten angeboten. \nVertreten sind Sizilien mit Mandelgebäck und sizilianischen Weinen\, Sardinien mit dem Schafskäse Pecorino\, Apulien mit verschiedenen Brotsorten und dem Salzgebäck Taralli\, die Toskana mit Gorgonzola und regionalen Weinen\, die Lombardei mit Salami und Pasta\, Umbrien mit Prosciutto crudo und Trüffelprodukten\, Kalabrien mit dem Riesenkäse Provolone\, sowie Südtirol mit Speck\, Hirschsalami\, Gamswurst\, Schüttelbrot und Vinschgerl.
URL:https://www.stadtmarketing-klosterneuburg.at/veranstaltung/italienischer-markt-6/2026-05-13/
LOCATION:Rathausplatz\, Rathausplatz\, Klosterneuburg\, Niederösterreich\, 3400\, Austria
CATEGORIES:Einkaufen & Wirtschaft,Märkte
ATTACH;FMTTYPE=image/jpeg:https://www.stadtmarketing-klosterneuburg.at/wp-content/uploads/2020/08/BZIB35202-scaled.jpg
END:VEVENT
BEGIN:VEVENT
DTSTART;TZID=Europe/Vienna:20260514T090000
DTEND;TZID=Europe/Vienna:20260514T210000
DTSTAMP:20260420T170749
CREATED:20260203T151842Z
LAST-MODIFIED:20260203T152157Z
UID:10044484-1778749200-1778792400@www.stadtmarketing-klosterneuburg.at
SUMMARY:Italienischer Markt
DESCRIPTION:Der „Mercato Italiano“ bringt Dolce Vita\, italienisches Flair und kulinarische Köstlichkeiten nach Klosterneuburg. \nVon Mittwoch\, 13. bis Samstag\, 16. Mai 2026 wird jeweils von 9 – 21 Uhr eine große Auswahl an frischen regionaltypischen Produkten angeboten. \nVertreten sind Sizilien mit Mandelgebäck und sizilianischen Weinen\, Sardinien mit dem Schafskäse Pecorino\, Apulien mit verschiedenen Brotsorten und dem Salzgebäck Taralli\, die Toskana mit Gorgonzola und regionalen Weinen\, die Lombardei mit Salami und Pasta\, Umbrien mit Prosciutto crudo und Trüffelprodukten\, Kalabrien mit dem Riesenkäse Provolone\, sowie Südtirol mit Speck\, Hirschsalami\, Gamswurst\, Schüttelbrot und Vinschgerl.
URL:https://www.stadtmarketing-klosterneuburg.at/veranstaltung/italienischer-markt-6/2026-05-14/
LOCATION:Rathausplatz\, Rathausplatz\, Klosterneuburg\, Niederösterreich\, 3400\, Austria
CATEGORIES:Einkaufen & Wirtschaft,Märkte
ATTACH;FMTTYPE=image/jpeg:https://www.stadtmarketing-klosterneuburg.at/wp-content/uploads/2020/08/BZIB35202-scaled.jpg
END:VEVENT
BEGIN:VEVENT
DTSTART;TZID=Europe/Vienna:20260515T090000
DTEND;TZID=Europe/Vienna:20260515T210000
DTSTAMP:20260420T170749
CREATED:20260203T151842Z
LAST-MODIFIED:20260203T152157Z
UID:10044485-1778835600-1778878800@www.stadtmarketing-klosterneuburg.at
SUMMARY:Italienischer Markt
DESCRIPTION:Der „Mercato Italiano“ bringt Dolce Vita\, italienisches Flair und kulinarische Köstlichkeiten nach Klosterneuburg. \nVon Mittwoch\, 13. bis Samstag\, 16. Mai 2026 wird jeweils von 9 – 21 Uhr eine große Auswahl an frischen regionaltypischen Produkten angeboten. \nVertreten sind Sizilien mit Mandelgebäck und sizilianischen Weinen\, Sardinien mit dem Schafskäse Pecorino\, Apulien mit verschiedenen Brotsorten und dem Salzgebäck Taralli\, die Toskana mit Gorgonzola und regionalen Weinen\, die Lombardei mit Salami und Pasta\, Umbrien mit Prosciutto crudo und Trüffelprodukten\, Kalabrien mit dem Riesenkäse Provolone\, sowie Südtirol mit Speck\, Hirschsalami\, Gamswurst\, Schüttelbrot und Vinschgerl.
URL:https://www.stadtmarketing-klosterneuburg.at/veranstaltung/italienischer-markt-6/2026-05-15/
LOCATION:Rathausplatz\, Rathausplatz\, Klosterneuburg\, Niederösterreich\, 3400\, Austria
CATEGORIES:Einkaufen & Wirtschaft,Märkte
ATTACH;FMTTYPE=image/jpeg:https://www.stadtmarketing-klosterneuburg.at/wp-content/uploads/2020/08/BZIB35202-scaled.jpg
END:VEVENT
BEGIN:VEVENT
DTSTART;TZID=Europe/Vienna:20260516T090000
DTEND;TZID=Europe/Vienna:20260516T210000
DTSTAMP:20260420T170749
CREATED:20260203T151842Z
LAST-MODIFIED:20260203T152157Z
UID:10044486-1778922000-1778965200@www.stadtmarketing-klosterneuburg.at
SUMMARY:Italienischer Markt
DESCRIPTION:Der „Mercato Italiano“ bringt Dolce Vita\, italienisches Flair und kulinarische Köstlichkeiten nach Klosterneuburg. \nVon Mittwoch\, 13. bis Samstag\, 16. Mai 2026 wird jeweils von 9 – 21 Uhr eine große Auswahl an frischen regionaltypischen Produkten angeboten. \nVertreten sind Sizilien mit Mandelgebäck und sizilianischen Weinen\, Sardinien mit dem Schafskäse Pecorino\, Apulien mit verschiedenen Brotsorten und dem Salzgebäck Taralli\, die Toskana mit Gorgonzola und regionalen Weinen\, die Lombardei mit Salami und Pasta\, Umbrien mit Prosciutto crudo und Trüffelprodukten\, Kalabrien mit dem Riesenkäse Provolone\, sowie Südtirol mit Speck\, Hirschsalami\, Gamswurst\, Schüttelbrot und Vinschgerl.
URL:https://www.stadtmarketing-klosterneuburg.at/veranstaltung/italienischer-markt-6/2026-05-16/
LOCATION:Rathausplatz\, Rathausplatz\, Klosterneuburg\, Niederösterreich\, 3400\, Austria
CATEGORIES:Einkaufen & Wirtschaft,Märkte
ATTACH;FMTTYPE=image/jpeg:https://www.stadtmarketing-klosterneuburg.at/wp-content/uploads/2020/08/BZIB35202-scaled.jpg
END:VEVENT
END:VCALENDAR