BEGIN:VCALENDAR
VERSION:2.0
PRODID:-//Stadtmarketing Klosterneuburg - ECPv6.15.20//NONSGML v1.0//EN
CALSCALE:GREGORIAN
METHOD:PUBLISH
X-ORIGINAL-URL:https://www.stadtmarketing-klosterneuburg.at
X-WR-CALDESC:Veranstaltungen für Stadtmarketing Klosterneuburg
REFRESH-INTERVAL;VALUE=DURATION:PT1H
X-Robots-Tag:noindex
X-PUBLISHED-TTL:PT1H
BEGIN:VTIMEZONE
TZID:Europe/Vienna
BEGIN:DAYLIGHT
TZOFFSETFROM:+0100
TZOFFSETTO:+0200
TZNAME:CEST
DTSTART:20250330T010000
END:DAYLIGHT
BEGIN:STANDARD
TZOFFSETFROM:+0200
TZOFFSETTO:+0100
TZNAME:CET
DTSTART:20251026T010000
END:STANDARD
BEGIN:DAYLIGHT
TZOFFSETFROM:+0100
TZOFFSETTO:+0200
TZNAME:CEST
DTSTART:20260329T010000
END:DAYLIGHT
BEGIN:STANDARD
TZOFFSETFROM:+0200
TZOFFSETTO:+0100
TZNAME:CET
DTSTART:20261025T010000
END:STANDARD
BEGIN:DAYLIGHT
TZOFFSETFROM:+0100
TZOFFSETTO:+0200
TZNAME:CEST
DTSTART:20270328T010000
END:DAYLIGHT
BEGIN:STANDARD
TZOFFSETFROM:+0200
TZOFFSETTO:+0100
TZNAME:CET
DTSTART:20271031T010000
END:STANDARD
END:VTIMEZONE
BEGIN:VEVENT
DTSTART;TZID=Europe/Vienna:20260606T100000
DTEND;TZID=Europe/Vienna:20260606T150000
DTSTAMP:20260422T124709
CREATED:20260223T133046Z
LAST-MODIFIED:20260223T133320Z
UID:10045101-1780740000-1780758000@www.stadtmarketing-klosterneuburg.at
SUMMARY:Sektbrunch in der Stiftsvinothek
DESCRIPTION:Unter dem Motto „Es muss nicht immer Champagner sein“ lädt die Vinothek Stift Klosterneuburg zu einem exklusiven Sektbrunch ein! \nGenießen Sie ein vielseitiges Buffet mit feinen Köstlichkeiten – begleitet von einer erlesenen Auswahl an Schaumweinen der Stifts-Vinothek. \nOrt: Vinothek Stift Klosterneuburg\nZeit: 10 – 15 Uhr\nPreis: € 45 / Erwachsener inkl. 3 Glas Sekt \nAnmeldung:\n\nONLINE
URL:https://www.stadtmarketing-klosterneuburg.at/veranstaltung/sektbrunch-in-der-stiftsvinothek/2026-06-06/
LOCATION:Vinothek Stift Klosterneuburg\, Rathausplatz 24\, Klosterneuburg\, Niederösterreich\, 3400\, Austria
CATEGORIES:Kulinarik & Wein,Kulinarische Veranstaltung,Weinpräsentationen & Verkostungen
ATTACH;FMTTYPE=image/jpeg:https://www.stadtmarketing-klosterneuburg.at/wp-content/uploads/2022/04/Sektbrunch-c-Pixabay.jpg
END:VEVENT
BEGIN:VEVENT
DTSTART;TZID=Europe/Vienna:20260711T100000
DTEND;TZID=Europe/Vienna:20260711T150000
DTSTAMP:20260422T124709
CREATED:20260223T133046Z
LAST-MODIFIED:20260223T133320Z
UID:10045102-1783764000-1783782000@www.stadtmarketing-klosterneuburg.at
SUMMARY:Sektbrunch in der Stiftsvinothek
DESCRIPTION:Unter dem Motto „Es muss nicht immer Champagner sein“ lädt die Vinothek Stift Klosterneuburg zu einem exklusiven Sektbrunch ein! \nGenießen Sie ein vielseitiges Buffet mit feinen Köstlichkeiten – begleitet von einer erlesenen Auswahl an Schaumweinen der Stifts-Vinothek. \nOrt: Vinothek Stift Klosterneuburg\nZeit: 10 – 15 Uhr\nPreis: € 45 / Erwachsener inkl. 3 Glas Sekt \nAnmeldung:\n\nONLINE
URL:https://www.stadtmarketing-klosterneuburg.at/veranstaltung/sektbrunch-in-der-stiftsvinothek/2026-07-11/
LOCATION:Vinothek Stift Klosterneuburg\, Rathausplatz 24\, Klosterneuburg\, Niederösterreich\, 3400\, Austria
CATEGORIES:Kulinarik & Wein,Kulinarische Veranstaltung,Weinpräsentationen & Verkostungen
ATTACH;FMTTYPE=image/jpeg:https://www.stadtmarketing-klosterneuburg.at/wp-content/uploads/2022/04/Sektbrunch-c-Pixabay.jpg
END:VEVENT
BEGIN:VEVENT
DTSTART;TZID=Europe/Vienna:20260808T100000
DTEND;TZID=Europe/Vienna:20260808T150000
DTSTAMP:20260422T124709
CREATED:20260223T133046Z
LAST-MODIFIED:20260223T133320Z
UID:10045103-1786183200-1786201200@www.stadtmarketing-klosterneuburg.at
SUMMARY:Sektbrunch in der Stiftsvinothek
DESCRIPTION:Unter dem Motto „Es muss nicht immer Champagner sein“ lädt die Vinothek Stift Klosterneuburg zu einem exklusiven Sektbrunch ein! \nGenießen Sie ein vielseitiges Buffet mit feinen Köstlichkeiten – begleitet von einer erlesenen Auswahl an Schaumweinen der Stifts-Vinothek. \nOrt: Vinothek Stift Klosterneuburg\nZeit: 10 – 15 Uhr\nPreis: € 45 / Erwachsener inkl. 3 Glas Sekt \nAnmeldung:\n\nONLINE
URL:https://www.stadtmarketing-klosterneuburg.at/veranstaltung/sektbrunch-in-der-stiftsvinothek/2026-08-08/
LOCATION:Vinothek Stift Klosterneuburg\, Rathausplatz 24\, Klosterneuburg\, Niederösterreich\, 3400\, Austria
CATEGORIES:Kulinarik & Wein,Kulinarische Veranstaltung,Weinpräsentationen & Verkostungen
ATTACH;FMTTYPE=image/jpeg:https://www.stadtmarketing-klosterneuburg.at/wp-content/uploads/2022/04/Sektbrunch-c-Pixabay.jpg
END:VEVENT
BEGIN:VEVENT
DTSTART;TZID=Europe/Vienna:20261024T100000
DTEND;TZID=Europe/Vienna:20261024T150000
DTSTAMP:20260422T124709
CREATED:20260223T133046Z
LAST-MODIFIED:20260223T133320Z
UID:10045104-1792836000-1792854000@www.stadtmarketing-klosterneuburg.at
SUMMARY:Sektbrunch in der Stiftsvinothek
DESCRIPTION:Unter dem Motto „Es muss nicht immer Champagner sein“ lädt die Vinothek Stift Klosterneuburg zu einem exklusiven Sektbrunch ein! \nGenießen Sie ein vielseitiges Buffet mit feinen Köstlichkeiten – begleitet von einer erlesenen Auswahl an Schaumweinen der Stifts-Vinothek. \nOrt: Vinothek Stift Klosterneuburg\nZeit: 10 – 15 Uhr\nPreis: € 45 / Erwachsener inkl. 3 Glas Sekt \nAnmeldung:\n\nONLINE
URL:https://www.stadtmarketing-klosterneuburg.at/veranstaltung/sektbrunch-in-der-stiftsvinothek/2026-10-24/
LOCATION:Vinothek Stift Klosterneuburg\, Rathausplatz 24\, Klosterneuburg\, Niederösterreich\, 3400\, Austria
CATEGORIES:Kulinarik & Wein,Kulinarische Veranstaltung,Weinpräsentationen & Verkostungen
ATTACH;FMTTYPE=image/jpeg:https://www.stadtmarketing-klosterneuburg.at/wp-content/uploads/2022/04/Sektbrunch-c-Pixabay.jpg
END:VEVENT
END:VCALENDAR