BEGIN:VCALENDAR
VERSION:2.0
PRODID:-//Stadtmarketing Klosterneuburg - ECPv6.15.20//NONSGML v1.0//EN
CALSCALE:GREGORIAN
METHOD:PUBLISH
X-ORIGINAL-URL:https://www.stadtmarketing-klosterneuburg.at
X-WR-CALDESC:Veranstaltungen für Stadtmarketing Klosterneuburg
REFRESH-INTERVAL;VALUE=DURATION:PT1H
X-Robots-Tag:noindex
X-PUBLISHED-TTL:PT1H
BEGIN:VTIMEZONE
TZID:Europe/Vienna
BEGIN:DAYLIGHT
TZOFFSETFROM:+0100
TZOFFSETTO:+0200
TZNAME:CEST
DTSTART:20250330T010000
END:DAYLIGHT
BEGIN:STANDARD
TZOFFSETFROM:+0200
TZOFFSETTO:+0100
TZNAME:CET
DTSTART:20251026T010000
END:STANDARD
BEGIN:DAYLIGHT
TZOFFSETFROM:+0100
TZOFFSETTO:+0200
TZNAME:CEST
DTSTART:20260329T010000
END:DAYLIGHT
BEGIN:STANDARD
TZOFFSETFROM:+0200
TZOFFSETTO:+0100
TZNAME:CET
DTSTART:20261025T010000
END:STANDARD
BEGIN:DAYLIGHT
TZOFFSETFROM:+0100
TZOFFSETTO:+0200
TZNAME:CEST
DTSTART:20270328T010000
END:DAYLIGHT
BEGIN:STANDARD
TZOFFSETFROM:+0200
TZOFFSETTO:+0100
TZNAME:CET
DTSTART:20271031T010000
END:STANDARD
END:VTIMEZONE
BEGIN:VEVENT
DTSTART;TZID=Europe/Vienna:20260502T100000
DTEND;TZID=Europe/Vienna:20260502T220000
DTSTAMP:20260422T154156
CREATED:20260223T134303Z
LAST-MODIFIED:20260223T134607Z
UID:10045106-1777716000-1777759200@www.stadtmarketing-klosterneuburg.at
SUMMARY:Mittelalterfest 2026
DESCRIPTION:Eine Veranstaltung von Stift Klosterneuburg und Stadtgemeinde Klosterneuburg \nGleich einer Zeitreise verwandelt sich das Stift in Klosterneuburg an diesem Wochenende in ein mittelalterliches Festgelände und macht Eindrücke und Darbietungen aus dieser Zeit erlebbar. Stift und Stadt Klosterneuburg veranstalten bereits zum dritten Mal ein Wochenende voll des Spiels\, der Gaukelei\, Spannung und des Erlebens für die ganze Familie und werden dabei von lokalen Schulen und Vereinen unterstützt! Klosterneuburg rüstet sich für erlebnisreiche Führungen durch das Stift und zum vielfältigen Programm mit mittelalterlicher Musik\, Darbietungen\, Marionettentheater\, Feuershow\, Schauschmieden\, Basteln und Unterhaltung für die Jüngsten! Seid willkommen! \nFreier Eintritt zum Veranstaltungsgelände! Einzelne Angebote sind kostenpflichtig! \nAlle Infos zum Fest: ONLINE
URL:https://www.stadtmarketing-klosterneuburg.at/veranstaltung/mittelalterfest-2026/2026-05-02/
LOCATION:Stift Klosterneuburg\, Stiftsplatz 1\, Klosterneuburg\, 3400\, Austria
CATEGORIES:Familien,Geschichte,Kinder,Kulinarik & Wein,Kunst & Kultur,Märkte,Volksfeste & Brauchtum
ATTACH;FMTTYPE=image/jpeg:https://www.stadtmarketing-klosterneuburg.at/wp-content/uploads/2023/08/Mittelalterfest-2024-c-Stift-Klbg.jpg
END:VEVENT
BEGIN:VEVENT
DTSTART;TZID=Europe/Vienna:20260503T100000
DTEND;TZID=Europe/Vienna:20260503T180000
DTSTAMP:20260422T154156
CREATED:20260223T134303Z
LAST-MODIFIED:20260223T134607Z
UID:10045107-1777802400-1777831200@www.stadtmarketing-klosterneuburg.at
SUMMARY:Mittelalterfest 2026
DESCRIPTION:Eine Veranstaltung von Stift Klosterneuburg und Stadtgemeinde Klosterneuburg \nGleich einer Zeitreise verwandelt sich das Stift in Klosterneuburg an diesem Wochenende in ein mittelalterliches Festgelände und macht Eindrücke und Darbietungen aus dieser Zeit erlebbar. Stift und Stadt Klosterneuburg veranstalten bereits zum dritten Mal ein Wochenende voll des Spiels\, der Gaukelei\, Spannung und des Erlebens für die ganze Familie und werden dabei von lokalen Schulen und Vereinen unterstützt! Klosterneuburg rüstet sich für erlebnisreiche Führungen durch das Stift und zum vielfältigen Programm mit mittelalterlicher Musik\, Darbietungen\, Marionettentheater\, Feuershow\, Schauschmieden\, Basteln und Unterhaltung für die Jüngsten! Seid willkommen! \nFreier Eintritt zum Veranstaltungsgelände! Einzelne Angebote sind kostenpflichtig! \nAlle Infos zum Fest: ONLINE
URL:https://www.stadtmarketing-klosterneuburg.at/veranstaltung/mittelalterfest-2026/2026-05-03/
LOCATION:Stift Klosterneuburg\, Stiftsplatz 1\, Klosterneuburg\, 3400\, Austria
CATEGORIES:Familien,Geschichte,Kinder,Kulinarik & Wein,Kunst & Kultur,Märkte,Volksfeste & Brauchtum
ATTACH;FMTTYPE=image/jpeg:https://www.stadtmarketing-klosterneuburg.at/wp-content/uploads/2023/08/Mittelalterfest-2024-c-Stift-Klbg.jpg
END:VEVENT
END:VCALENDAR