BEGIN:VCALENDAR
VERSION:2.0
PRODID:-//Stadtmarketing Klosterneuburg - ECPv6.15.17.1//NONSGML v1.0//EN
CALSCALE:GREGORIAN
METHOD:PUBLISH
X-ORIGINAL-URL:https://www.stadtmarketing-klosterneuburg.at
X-WR-CALDESC:Veranstaltungen für Stadtmarketing Klosterneuburg
REFRESH-INTERVAL;VALUE=DURATION:PT1H
X-Robots-Tag:noindex
X-PUBLISHED-TTL:PT1H
BEGIN:VTIMEZONE
TZID:Europe/Vienna
BEGIN:DAYLIGHT
TZOFFSETFROM:+0100
TZOFFSETTO:+0200
TZNAME:CEST
DTSTART:20250330T010000
END:DAYLIGHT
BEGIN:STANDARD
TZOFFSETFROM:+0200
TZOFFSETTO:+0100
TZNAME:CET
DTSTART:20251026T010000
END:STANDARD
BEGIN:DAYLIGHT
TZOFFSETFROM:+0100
TZOFFSETTO:+0200
TZNAME:CEST
DTSTART:20260329T010000
END:DAYLIGHT
BEGIN:STANDARD
TZOFFSETFROM:+0200
TZOFFSETTO:+0100
TZNAME:CET
DTSTART:20261025T010000
END:STANDARD
BEGIN:DAYLIGHT
TZOFFSETFROM:+0100
TZOFFSETTO:+0200
TZNAME:CEST
DTSTART:20270328T010000
END:DAYLIGHT
BEGIN:STANDARD
TZOFFSETFROM:+0200
TZOFFSETTO:+0100
TZNAME:CET
DTSTART:20271031T010000
END:STANDARD
END:VTIMEZONE
BEGIN:VEVENT
DTSTART;TZID=Europe/Vienna:20260424T150000
DTEND;TZID=Europe/Vienna:20260424T163000
DTSTAMP:20260419T232455
CREATED:20260324T160036Z
LAST-MODIFIED:20260324T160634Z
UID:10045776-1777042800-1777048200@www.stadtmarketing-klosterneuburg.at
SUMMARY:Kunstlabor @Albertina
DESCRIPTION:für Kinder (6-10 Jahre)\nFür alle Kinder\, die eine kreative Herausforderung suchen. Ein inspirierender\, regelmäßiger Kunstkurs für alle\, die sich kreativ entfalten und die Möglichkeiten des künstlerischen Gestaltens entdecken möchten. \nImmer Freitag | 15 – 16.30 Uhr\nTermine: 10.4.\, 17.4.\, 24.4.\, 8.5.\, 22.5.2026 \nKosten: € 155 pro TeilnehmerIn | € 145 mit Geschwisterrabatt \nAnmeldung erforderlich! \nOrt: Albertina Klosterneuburg\, \nMehr Infos & Anmeldung:\n\nmeisterklasse@albertina.at\nHOMEPAGE
URL:https://www.stadtmarketing-klosterneuburg.at/veranstaltung/kunstlabor-albertina-4/2026-04-24/
LOCATION:Albertina Klosterneuburg im Essl Museum\, An der Donau-Au 1\, Klosterneuburg\, Niederösterreich\, 3400\, Austria
CATEGORIES:Ausstellungen & Messen,Bildung,Kinder,Kunst & Kultur,Kurse, Seminare & Workshops
ATTACH;FMTTYPE=image/jpeg:https://www.stadtmarketing-klosterneuburg.at/wp-content/uploads/2024/06/Ferienspass-im-Museum-c-Albertina_Foto-Marko-Mestrovic.jpg
END:VEVENT
BEGIN:VEVENT
DTSTART;TZID=Europe/Vienna:20260508T150000
DTEND;TZID=Europe/Vienna:20260508T163000
DTSTAMP:20260419T232455
CREATED:20260324T160036Z
LAST-MODIFIED:20260324T160634Z
UID:10045777-1778252400-1778257800@www.stadtmarketing-klosterneuburg.at
SUMMARY:Kunstlabor @Albertina
DESCRIPTION:für Kinder (6-10 Jahre)\nFür alle Kinder\, die eine kreative Herausforderung suchen. Ein inspirierender\, regelmäßiger Kunstkurs für alle\, die sich kreativ entfalten und die Möglichkeiten des künstlerischen Gestaltens entdecken möchten. \nImmer Freitag | 15 – 16.30 Uhr\nTermine: 10.4.\, 17.4.\, 24.4.\, 8.5.\, 22.5.2026 \nKosten: € 155 pro TeilnehmerIn | € 145 mit Geschwisterrabatt \nAnmeldung erforderlich! \nOrt: Albertina Klosterneuburg\, \nMehr Infos & Anmeldung:\n\nmeisterklasse@albertina.at\nHOMEPAGE
URL:https://www.stadtmarketing-klosterneuburg.at/veranstaltung/kunstlabor-albertina-4/2026-05-08/
LOCATION:Albertina Klosterneuburg im Essl Museum\, An der Donau-Au 1\, Klosterneuburg\, Niederösterreich\, 3400\, Austria
CATEGORIES:Ausstellungen & Messen,Bildung,Kinder,Kunst & Kultur,Kurse, Seminare & Workshops
ATTACH;FMTTYPE=image/jpeg:https://www.stadtmarketing-klosterneuburg.at/wp-content/uploads/2024/06/Ferienspass-im-Museum-c-Albertina_Foto-Marko-Mestrovic.jpg
END:VEVENT
BEGIN:VEVENT
DTSTART;TZID=Europe/Vienna:20260522T150000
DTEND;TZID=Europe/Vienna:20260522T163000
DTSTAMP:20260419T232455
CREATED:20260324T160036Z
LAST-MODIFIED:20260324T160634Z
UID:10045778-1779462000-1779467400@www.stadtmarketing-klosterneuburg.at
SUMMARY:Kunstlabor @Albertina
DESCRIPTION:für Kinder (6-10 Jahre)\nFür alle Kinder\, die eine kreative Herausforderung suchen. Ein inspirierender\, regelmäßiger Kunstkurs für alle\, die sich kreativ entfalten und die Möglichkeiten des künstlerischen Gestaltens entdecken möchten. \nImmer Freitag | 15 – 16.30 Uhr\nTermine: 10.4.\, 17.4.\, 24.4.\, 8.5.\, 22.5.2026 \nKosten: € 155 pro TeilnehmerIn | € 145 mit Geschwisterrabatt \nAnmeldung erforderlich! \nOrt: Albertina Klosterneuburg\, \nMehr Infos & Anmeldung:\n\nmeisterklasse@albertina.at\nHOMEPAGE
URL:https://www.stadtmarketing-klosterneuburg.at/veranstaltung/kunstlabor-albertina-4/2026-05-22/
LOCATION:Albertina Klosterneuburg im Essl Museum\, An der Donau-Au 1\, Klosterneuburg\, Niederösterreich\, 3400\, Austria
CATEGORIES:Ausstellungen & Messen,Bildung,Kinder,Kunst & Kultur,Kurse, Seminare & Workshops
ATTACH;FMTTYPE=image/jpeg:https://www.stadtmarketing-klosterneuburg.at/wp-content/uploads/2024/06/Ferienspass-im-Museum-c-Albertina_Foto-Marko-Mestrovic.jpg
END:VEVENT
END:VCALENDAR