BEGIN:VCALENDAR
VERSION:2.0
PRODID:-//Stadtmarketing Klosterneuburg - ECPv6.15.20//NONSGML v1.0//EN
CALSCALE:GREGORIAN
METHOD:PUBLISH
X-ORIGINAL-URL:https://www.stadtmarketing-klosterneuburg.at
X-WR-CALDESC:Veranstaltungen für Stadtmarketing Klosterneuburg
REFRESH-INTERVAL;VALUE=DURATION:PT1H
X-Robots-Tag:noindex
X-PUBLISHED-TTL:PT1H
BEGIN:VTIMEZONE
TZID:Europe/Vienna
BEGIN:DAYLIGHT
TZOFFSETFROM:+0100
TZOFFSETTO:+0200
TZNAME:CEST
DTSTART:20220327T010000
END:DAYLIGHT
BEGIN:STANDARD
TZOFFSETFROM:+0200
TZOFFSETTO:+0100
TZNAME:CET
DTSTART:20221030T010000
END:STANDARD
BEGIN:DAYLIGHT
TZOFFSETFROM:+0100
TZOFFSETTO:+0200
TZNAME:CEST
DTSTART:20230326T010000
END:DAYLIGHT
BEGIN:STANDARD
TZOFFSETFROM:+0200
TZOFFSETTO:+0100
TZNAME:CET
DTSTART:20231029T010000
END:STANDARD
BEGIN:DAYLIGHT
TZOFFSETFROM:+0100
TZOFFSETTO:+0200
TZNAME:CEST
DTSTART:20240331T010000
END:DAYLIGHT
BEGIN:STANDARD
TZOFFSETFROM:+0200
TZOFFSETTO:+0100
TZNAME:CET
DTSTART:20241027T010000
END:STANDARD
END:VTIMEZONE
BEGIN:VEVENT
DTSTART;TZID=Europe/Vienna:20230923T090000
DTEND;TZID=Europe/Vienna:20230923T123000
DTSTAMP:20260422T003434
CREATED:20230922T084027Z
LAST-MODIFIED:20230922T144222Z
UID:10027907-1695459600-1695472200@www.stadtmarketing-klosterneuburg.at
SUMMARY:Pilates Schnupperstunde
DESCRIPTION:beactive day – 1/2 Stunde kostenloses Einzel-Schnuppertraining am Reformer\n\nPilates ist für alle Personen geeignet\, die ihren Körper kräftigen\, Rumpfstabilität aufbauen und eine aufrechte Haltung erhalten möchten.\nIn dieser kostenlosen halbstündigen Einheit im Rahmen des beactive day\, können Sie ein wenig in das Training am Reformer ‚hineinschnuppern‘.\nNähere Informationen zum beactive day finden Sie unter: Für Teilnehmer – WKO.at\n\n\n\n\nBitte tragen Sie zum Training bequeme Sportkleidung und Socken (am besten rutschfeste Socken)! \nOnline-Anmeldung erforderlich: beactive day- 1/2 Stunde kostenloses Einzel-Schnuppertraining am Reformer (bemoved.at) \n\n\n\n\nKatja Schopper\n\n\n\nbemoved®\, 3400 Klosterneuburg\, Kierlingerstraße 90\n+43/ (0)676/ 612 24 56\nbemoved@schopper.com
URL:https://www.stadtmarketing-klosterneuburg.at/veranstaltung/pilates-schnupperstunde-2/
LOCATION:Bemoved Klosterneuburg\, Kierlingerstraße 90\, Kierling\, Niederösterreich\, 3400\, Austria
CATEGORIES:Fitnesskurse & Workshops,Kurse, Seminare & Workshops,Sport & Gesundheit
ATTACH;FMTTYPE=image/jpeg:https://www.stadtmarketing-klosterneuburg.at/wp-content/uploads/2023/04/Pilates-c-Bemoved-Klbg.jpg
END:VEVENT
BEGIN:VEVENT
DTSTART;TZID=Europe/Vienna:20230506T090000
DTEND;TZID=Europe/Vienna:20230506T100000
DTSTAMP:20260422T003434
CREATED:20230422T095723Z
LAST-MODIFIED:20230422T095835Z
UID:10026231-1683363600-1683367200@www.stadtmarketing-klosterneuburg.at
SUMMARY:Pilates Schnupperstunde
DESCRIPTION:Anlässlich des internationalen Pilates Tages organisiert der Pilates Verband Austria mit seinen Mitgliedern einen österreichweiten Pilates Tag!\n\nKostenlose Pilates Schnupperstunde mit dem spinefitter und coretrainer von Sissel\n\n\n\n\nPilates ist für alle Personen geeignet\, die ihren Körper kräftigen\, Rumpfstabilität aufbauen und eine aufrechte Haltung erhalten möchten. \nBitte zum Training mitbringen:\n\netwas zu trinken\nein großes Handtuch als Auflage für die Matte\nsowie rutschfeste oder normale Socken\n\n\n\n\nOnline-Anmeldung: https://www.bemoved.at/…/39-pilates…/2023-05-06-09-00\n\n\n\n\n\nKatja Schopper\n\nbemoved®\, 3400 Klosterneuburg\, Kierlingerstraße 90\n+43/ (0)676/ 612 24 56\nbemoved@schopper.com
URL:https://www.stadtmarketing-klosterneuburg.at/veranstaltung/pilates-schnupperstunde/
LOCATION:Bemoved Klosterneuburg\, Kierlingerstraße 90\, Kierling\, Niederösterreich\, 3400\, Austria
CATEGORIES:Fitnesskurse & Workshops,Kurse, Seminare & Workshops,Sport & Gesundheit
ATTACH;FMTTYPE=image/jpeg:https://www.stadtmarketing-klosterneuburg.at/wp-content/uploads/2023/04/Pilates-c-Bemoved-Klbg.jpg
END:VEVENT
END:VCALENDAR