BEGIN:VCALENDAR
VERSION:2.0
PRODID:-//Stadtmarketing Klosterneuburg - ECPv6.15.20//NONSGML v1.0//EN
CALSCALE:GREGORIAN
METHOD:PUBLISH
X-ORIGINAL-URL:https://www.stadtmarketing-klosterneuburg.at
X-WR-CALDESC:Veranstaltungen für Stadtmarketing Klosterneuburg
REFRESH-INTERVAL;VALUE=DURATION:PT1H
X-Robots-Tag:noindex
X-PUBLISHED-TTL:PT1H
BEGIN:VTIMEZONE
TZID:Europe/Vienna
BEGIN:DAYLIGHT
TZOFFSETFROM:+0100
TZOFFSETTO:+0200
TZNAME:CEST
DTSTART:20230326T010000
END:DAYLIGHT
BEGIN:STANDARD
TZOFFSETFROM:+0200
TZOFFSETTO:+0100
TZNAME:CET
DTSTART:20231029T010000
END:STANDARD
BEGIN:DAYLIGHT
TZOFFSETFROM:+0100
TZOFFSETTO:+0200
TZNAME:CEST
DTSTART:20240331T010000
END:DAYLIGHT
BEGIN:STANDARD
TZOFFSETFROM:+0200
TZOFFSETTO:+0100
TZNAME:CET
DTSTART:20241027T010000
END:STANDARD
BEGIN:DAYLIGHT
TZOFFSETFROM:+0100
TZOFFSETTO:+0200
TZNAME:CEST
DTSTART:20250330T010000
END:DAYLIGHT
BEGIN:STANDARD
TZOFFSETFROM:+0200
TZOFFSETTO:+0100
TZNAME:CET
DTSTART:20251026T010000
END:STANDARD
END:VTIMEZONE
BEGIN:VEVENT
DTSTART;TZID=Europe/Vienna:20240126T080000
DTEND;TZID=Europe/Vienna:20240126T120000
DTSTAMP:20260422T140100
CREATED:20240110T140247Z
LAST-MODIFIED:20240416T112409Z
UID:10030593-1706256000-1706270400@www.stadtmarketing-klosterneuburg.at
SUMMARY:Ausstellung "klimafitte Stadt"
DESCRIPTION:„Visionen für ein klimafittes Klosterneuburg“\nEin Projekt zur Landschaftsplanung der BOKU Wien \nOrt: Aula der ehemaligen BH\, 3400 Klosterneuburg\, Leopoldstraße 21 \nÖffnungszeiten: Montag – Freitag 8 – 12 Uhr\, Dienstag zusätzlich 15 – 18 Uhr \nAlle Informationen:\nONLINE
URL:https://www.stadtmarketing-klosterneuburg.at/veranstaltung/ausstellung-klimafitte-stadt/2024-01-26/
LOCATION:BH Tulln – Außenstelle Klosterneuburg\, Leopoldstraße 21\, Klosterneuburg\, Niederösterreich\, 3400\, Austria
CATEGORIES:Ausstellungen & Messen,Bildung,Kunst & Kultur
ATTACH;FMTTYPE=image/jpeg:https://www.stadtmarketing-klosterneuburg.at/wp-content/uploads/2024/01/klimafit-c-Veronika-Wrbka.jpg
END:VEVENT
BEGIN:VEVENT
DTSTART;TZID=Europe/Vienna:20240125T080000
DTEND;TZID=Europe/Vienna:20240125T120000
DTSTAMP:20260422T140100
CREATED:20240110T140247Z
LAST-MODIFIED:20240416T112409Z
UID:10030592-1706169600-1706184000@www.stadtmarketing-klosterneuburg.at
SUMMARY:Ausstellung "klimafitte Stadt"
DESCRIPTION:„Visionen für ein klimafittes Klosterneuburg“\nEin Projekt zur Landschaftsplanung der BOKU Wien \nOrt: Aula der ehemaligen BH\, 3400 Klosterneuburg\, Leopoldstraße 21 \nÖffnungszeiten: Montag – Freitag 8 – 12 Uhr\, Dienstag zusätzlich 15 – 18 Uhr \nAlle Informationen:\nONLINE
URL:https://www.stadtmarketing-klosterneuburg.at/veranstaltung/ausstellung-klimafitte-stadt/2024-01-25/
LOCATION:BH Tulln – Außenstelle Klosterneuburg\, Leopoldstraße 21\, Klosterneuburg\, Niederösterreich\, 3400\, Austria
CATEGORIES:Ausstellungen & Messen,Bildung,Kunst & Kultur
ATTACH;FMTTYPE=image/jpeg:https://www.stadtmarketing-klosterneuburg.at/wp-content/uploads/2024/01/klimafit-c-Veronika-Wrbka.jpg
END:VEVENT
BEGIN:VEVENT
DTSTART;TZID=Europe/Vienna:20240124T080000
DTEND;TZID=Europe/Vienna:20240124T120000
DTSTAMP:20260422T140100
CREATED:20240110T140247Z
LAST-MODIFIED:20240416T112409Z
UID:10030591-1706083200-1706097600@www.stadtmarketing-klosterneuburg.at
SUMMARY:Ausstellung "klimafitte Stadt"
DESCRIPTION:„Visionen für ein klimafittes Klosterneuburg“\nEin Projekt zur Landschaftsplanung der BOKU Wien \nOrt: Aula der ehemaligen BH\, 3400 Klosterneuburg\, Leopoldstraße 21 \nÖffnungszeiten: Montag – Freitag 8 – 12 Uhr\, Dienstag zusätzlich 15 – 18 Uhr \nAlle Informationen:\nONLINE
URL:https://www.stadtmarketing-klosterneuburg.at/veranstaltung/ausstellung-klimafitte-stadt/2024-01-24/
LOCATION:BH Tulln – Außenstelle Klosterneuburg\, Leopoldstraße 21\, Klosterneuburg\, Niederösterreich\, 3400\, Austria
CATEGORIES:Ausstellungen & Messen,Bildung,Kunst & Kultur
ATTACH;FMTTYPE=image/jpeg:https://www.stadtmarketing-klosterneuburg.at/wp-content/uploads/2024/01/klimafit-c-Veronika-Wrbka.jpg
END:VEVENT
BEGIN:VEVENT
DTSTART;TZID=Europe/Vienna:20240123T150000
DTEND;TZID=Europe/Vienna:20240123T180000
DTSTAMP:20260422T140100
CREATED:20240110T140631Z
LAST-MODIFIED:20240416T111741Z
UID:10033191-1706022000-1706032800@www.stadtmarketing-klosterneuburg.at
SUMMARY:Ausstellung "klimafitte Stadt"
DESCRIPTION:„Visionen für ein klimafittes Klosterneuburg“\nEin Projekt zur Landschaftsplanung der BOKU Wien \nOrt: Aula der ehemaligen BH\, 3400 Klosterneuburg\, Leopoldstraße 21 \nÖffnungszeiten: Montag – Freitag 8 – 12 Uhr\, Dienstag zusätzlich 15 – 18 Uhr \nAlle Informationen:\nONLINE
URL:https://www.stadtmarketing-klosterneuburg.at/veranstaltung/ausstellung-klimafitte-stadt-2/2024-01-23/
LOCATION:BH Tulln – Außenstelle Klosterneuburg\, Leopoldstraße 21\, Klosterneuburg\, Niederösterreich\, 3400\, Austria
CATEGORIES:Ausstellungen & Messen,Bildung,Kunst & Kultur
ATTACH;FMTTYPE=image/jpeg:https://www.stadtmarketing-klosterneuburg.at/wp-content/uploads/2024/01/klimafit-c-Veronika-Wrbka.jpg
END:VEVENT
BEGIN:VEVENT
DTSTART;TZID=Europe/Vienna:20240123T080000
DTEND;TZID=Europe/Vienna:20240123T120000
DTSTAMP:20260422T140100
CREATED:20240110T140247Z
LAST-MODIFIED:20240416T112409Z
UID:10030590-1705996800-1706011200@www.stadtmarketing-klosterneuburg.at
SUMMARY:Ausstellung "klimafitte Stadt"
DESCRIPTION:„Visionen für ein klimafittes Klosterneuburg“\nEin Projekt zur Landschaftsplanung der BOKU Wien \nOrt: Aula der ehemaligen BH\, 3400 Klosterneuburg\, Leopoldstraße 21 \nÖffnungszeiten: Montag – Freitag 8 – 12 Uhr\, Dienstag zusätzlich 15 – 18 Uhr \nAlle Informationen:\nONLINE
URL:https://www.stadtmarketing-klosterneuburg.at/veranstaltung/ausstellung-klimafitte-stadt/2024-01-23/
LOCATION:BH Tulln – Außenstelle Klosterneuburg\, Leopoldstraße 21\, Klosterneuburg\, Niederösterreich\, 3400\, Austria
CATEGORIES:Ausstellungen & Messen,Bildung,Kunst & Kultur
ATTACH;FMTTYPE=image/jpeg:https://www.stadtmarketing-klosterneuburg.at/wp-content/uploads/2024/01/klimafit-c-Veronika-Wrbka.jpg
END:VEVENT
BEGIN:VEVENT
DTSTART;TZID=Europe/Vienna:20240122T080000
DTEND;TZID=Europe/Vienna:20240122T120000
DTSTAMP:20260422T140100
CREATED:20240110T140247Z
LAST-MODIFIED:20240416T112409Z
UID:10030589-1705910400-1705924800@www.stadtmarketing-klosterneuburg.at
SUMMARY:Ausstellung "klimafitte Stadt"
DESCRIPTION:„Visionen für ein klimafittes Klosterneuburg“\nEin Projekt zur Landschaftsplanung der BOKU Wien \nOrt: Aula der ehemaligen BH\, 3400 Klosterneuburg\, Leopoldstraße 21 \nÖffnungszeiten: Montag – Freitag 8 – 12 Uhr\, Dienstag zusätzlich 15 – 18 Uhr \nAlle Informationen:\nONLINE
URL:https://www.stadtmarketing-klosterneuburg.at/veranstaltung/ausstellung-klimafitte-stadt/2024-01-22/
LOCATION:BH Tulln – Außenstelle Klosterneuburg\, Leopoldstraße 21\, Klosterneuburg\, Niederösterreich\, 3400\, Austria
CATEGORIES:Ausstellungen & Messen,Bildung,Kunst & Kultur
ATTACH;FMTTYPE=image/jpeg:https://www.stadtmarketing-klosterneuburg.at/wp-content/uploads/2024/01/klimafit-c-Veronika-Wrbka.jpg
END:VEVENT
BEGIN:VEVENT
DTSTART;TZID=Europe/Vienna:20240119T080000
DTEND;TZID=Europe/Vienna:20240119T120000
DTSTAMP:20260422T140100
CREATED:20240110T140247Z
LAST-MODIFIED:20240416T112409Z
UID:10030588-1705651200-1705665600@www.stadtmarketing-klosterneuburg.at
SUMMARY:Ausstellung "klimafitte Stadt"
DESCRIPTION:„Visionen für ein klimafittes Klosterneuburg“\nEin Projekt zur Landschaftsplanung der BOKU Wien \nOrt: Aula der ehemaligen BH\, 3400 Klosterneuburg\, Leopoldstraße 21 \nÖffnungszeiten: Montag – Freitag 8 – 12 Uhr\, Dienstag zusätzlich 15 – 18 Uhr \nAlle Informationen:\nONLINE
URL:https://www.stadtmarketing-klosterneuburg.at/veranstaltung/ausstellung-klimafitte-stadt/2024-01-19/
LOCATION:BH Tulln – Außenstelle Klosterneuburg\, Leopoldstraße 21\, Klosterneuburg\, Niederösterreich\, 3400\, Austria
CATEGORIES:Ausstellungen & Messen,Bildung,Kunst & Kultur
ATTACH;FMTTYPE=image/jpeg:https://www.stadtmarketing-klosterneuburg.at/wp-content/uploads/2024/01/klimafit-c-Veronika-Wrbka.jpg
END:VEVENT
BEGIN:VEVENT
DTSTART;TZID=Europe/Vienna:20240118T080000
DTEND;TZID=Europe/Vienna:20240118T120000
DTSTAMP:20260422T140100
CREATED:20240110T140247Z
LAST-MODIFIED:20240416T112409Z
UID:10030587-1705564800-1705579200@www.stadtmarketing-klosterneuburg.at
SUMMARY:Ausstellung "klimafitte Stadt"
DESCRIPTION:„Visionen für ein klimafittes Klosterneuburg“\nEin Projekt zur Landschaftsplanung der BOKU Wien \nOrt: Aula der ehemaligen BH\, 3400 Klosterneuburg\, Leopoldstraße 21 \nÖffnungszeiten: Montag – Freitag 8 – 12 Uhr\, Dienstag zusätzlich 15 – 18 Uhr \nAlle Informationen:\nONLINE
URL:https://www.stadtmarketing-klosterneuburg.at/veranstaltung/ausstellung-klimafitte-stadt/2024-01-18/
LOCATION:BH Tulln – Außenstelle Klosterneuburg\, Leopoldstraße 21\, Klosterneuburg\, Niederösterreich\, 3400\, Austria
CATEGORIES:Ausstellungen & Messen,Bildung,Kunst & Kultur
ATTACH;FMTTYPE=image/jpeg:https://www.stadtmarketing-klosterneuburg.at/wp-content/uploads/2024/01/klimafit-c-Veronika-Wrbka.jpg
END:VEVENT
BEGIN:VEVENT
DTSTART;TZID=Europe/Vienna:20240117T080000
DTEND;TZID=Europe/Vienna:20240117T120000
DTSTAMP:20260422T140100
CREATED:20240110T140247Z
LAST-MODIFIED:20240416T112409Z
UID:10030586-1705478400-1705492800@www.stadtmarketing-klosterneuburg.at
SUMMARY:Ausstellung "klimafitte Stadt"
DESCRIPTION:„Visionen für ein klimafittes Klosterneuburg“\nEin Projekt zur Landschaftsplanung der BOKU Wien \nOrt: Aula der ehemaligen BH\, 3400 Klosterneuburg\, Leopoldstraße 21 \nÖffnungszeiten: Montag – Freitag 8 – 12 Uhr\, Dienstag zusätzlich 15 – 18 Uhr \nAlle Informationen:\nONLINE
URL:https://www.stadtmarketing-klosterneuburg.at/veranstaltung/ausstellung-klimafitte-stadt/2024-01-17/
LOCATION:BH Tulln – Außenstelle Klosterneuburg\, Leopoldstraße 21\, Klosterneuburg\, Niederösterreich\, 3400\, Austria
CATEGORIES:Ausstellungen & Messen,Bildung,Kunst & Kultur
ATTACH;FMTTYPE=image/jpeg:https://www.stadtmarketing-klosterneuburg.at/wp-content/uploads/2024/01/klimafit-c-Veronika-Wrbka.jpg
END:VEVENT
BEGIN:VEVENT
DTSTART;TZID=Europe/Vienna:20240116T150000
DTEND;TZID=Europe/Vienna:20240116T180000
DTSTAMP:20260422T140100
CREATED:20240110T140631Z
LAST-MODIFIED:20240416T111741Z
UID:10030581-1705417200-1705428000@www.stadtmarketing-klosterneuburg.at
SUMMARY:Ausstellung "klimafitte Stadt"
DESCRIPTION:„Visionen für ein klimafittes Klosterneuburg“\nEin Projekt zur Landschaftsplanung der BOKU Wien \nOrt: Aula der ehemaligen BH\, 3400 Klosterneuburg\, Leopoldstraße 21 \nÖffnungszeiten: Montag – Freitag 8 – 12 Uhr\, Dienstag zusätzlich 15 – 18 Uhr \nAlle Informationen:\nONLINE
URL:https://www.stadtmarketing-klosterneuburg.at/veranstaltung/ausstellung-klimafitte-stadt-2/2024-01-16/
LOCATION:BH Tulln – Außenstelle Klosterneuburg\, Leopoldstraße 21\, Klosterneuburg\, Niederösterreich\, 3400\, Austria
CATEGORIES:Ausstellungen & Messen,Bildung,Kunst & Kultur
ATTACH;FMTTYPE=image/jpeg:https://www.stadtmarketing-klosterneuburg.at/wp-content/uploads/2024/01/klimafit-c-Veronika-Wrbka.jpg
END:VEVENT
BEGIN:VEVENT
DTSTART;TZID=Europe/Vienna:20240116T080000
DTEND;TZID=Europe/Vienna:20240116T120000
DTSTAMP:20260422T140100
CREATED:20240110T140247Z
LAST-MODIFIED:20240416T112409Z
UID:10030585-1705392000-1705406400@www.stadtmarketing-klosterneuburg.at
SUMMARY:Ausstellung "klimafitte Stadt"
DESCRIPTION:„Visionen für ein klimafittes Klosterneuburg“\nEin Projekt zur Landschaftsplanung der BOKU Wien \nOrt: Aula der ehemaligen BH\, 3400 Klosterneuburg\, Leopoldstraße 21 \nÖffnungszeiten: Montag – Freitag 8 – 12 Uhr\, Dienstag zusätzlich 15 – 18 Uhr \nAlle Informationen:\nONLINE
URL:https://www.stadtmarketing-klosterneuburg.at/veranstaltung/ausstellung-klimafitte-stadt/2024-01-16/
LOCATION:BH Tulln – Außenstelle Klosterneuburg\, Leopoldstraße 21\, Klosterneuburg\, Niederösterreich\, 3400\, Austria
CATEGORIES:Ausstellungen & Messen,Bildung,Kunst & Kultur
ATTACH;FMTTYPE=image/jpeg:https://www.stadtmarketing-klosterneuburg.at/wp-content/uploads/2024/01/klimafit-c-Veronika-Wrbka.jpg
END:VEVENT
BEGIN:VEVENT
DTSTART;TZID=Europe/Vienna:20240115T080000
DTEND;TZID=Europe/Vienna:20240115T120000
DTSTAMP:20260422T140100
CREATED:20240110T140247Z
LAST-MODIFIED:20240416T112409Z
UID:10030584-1705305600-1705320000@www.stadtmarketing-klosterneuburg.at
SUMMARY:Ausstellung "klimafitte Stadt"
DESCRIPTION:„Visionen für ein klimafittes Klosterneuburg“\nEin Projekt zur Landschaftsplanung der BOKU Wien \nOrt: Aula der ehemaligen BH\, 3400 Klosterneuburg\, Leopoldstraße 21 \nÖffnungszeiten: Montag – Freitag 8 – 12 Uhr\, Dienstag zusätzlich 15 – 18 Uhr \nAlle Informationen:\nONLINE
URL:https://www.stadtmarketing-klosterneuburg.at/veranstaltung/ausstellung-klimafitte-stadt/2024-01-15/
LOCATION:BH Tulln – Außenstelle Klosterneuburg\, Leopoldstraße 21\, Klosterneuburg\, Niederösterreich\, 3400\, Austria
CATEGORIES:Ausstellungen & Messen,Bildung,Kunst & Kultur
ATTACH;FMTTYPE=image/jpeg:https://www.stadtmarketing-klosterneuburg.at/wp-content/uploads/2024/01/klimafit-c-Veronika-Wrbka.jpg
END:VEVENT
BEGIN:VEVENT
DTSTART;TZID=Europe/Vienna:20240112T080000
DTEND;TZID=Europe/Vienna:20240112T120000
DTSTAMP:20260422T140100
CREATED:20240110T140247Z
LAST-MODIFIED:20240416T112409Z
UID:10030583-1705046400-1705060800@www.stadtmarketing-klosterneuburg.at
SUMMARY:Ausstellung "klimafitte Stadt"
DESCRIPTION:„Visionen für ein klimafittes Klosterneuburg“\nEin Projekt zur Landschaftsplanung der BOKU Wien \nOrt: Aula der ehemaligen BH\, 3400 Klosterneuburg\, Leopoldstraße 21 \nÖffnungszeiten: Montag – Freitag 8 – 12 Uhr\, Dienstag zusätzlich 15 – 18 Uhr \nAlle Informationen:\nONLINE
URL:https://www.stadtmarketing-klosterneuburg.at/veranstaltung/ausstellung-klimafitte-stadt/2024-01-12/
LOCATION:BH Tulln – Außenstelle Klosterneuburg\, Leopoldstraße 21\, Klosterneuburg\, Niederösterreich\, 3400\, Austria
CATEGORIES:Ausstellungen & Messen,Bildung,Kunst & Kultur
ATTACH;FMTTYPE=image/jpeg:https://www.stadtmarketing-klosterneuburg.at/wp-content/uploads/2024/01/klimafit-c-Veronika-Wrbka.jpg
END:VEVENT
BEGIN:VEVENT
DTSTART;TZID=Europe/Vienna:20240111T170000
DTEND;TZID=Europe/Vienna:20240111T190000
DTSTAMP:20260422T140100
CREATED:20240110T135442Z
LAST-MODIFIED:20240110T140157Z
UID:10030541-1704992400-1704999600@www.stadtmarketing-klosterneuburg.at
SUMMARY:Ausstellungseröffnung "klimafitte Stadt"
DESCRIPTION:„Visionen für ein klimafittes Klosterneuburg“\nEröffnung der Ausstellung am Donnerstag\, 11.1.2024 um 17 Uhr \nEin Projekt zur Landschaftsplanung der BOKU Wien \nOrt: Aula der ehemaligen BH\, 3400 Klosterneuburg\, Leopoldstraße 21 \n  \nAlle Informationen:\nONLINE
URL:https://www.stadtmarketing-klosterneuburg.at/veranstaltung/ausstellungseroeffnung-klimafitte-stadt/
LOCATION:BH Tulln – Außenstelle Klosterneuburg\, Leopoldstraße 21\, Klosterneuburg\, Niederösterreich\, 3400\, Austria
CATEGORIES:Ausstellungen & Messen,Bildung,Führungen & Touren,Kunst & Kultur
ATTACH;FMTTYPE=image/jpeg:https://www.stadtmarketing-klosterneuburg.at/wp-content/uploads/2024/01/klimafit-c-Veronika-Wrbka.jpg
END:VEVENT
END:VCALENDAR