BEGIN:VCALENDAR
VERSION:2.0
PRODID:-//Stadtmarketing Klosterneuburg - ECPv6.15.20//NONSGML v1.0//EN
CALSCALE:GREGORIAN
METHOD:PUBLISH
X-ORIGINAL-URL:https://www.stadtmarketing-klosterneuburg.at
X-WR-CALDESC:Veranstaltungen für Stadtmarketing Klosterneuburg
REFRESH-INTERVAL;VALUE=DURATION:PT1H
X-Robots-Tag:noindex
X-PUBLISHED-TTL:PT1H
BEGIN:VTIMEZONE
TZID:Europe/Vienna
BEGIN:DAYLIGHT
TZOFFSETFROM:+0100
TZOFFSETTO:+0200
TZNAME:CEST
DTSTART:20220327T010000
END:DAYLIGHT
BEGIN:STANDARD
TZOFFSETFROM:+0200
TZOFFSETTO:+0100
TZNAME:CET
DTSTART:20221030T010000
END:STANDARD
BEGIN:DAYLIGHT
TZOFFSETFROM:+0100
TZOFFSETTO:+0200
TZNAME:CEST
DTSTART:20230326T010000
END:DAYLIGHT
BEGIN:STANDARD
TZOFFSETFROM:+0200
TZOFFSETTO:+0100
TZNAME:CET
DTSTART:20231029T010000
END:STANDARD
BEGIN:DAYLIGHT
TZOFFSETFROM:+0100
TZOFFSETTO:+0200
TZNAME:CEST
DTSTART:20240331T010000
END:DAYLIGHT
BEGIN:STANDARD
TZOFFSETFROM:+0200
TZOFFSETTO:+0100
TZNAME:CET
DTSTART:20241027T010000
END:STANDARD
BEGIN:DAYLIGHT
TZOFFSETFROM:+0100
TZOFFSETTO:+0200
TZNAME:CEST
DTSTART:20250330T010000
END:DAYLIGHT
BEGIN:STANDARD
TZOFFSETFROM:+0200
TZOFFSETTO:+0100
TZNAME:CET
DTSTART:20251026T010000
END:STANDARD
END:VTIMEZONE
BEGIN:VEVENT
DTSTART;TZID=Europe/Vienna:20240630T080000
DTEND;TZID=Europe/Vienna:20240630T170000
DTSTAMP:20260421T023526
CREATED:20240621T113553Z
LAST-MODIFIED:20240621T114153Z
UID:10036878-1719734400-1719766800@www.stadtmarketing-klosterneuburg.at
SUMMARY:3. Scheiblingsteiner Turnier
DESCRIPTION:Am Sonntag\, den 30. Juni 2024 steigt das Jubiläumsturnier im Bogenparcourspark Scheiblingstein. \nAlle Infos dazu erfahren Sie hier.  \nAnmeldung:\n\nwww.3dturnier.com\ninfo@bogenparcours-scheiblingstein.at\n\nAlle Infos:\n\nBogenparcours Scheiblingstein\n\n 
URL:https://www.stadtmarketing-klosterneuburg.at/veranstaltung/3-scheiblingsteiner-turnier/
LOCATION:Bogenparcours Scheiblingstein\, Tullner Straße 5\, Scheiblingstein\, Niederösterreich\, 3400\, Austria
CATEGORIES:Outdoorsport,Sport & Gesundheit,Wettbewerbe
ATTACH;FMTTYPE=image/jpeg:https://www.stadtmarketing-klosterneuburg.at/wp-content/uploads/2024/06/Scheiblingsteiner-Turnier-c-Parcours-Scheiblingstein.jpg
END:VEVENT
BEGIN:VEVENT
DTSTART;TZID=Europe/Vienna:20230603T140000
DTEND;TZID=Europe/Vienna:20230603T170000
DTSTAMP:20260421T023526
CREATED:20230521T074708Z
LAST-MODIFIED:20240621T102525Z
UID:10026683-1685800800-1685811600@www.stadtmarketing-klosterneuburg.at
SUMMARY:Bogenschieß-Wettbewerb
DESCRIPTION:Treffpunkt: 14 Uhr bei der Watzmannhütte am Einschießplatz Bogenparcours-Scheiblingstein\nWettbewerb auf Zielscheiben\nVoraussichtliches Ende ca. 17 Uhr \nErsatztermin bei Schlechtwetter: 24.6.2023 \nNenngeld für Nicht-Mitglieder: Erwachsene € 10 /Kinder € 5\nEtwaige Leihausrüstung bitte bei der Nennung bekanntgeben. \nAuch Zuseher & Nicht-Mitglieder sind herzlich willkommen! \nNennschluss ist der 25. Mai 2023\, 12 Uhr! \nNennung ausschließlich unter:\n\nverein@scheiblingstein.at\n\nAlle Infos:\n\nwww.scheiblingstein.at\nFACEBOOK\n\n 
URL:https://www.stadtmarketing-klosterneuburg.at/veranstaltung/bogenschiess-wettbewerb/
LOCATION:Bogenparcours Scheiblingstein\, Tullner Straße 5\, Scheiblingstein\, Niederösterreich\, 3400\, Austria
CATEGORIES:Familien,Outdoorsport,Sport & Gesundheit,Wettbewerbe
ATTACH;FMTTYPE=image/jpeg:https://www.stadtmarketing-klosterneuburg.at/wp-content/uploads/2023/05/Bogenparcours-c-Wir-Scheiblingsteiner.jpg
END:VEVENT
END:VCALENDAR