BEGIN:VCALENDAR
VERSION:2.0
PRODID:-//Stadtmarketing Klosterneuburg - ECPv6.15.17.1//NONSGML v1.0//EN
CALSCALE:GREGORIAN
METHOD:PUBLISH
X-ORIGINAL-URL:https://www.stadtmarketing-klosterneuburg.at
X-WR-CALDESC:Veranstaltungen für Stadtmarketing Klosterneuburg
REFRESH-INTERVAL;VALUE=DURATION:PT1H
X-Robots-Tag:noindex
X-PUBLISHED-TTL:PT1H
BEGIN:VTIMEZONE
TZID:Europe/Vienna
BEGIN:DAYLIGHT
TZOFFSETFROM:+0100
TZOFFSETTO:+0200
TZNAME:CEST
DTSTART:20240331T010000
END:DAYLIGHT
BEGIN:STANDARD
TZOFFSETFROM:+0200
TZOFFSETTO:+0100
TZNAME:CET
DTSTART:20241027T010000
END:STANDARD
BEGIN:DAYLIGHT
TZOFFSETFROM:+0100
TZOFFSETTO:+0200
TZNAME:CEST
DTSTART:20250330T010000
END:DAYLIGHT
BEGIN:STANDARD
TZOFFSETFROM:+0200
TZOFFSETTO:+0100
TZNAME:CET
DTSTART:20251026T010000
END:STANDARD
BEGIN:DAYLIGHT
TZOFFSETFROM:+0100
TZOFFSETTO:+0200
TZNAME:CEST
DTSTART:20260329T010000
END:DAYLIGHT
BEGIN:STANDARD
TZOFFSETFROM:+0200
TZOFFSETTO:+0100
TZNAME:CET
DTSTART:20261025T010000
END:STANDARD
END:VTIMEZONE
BEGIN:VEVENT
DTSTART;TZID=Europe/Vienna:20250704T100000
DTEND;TZID=Europe/Vienna:20250704T180000
DTSTAMP:20260420T131649
CREATED:20250623T104422Z
LAST-MODIFIED:20250623T104519Z
UID:10042362-1751623200-1751652000@www.stadtmarketing-klosterneuburg.at
SUMMARY:Sommer Event @Lady Chic & Boutique Le Scarpe
DESCRIPTION:Donnerstag\, 3.7. & Freitag\, 4.7. / OPEN HOUSE ab 10 Uhr!\nNeue Sommerkollektion! Bis zu 30% Rabatt! Saisonabschluss Frühjahrsmode! \nLady Chic & Boutique Le Scarpe\n3400 Klosterneuburg\, Stadtplatz 39 & 40
URL:https://www.stadtmarketing-klosterneuburg.at/veranstaltung/sommer-event-lady-chic-boutique-le-scarpe/2025-07-04/
LOCATION:Boutique Lady Chic\, Stadtplatz 39\, Klosterneuburg\, Niederösterreich\, 3400\, Austria
CATEGORIES:Einkaufen & Wirtschaft,Sonstige
ATTACH;FMTTYPE=image/jpeg:https://www.stadtmarketing-klosterneuburg.at/wp-content/uploads/2025/06/Sommer-Event-c-Lady-Chic_Boutique-Le-Scarpe.jpg
END:VEVENT
BEGIN:VEVENT
DTSTART;TZID=Europe/Vienna:20250703T100000
DTEND;TZID=Europe/Vienna:20250703T180000
DTSTAMP:20260420T131649
CREATED:20250623T104422Z
LAST-MODIFIED:20250623T104519Z
UID:10042361-1751536800-1751565600@www.stadtmarketing-klosterneuburg.at
SUMMARY:Sommer Event @Lady Chic & Boutique Le Scarpe
DESCRIPTION:Donnerstag\, 3.7. & Freitag\, 4.7. / OPEN HOUSE ab 10 Uhr!\nNeue Sommerkollektion! Bis zu 30% Rabatt! Saisonabschluss Frühjahrsmode! \nLady Chic & Boutique Le Scarpe\n3400 Klosterneuburg\, Stadtplatz 39 & 40
URL:https://www.stadtmarketing-klosterneuburg.at/veranstaltung/sommer-event-lady-chic-boutique-le-scarpe/2025-07-03/
LOCATION:Boutique Lady Chic\, Stadtplatz 39\, Klosterneuburg\, Niederösterreich\, 3400\, Austria
CATEGORIES:Einkaufen & Wirtschaft,Sonstige
ATTACH;FMTTYPE=image/jpeg:https://www.stadtmarketing-klosterneuburg.at/wp-content/uploads/2025/06/Sommer-Event-c-Lady-Chic_Boutique-Le-Scarpe.jpg
END:VEVENT
END:VCALENDAR