BEGIN:VCALENDAR
VERSION:2.0
PRODID:-//Stadtmarketing Klosterneuburg - ECPv6.15.20//NONSGML v1.0//EN
CALSCALE:GREGORIAN
METHOD:PUBLISH
X-WR-CALNAME:Stadtmarketing Klosterneuburg
X-ORIGINAL-URL:https://www.stadtmarketing-klosterneuburg.at
X-WR-CALDESC:Veranstaltungen für Stadtmarketing Klosterneuburg
REFRESH-INTERVAL;VALUE=DURATION:PT1H
X-Robots-Tag:noindex
X-PUBLISHED-TTL:PT1H
BEGIN:VTIMEZONE
TZID:Europe/Vienna
BEGIN:DAYLIGHT
TZOFFSETFROM:+0100
TZOFFSETTO:+0200
TZNAME:CEST
DTSTART:20210328T010000
END:DAYLIGHT
BEGIN:STANDARD
TZOFFSETFROM:+0200
TZOFFSETTO:+0100
TZNAME:CET
DTSTART:20211031T010000
END:STANDARD
BEGIN:DAYLIGHT
TZOFFSETFROM:+0100
TZOFFSETTO:+0200
TZNAME:CEST
DTSTART:20220327T010000
END:DAYLIGHT
BEGIN:STANDARD
TZOFFSETFROM:+0200
TZOFFSETTO:+0100
TZNAME:CET
DTSTART:20221030T010000
END:STANDARD
BEGIN:DAYLIGHT
TZOFFSETFROM:+0100
TZOFFSETTO:+0200
TZNAME:CEST
DTSTART:20230326T010000
END:DAYLIGHT
BEGIN:STANDARD
TZOFFSETFROM:+0200
TZOFFSETTO:+0100
TZNAME:CET
DTSTART:20231029T010000
END:STANDARD
BEGIN:DAYLIGHT
TZOFFSETFROM:+0100
TZOFFSETTO:+0200
TZNAME:CEST
DTSTART:20240331T010000
END:DAYLIGHT
BEGIN:STANDARD
TZOFFSETFROM:+0200
TZOFFSETTO:+0100
TZNAME:CET
DTSTART:20241027T010000
END:STANDARD
BEGIN:DAYLIGHT
TZOFFSETFROM:+0100
TZOFFSETTO:+0200
TZNAME:CEST
DTSTART:20250330T010000
END:DAYLIGHT
BEGIN:STANDARD
TZOFFSETFROM:+0200
TZOFFSETTO:+0100
TZNAME:CET
DTSTART:20251026T010000
END:STANDARD
BEGIN:DAYLIGHT
TZOFFSETFROM:+0100
TZOFFSETTO:+0200
TZNAME:CEST
DTSTART:20260329T010000
END:DAYLIGHT
BEGIN:STANDARD
TZOFFSETFROM:+0200
TZOFFSETTO:+0100
TZNAME:CET
DTSTART:20261025T010000
END:STANDARD
BEGIN:DAYLIGHT
TZOFFSETFROM:+0100
TZOFFSETTO:+0200
TZNAME:CEST
DTSTART:20270328T010000
END:DAYLIGHT
BEGIN:STANDARD
TZOFFSETFROM:+0200
TZOFFSETTO:+0100
TZNAME:CET
DTSTART:20271031T010000
END:STANDARD
END:VTIMEZONE
BEGIN:VEVENT
DTSTART;TZID=Europe/Vienna:20260313T181500
DTEND;TZID=Europe/Vienna:20260313T200000
DTSTAMP:20260421T214128
CREATED:20260204T141501Z
LAST-MODIFIED:20260204T142927Z
UID:10044708-1773425700-1773432000@www.stadtmarketing-klosterneuburg.at
SUMMARY:Bücherei Kierling: Lesekreis
DESCRIPTION:Der Lesekreis der Bücherei Kierling trifft sich am Freitag\, 13. März um 18.15 Uhr. \nThema: Der Roman „Wildhonig“  von Jodi Picoult \nEs gibt mehrere Exemplar zum Verleih! \nInteressierte Personen sind gerne eingeladen\, dabei zu sein – auch ohne das Buch vorher gelesen zu haben. Die Teilnahme ist kostenlos! \nUm Anmeldung wird gebeten:\n\nverleih@bibliothek-kierling.at\nwww.kierling-klosterneuburg.bvoe.at
URL:https://www.stadtmarketing-klosterneuburg.at/veranstaltung/buecherei-kierling-lesekreis-6/
LOCATION:Bücherei Kierling – Haus im Grünen\, Hauptstraße 114\, Kierling\, 3400\, Austria
CATEGORIES:Bildung,Kunst & Kultur,Literatur,Sonstige
ATTACH;FMTTYPE=image/jpeg:https://www.stadtmarketing-klosterneuburg.at/wp-content/uploads/2022/11/Buecherei-c-Pixabay-1.jpg
END:VEVENT
BEGIN:VEVENT
DTSTART;TZID=Europe/Vienna:20260116T181500
DTEND;TZID=Europe/Vienna:20260116T200000
DTSTAMP:20260421T214128
CREATED:20260115T095821Z
LAST-MODIFIED:20260115T101131Z
UID:10044167-1768587300-1768593600@www.stadtmarketing-klosterneuburg.at
SUMMARY:Bücherei Kierling: Lesekreis
DESCRIPTION:Der Lesekreis der Bücherei Kierling trifft sich am Freitag\, 16. Jänner um 18.15 Uhr. \nThema: Das Buch „James“ von Percival Everett \nInteressierte Personen sind gerne eingeladen\, dabei zu sein – auch ohne das Buch vorher gelesen zu haben. Die Teilnahme ist kostenlos! \nUm Anmeldung wird gebeten:\n\nverleih@bibliothek-kierling.at\nwww.kierling-klosterneuburg.bvoe.at
URL:https://www.stadtmarketing-klosterneuburg.at/veranstaltung/buecherei-kierling-lesekreis-5/
LOCATION:Bücherei Kierling – Haus im Grünen\, Hauptstraße 114\, Kierling\, 3400\, Austria
CATEGORIES:Bildung,Kunst & Kultur,Literatur,Sonstige
ATTACH;FMTTYPE=image/jpeg:https://www.stadtmarketing-klosterneuburg.at/wp-content/uploads/2022/11/Buecherei-c-Pixabay-1.jpg
END:VEVENT
BEGIN:VEVENT
DTSTART;TZID=Europe/Vienna:20241109T110000
DTEND;TZID=Europe/Vienna:20241109T140000
DTSTAMP:20260421T214128
CREATED:20241106T105246Z
LAST-MODIFIED:20241106T110342Z
UID:10035702-1731150000-1731160800@www.stadtmarketing-klosterneuburg.at
SUMMARY:Franz Kafka in kleinen Schritten
DESCRIPTION:Lernen Sie Franz Kafka in kleinen Schritten kennen!\nTreffpunkt: Samstag 9.11.2024 um 11  Uhr vor der Bücherei Kierling im Hof des Hauses im Grünen \nDas ganze Jahr über wurden viele kleine Bausteine gesammelt\, die nun bei einem Spaziergang anhand des vorliegenden Konzeptes für einen Franz-Kafka-Spazierweg gezeigt werden.\nDie endgültige Ausfertigung der geplanten Informationstafeln steht noch bevor. In einer gemeinsamen „Redaktionssitzung“\, die – wortwörtlich – in kleinen Schritten stattfindet\, sind alle Interessierten herzlich eingeladen\, ein Wörtchen mitzureden. Konstruktive Hinweise und Tipps sind willkommen! \nDer Spaziergang führt vom Haus im Grünen bis zum Kafka Gedenkraum im ehemaligen Sanatorium Hoffmann. \nHier haben Sie die Gelegenheit den Gedenkraum zu besichtigen\, der von 9 – 13 Uhr geöffnet ist. \nAnschließend Einkehrmöglichkeit im Kierlingerhof! (Mittagessen auf eigene Kosten) \nDie Teilnahme am Spaziergang und der Besuch des Kafka Gedenkraumes sind frei\, Spenden gerne erbeten! \nAnmeldung erforderlich:\nverleih@bibliothek-kierling.at \nAlle Infos:\nAktuelle Veranstaltungen „November 2024“ | Öffentliche Bücherei Kierling-Klosterneuburg \n  \n 
URL:https://www.stadtmarketing-klosterneuburg.at/veranstaltung/franz-kafka-in-kleinen-schritten/
LOCATION:Bücherei Kierling – Haus im Grünen\, Hauptstraße 114\, Kierling\, 3400\, Austria
CATEGORIES:Ausstellungen & Messen,Bildung,Führungen, Wanderungen & Touren,Kunst & Kultur,Literatur,Vorträge & Diskussionen
ATTACH;FMTTYPE=image/jpeg:https://www.stadtmarketing-klosterneuburg.at/wp-content/uploads/2024/02/Franz-Kafka-Signatur-c-OeFKG.jpg
END:VEVENT
BEGIN:VEVENT
DTSTART;TZID=Europe/Vienna:20241107T100000
DTEND;TZID=Europe/Vienna:20241107T110000
DTSTAMP:20260421T214128
CREATED:20241106T104102Z
LAST-MODIFIED:20241106T104124Z
UID:10038478-1730973600-1730977200@www.stadtmarketing-klosterneuburg.at
SUMMARY:Bücherei Kierling: Vorlesevormittag
DESCRIPTION:für Kinder bis 3 Jahre\nKostenlose Vorlesestunde unter dem Motto „Vorlesen & Entdecken“ \nViele Tipps und liebevoll vorbereitete Materialien zeigt Petra Kerschl-Barnucz für die ersten (Vor-) Leseerlebnisse unserer jüngsten Kinder. Kommen Sie dazu! \nUm Anmeldung wird gebeten:\n\nverleih@bibliothek-kierling.at\nwww.kierling-klosterneuburg.bvoe.at
URL:https://www.stadtmarketing-klosterneuburg.at/veranstaltung/buecherei-kierling-vorlesevormittag-2/
LOCATION:Bücherei Kierling – Haus im Grünen\, Hauptstraße 114\, Kierling\, 3400\, Austria
CATEGORIES:Bildung,Familien,Kinder,Kunst & Kultur,Lesung,Literatur,Sonstige
ATTACH;FMTTYPE=image/jpeg:https://www.stadtmarketing-klosterneuburg.at/wp-content/uploads/2024/03/Vorlesestunde-c-Buecherei-Kierling.jpg
END:VEVENT
BEGIN:VEVENT
DTSTART;TZID=Europe/Vienna:20240524T180000
DTEND;TZID=Europe/Vienna:20240524T200000
DTSTAMP:20260421T214128
CREATED:20240420T093238Z
LAST-MODIFIED:20240420T100033Z
UID:10035987-1716573600-1716580800@www.stadtmarketing-klosterneuburg.at
SUMMARY:Bücherei Kierling: Lesekreis
DESCRIPTION:Der Lesekreis der Bücherei Kierling trifft sich am Freitag\, 24. Mai um 18.15 Uhr. \nThema: Werk von und über Franz Kafka \nJede:r liest ein Buch aus diesem Themenfeld und erzählt beim Lesekreis davon. \nEine große Auswahl an Büchern zum Thema des Jahres 2024 liegt in der Bücherei bereit. \nAnmeldung & Infos:\n\nTel: +43/ (0)2243/ 877 09\nverleih@bibliothek-kierling.at\nwww.kierling-klosterneuburg.bvoe.at
URL:https://www.stadtmarketing-klosterneuburg.at/veranstaltung/buecherei-kierling-lesekreis-4/
LOCATION:Bücherei Kierling – Haus im Grünen\, Hauptstraße 114\, Kierling\, 3400\, Austria
CATEGORIES:Bildung,Kunst & Kultur,Literatur,Sonstige
ATTACH;FMTTYPE=image/jpeg:https://www.stadtmarketing-klosterneuburg.at/wp-content/uploads/2024/04/Kafka-Folder-c-Stadtgemeinde-Klbg.jpg
END:VEVENT
BEGIN:VEVENT
DTSTART;TZID=Europe/Vienna:20240320T180000
DTEND;TZID=Europe/Vienna:20240320T200000
DTSTAMP:20260421T214128
CREATED:20240304T122417Z
LAST-MODIFIED:20240304T122517Z
UID:10035070-1710957600-1710964800@www.stadtmarketing-klosterneuburg.at
SUMMARY:Bücherei Kierling: Lesekreis
DESCRIPTION:Der Lesekreis der Bücherei Kierling trifft sich am Mittwoch\, 20. März um 18.15 Uhr. \nPräsentation des Buches „Chorprobe“ von Sabine M. Gruber \nDieses Buch hat die Wiener Chöre ganz schön durcheinander gewirbelt… Scharf beobachtete Usancen werden schonungslos geschildert. \nEs liegen bereits mehrere Exemplare in der Bücherei zum Verleih auf. \nAnmeldung & Infos:\n\nverleih@bibliothek-kierling.at\nwww.kierling-klosterneuburg.bvoe.at
URL:https://www.stadtmarketing-klosterneuburg.at/veranstaltung/buecherei-kierling-lesekreis-3/
LOCATION:Bücherei Kierling – Haus im Grünen\, Hauptstraße 114\, Kierling\, 3400\, Austria
CATEGORIES:Bildung,Kunst & Kultur,Literatur,Sonstige
ATTACH;FMTTYPE=image/jpeg:https://www.stadtmarketing-klosterneuburg.at/wp-content/uploads/2022/11/Buecherei-c-Pixabay-1.jpg
END:VEVENT
BEGIN:VEVENT
DTSTART;TZID=Europe/Vienna:20240306T100000
DTEND;TZID=Europe/Vienna:20240306T110000
DTSTAMP:20260421T214128
CREATED:20240304T101011Z
LAST-MODIFIED:20240304T113906Z
UID:10035067-1709719200-1709722800@www.stadtmarketing-klosterneuburg.at
SUMMARY:Bücherei Kierling: Vorlesevormittag
DESCRIPTION:für Kinder bis 3 Jahre\nKostenlose Vorlesestunde unter dem Motto „Vorlesen & Entdecken“ \nUm Anmeldung wird gebeten:\n\nverleih@bibliothek-kierling.at\nwww.kierling-klosterneuburg.bvoe.at
URL:https://www.stadtmarketing-klosterneuburg.at/veranstaltung/buecherei-kierling-vorlesevormittag/
LOCATION:Bücherei Kierling – Haus im Grünen\, Hauptstraße 114\, Kierling\, 3400\, Austria
CATEGORIES:Bildung,Familien,Kinder,Kunst & Kultur,Lesung,Literatur,Sonstige
ATTACH;FMTTYPE=image/jpeg:https://www.stadtmarketing-klosterneuburg.at/wp-content/uploads/2024/03/Vorlesestunde-c-Buecherei-Kierling.jpg
END:VEVENT
BEGIN:VEVENT
DTSTART;TZID=Europe/Vienna:20230120T180000
DTEND;TZID=Europe/Vienna:20230120T200000
DTSTAMP:20260421T214128
CREATED:20230111T201653Z
LAST-MODIFIED:20230917T103051Z
UID:10024166-1674237600-1674244800@www.stadtmarketing-klosterneuburg.at
SUMMARY:Bücherei Kierling: Lesekreis
DESCRIPTION:Thema ist der bemerkenswerte Roman der jungen finnischen Autorin Petra Rautiainen „Land aus Schnee und Asche“.\nIn der Bücherei sind mehrere Exemplare zur Verfügung gestellt\, holen Sie sich noch rechtzeitig eines…\nAuch Interessierte\, die das Buch noch nicht gelesen haben\, sind Sie herzlich eingeladen. \nAustausch von Lesetipps aus und Auswahl des Buches für den nächsten Lesekreis . \nKontakt:\n\nverleih@bibliothek-kierling.at\nwww.kierling-klosterneuburg.bvoe.at
URL:https://www.stadtmarketing-klosterneuburg.at/veranstaltung/buecherei-kierling-lesekreis/
LOCATION:Bücherei Kierling – Haus im Grünen\, Hauptstraße 114\, Kierling\, 3400\, Austria
CATEGORIES:Bildung,Kunst & Kultur,Literatur,Sonstige
ATTACH;FMTTYPE=image/jpeg:https://www.stadtmarketing-klosterneuburg.at/wp-content/uploads/2022/11/Buecherei-c-Pixabay-1.jpg
END:VEVENT
BEGIN:VEVENT
DTSTART;TZID=Europe/Vienna:20221111T180000
DTEND;TZID=Europe/Vienna:20221111T200000
DTSTAMP:20260421T214128
CREATED:20221110T094208Z
LAST-MODIFIED:20221110T095608Z
UID:10023348-1668189600-1668196800@www.stadtmarketing-klosterneuburg.at
SUMMARY:Lesekreis 2.0
DESCRIPTION:startet am 11.11. um 18.15 Uhr wieder in der Bücherei Kierling ! \nKommen Sie zu einer gemütlichen Plauderstunde und erzählen Sie nach Wunsch über Ihr aktuelles Lieblingsbuch…\nEs wäre schön\, wenn sich wieder eine Lesekreisrunde zusammenfindet.\nDer Raum dafür wird zur Verfügung gestellt & bei Bedarf auch Bücher.\nJeder ist herzlich willkommen!
URL:https://www.stadtmarketing-klosterneuburg.at/veranstaltung/lesekreis-2-0/
LOCATION:Bücherei Kierling – Haus im Grünen\, Hauptstraße 114\, Kierling\, 3400\, Austria
CATEGORIES:Bildung,Kunst & Kultur,Literatur,Sonstige
ATTACH;FMTTYPE=image/jpeg:https://www.stadtmarketing-klosterneuburg.at/wp-content/uploads/2022/11/Buecherei-c-Pixabay-1.jpg
END:VEVENT
END:VCALENDAR