BEGIN:VCALENDAR
VERSION:2.0
PRODID:-//Stadtmarketing Klosterneuburg - ECPv6.15.17.1//NONSGML v1.0//EN
CALSCALE:GREGORIAN
METHOD:PUBLISH
X-ORIGINAL-URL:https://www.stadtmarketing-klosterneuburg.at
X-WR-CALDESC:Veranstaltungen für Stadtmarketing Klosterneuburg
REFRESH-INTERVAL;VALUE=DURATION:PT1H
X-Robots-Tag:noindex
X-PUBLISHED-TTL:PT1H
BEGIN:VTIMEZONE
TZID:Europe/Vienna
BEGIN:DAYLIGHT
TZOFFSETFROM:+0100
TZOFFSETTO:+0200
TZNAME:CEST
DTSTART:20220327T010000
END:DAYLIGHT
BEGIN:STANDARD
TZOFFSETFROM:+0200
TZOFFSETTO:+0100
TZNAME:CET
DTSTART:20221030T010000
END:STANDARD
BEGIN:DAYLIGHT
TZOFFSETFROM:+0100
TZOFFSETTO:+0200
TZNAME:CEST
DTSTART:20230326T010000
END:DAYLIGHT
BEGIN:STANDARD
TZOFFSETFROM:+0200
TZOFFSETTO:+0100
TZNAME:CET
DTSTART:20231029T010000
END:STANDARD
BEGIN:DAYLIGHT
TZOFFSETFROM:+0100
TZOFFSETTO:+0200
TZNAME:CEST
DTSTART:20240331T010000
END:DAYLIGHT
BEGIN:STANDARD
TZOFFSETFROM:+0200
TZOFFSETTO:+0100
TZNAME:CET
DTSTART:20241027T010000
END:STANDARD
BEGIN:DAYLIGHT
TZOFFSETFROM:+0100
TZOFFSETTO:+0200
TZNAME:CEST
DTSTART:20250330T010000
END:DAYLIGHT
BEGIN:STANDARD
TZOFFSETFROM:+0200
TZOFFSETTO:+0100
TZNAME:CET
DTSTART:20251026T010000
END:STANDARD
BEGIN:DAYLIGHT
TZOFFSETFROM:+0100
TZOFFSETTO:+0200
TZNAME:CEST
DTSTART:20260329T010000
END:DAYLIGHT
BEGIN:STANDARD
TZOFFSETFROM:+0200
TZOFFSETTO:+0100
TZNAME:CET
DTSTART:20261025T010000
END:STANDARD
END:VTIMEZONE
BEGIN:VEVENT
DTSTART;TZID=Europe/Vienna:20250301T090000
DTEND;TZID=Europe/Vienna:20250301T150000
DTSTAMP:20260420T083858
CREATED:20250226T122110Z
LAST-MODIFIED:20250226T122815Z
UID:10040697-1740819600-1740841200@www.stadtmarketing-klosterneuburg.at
SUMMARY:Pyjamaparty @Atelier Klein
DESCRIPTION:Das Atelier Klein feiert sein erstes Event 2025: Pyjamaparty & Alkoholfreiheit\n\nLernen Sie das jüngste Projekt Nachtwäsche kennen und profitieren Sie vom 15% Rabatt!\nKosten Sie\, wie außergewöhnlich gut alkoholfreie Speisebegleiter schmecken können!\n\nMonika und Sigmund Klein freuen sich über zahlreiche Besucher!
URL:https://www.stadtmarketing-klosterneuburg.at/veranstaltung/pyjamaparty-atelier-klein/2025-03-01/
LOCATION:Das Atelier\, Hauptstraße 8a\, Weidling\, Niederösterreich\, 3400\, Austria
CATEGORIES:Clubbings & Parties,Einkaufen & Wirtschaft,Fasching
ATTACH;FMTTYPE=image/jpeg:https://www.stadtmarketing-klosterneuburg.at/wp-content/uploads/2025/02/Pyjamaparty-c-Atelier-Klein.jpg
END:VEVENT
BEGIN:VEVENT
DTSTART;TZID=Europe/Vienna:20250228T090000
DTEND;TZID=Europe/Vienna:20250228T180000
DTSTAMP:20260420T083858
CREATED:20250226T122110Z
LAST-MODIFIED:20250226T122815Z
UID:10040696-1740733200-1740765600@www.stadtmarketing-klosterneuburg.at
SUMMARY:Pyjamaparty @Atelier Klein
DESCRIPTION:Das Atelier Klein feiert sein erstes Event 2025: Pyjamaparty & Alkoholfreiheit\n\nLernen Sie das jüngste Projekt Nachtwäsche kennen und profitieren Sie vom 15% Rabatt!\nKosten Sie\, wie außergewöhnlich gut alkoholfreie Speisebegleiter schmecken können!\n\nMonika und Sigmund Klein freuen sich über zahlreiche Besucher!
URL:https://www.stadtmarketing-klosterneuburg.at/veranstaltung/pyjamaparty-atelier-klein/2025-02-28/
LOCATION:Das Atelier\, Hauptstraße 8a\, Weidling\, Niederösterreich\, 3400\, Austria
CATEGORIES:Clubbings & Parties,Einkaufen & Wirtschaft,Fasching
ATTACH;FMTTYPE=image/jpeg:https://www.stadtmarketing-klosterneuburg.at/wp-content/uploads/2025/02/Pyjamaparty-c-Atelier-Klein.jpg
END:VEVENT
BEGIN:VEVENT
DTSTART;TZID=Europe/Vienna:20250227T090000
DTEND;TZID=Europe/Vienna:20250227T180000
DTSTAMP:20260420T083858
CREATED:20250226T122110Z
LAST-MODIFIED:20250226T122815Z
UID:10040695-1740646800-1740679200@www.stadtmarketing-klosterneuburg.at
SUMMARY:Pyjamaparty @Atelier Klein
DESCRIPTION:Das Atelier Klein feiert sein erstes Event 2025: Pyjamaparty & Alkoholfreiheit\n\nLernen Sie das jüngste Projekt Nachtwäsche kennen und profitieren Sie vom 15% Rabatt!\nKosten Sie\, wie außergewöhnlich gut alkoholfreie Speisebegleiter schmecken können!\n\nMonika und Sigmund Klein freuen sich über zahlreiche Besucher!
URL:https://www.stadtmarketing-klosterneuburg.at/veranstaltung/pyjamaparty-atelier-klein/2025-02-27/
LOCATION:Das Atelier\, Hauptstraße 8a\, Weidling\, Niederösterreich\, 3400\, Austria
CATEGORIES:Clubbings & Parties,Einkaufen & Wirtschaft,Fasching
ATTACH;FMTTYPE=image/jpeg:https://www.stadtmarketing-klosterneuburg.at/wp-content/uploads/2025/02/Pyjamaparty-c-Atelier-Klein.jpg
END:VEVENT
BEGIN:VEVENT
DTSTART;TZID=Europe/Vienna:20241207T150000
DTEND;TZID=Europe/Vienna:20241207T200000
DTSTAMP:20260420T083858
CREATED:20241202T095112Z
LAST-MODIFIED:20241202T095620Z
UID:10038686-1733583600-1733601600@www.stadtmarketing-klosterneuburg.at
SUMMARY:Griechischer Wein\, französische Seide & italienische Düfte
DESCRIPTION:Das Atelier Klein lädt am 7. Dezember 2024 von 15 – 20 Uhr zur exklusiven Präsentation ein!\n  \n\nGriechischer Wein -Sonja & Andreas Buxbaum bieten Ihre ausgewählten Produkte zur Verkostung!\nFranzösische Seide – Damen-Nachtwäsche aus edelster Lyoneser Seide und feinster Baumwolle ganz neu im Sortiment des Atelier Klein !\nItalienische Düfte – Verwöhnen Sie Ihre Sinne mit den neuen Parfüms und Raumdüften!\n\nHier können Sie gerne auch mit  dem Klosterneuburg Gutschein bezahlen! \nMonika und Sigmund Klein freuen sich über zahlreiche Besucher!
URL:https://www.stadtmarketing-klosterneuburg.at/veranstaltung/griechischer-wein-franzoesische-seide-italienische-duefte/
LOCATION:Das Atelier\, Hauptstraße 8a\, Weidling\, Niederösterreich\, 3400\, Austria
CATEGORIES:Clubbings & Parties,Einkaufen & Wirtschaft,Sonstige
ATTACH;FMTTYPE=image/jpeg:https://www.stadtmarketing-klosterneuburg.at/wp-content/uploads/2024/12/Atelier-Klein-Praesentation-24-c-Das-Atelier.jpg
END:VEVENT
BEGIN:VEVENT
DTSTART;TZID=Europe/Vienna:20241010T160000
DTEND;TZID=Europe/Vienna:20241010T210000
DTSTAMP:20260420T083858
CREATED:20241007T074927Z
LAST-MODIFIED:20241007T075025Z
UID:10038244-1728576000-1728594000@www.stadtmarketing-klosterneuburg.at
SUMMARY:Kaschmir | Champagner | Kaviar
DESCRIPTION:Unter diesem Motto bietet das Atelier Klein ein Event der besonderen Art!\nEs gibt französischen Schampus und österreichischen Kaviar zu probieren und\, falls jemand will\, auch zu kaufen oder bestellen! \nFinden Sie hier auch eine Traum-Auswahl an eben eingetroffenen\, neuen Kaschmirprodukten. \nAls absolute Novität im Hause Klein wird darüber hinaus auch Abend- und Nachtwäsche aus Lyoner Seide bis hin zu hochgezwirnter seidenweicher Baumwolle gezeigt. \nHier können Sie gerne auch mit  dem Klosterneuburg Gutschein bezahlen! \nMonika & Sigmund Klein freuen sich über zahlreiche Besucher!
URL:https://www.stadtmarketing-klosterneuburg.at/veranstaltung/kaschmir-champager-kaviar/
LOCATION:Das Atelier\, Hauptstraße 8a\, Weidling\, Niederösterreich\, 3400\, Austria
CATEGORIES:Einkaufen & Wirtschaft,Kulinarik & Wein,Weinpräsentationen & Verkostungen
ATTACH;FMTTYPE=image/jpeg:https://www.stadtmarketing-klosterneuburg.at/wp-content/uploads/2024/10/Atelier-Klein-Event-c-Das-Atelier.jpg
END:VEVENT
BEGIN:VEVENT
DTSTART;TZID=Europe/Vienna:20230909T090000
DTEND;TZID=Europe/Vienna:20230909T170000
DTSTAMP:20260420T083858
CREATED:20230901T144416Z
LAST-MODIFIED:20241202T095527Z
UID:10027544-1694250000-1694278800@www.stadtmarketing-klosterneuburg.at
SUMMARY:Das Atelier Klein - Geburtstag
DESCRIPTION:Das Atelier Klein feiert am 9. September 2023 seinen 5½ten Geburtstag!\nGetreu unserem Motto „Präge dem Leben Dein Zeichen ein“ haben Monika und Sigmund Klein von Anbeginn ihr Sortiment\, den Wünschen und Anfragen ihrer Kunden folgend\, regelmäßig erweitert. So wurde das Atelier Klein zum „Atelier für Gewand – Genuss – Geschenke“! \nSortiment:\n• Alles in Sachen Maßkleidung für Damen und Herren\n• Die Original Klosterneuburger Tracht\n• Pullis\, Stolas\, Tücher\, u.v.m.\n• Heimtextilien wie z.B. Geschirrtücher mit Stickereien veredelt\n• Parfums und Raumdüfte von Acqua dell’Elba\, sowie die oberösterreichischen „Piccolinis“-Duftöle\n• alles für Baby bis Kleinkind von selbst genähten Spucktüchern bzw. Stoff-Windel-Tücher bis hin zu den beliebten Steiff-Stofftieren\n• Duftkerzen mit ätherischen Ölen mit knisterndem Holzdocht oder normalen Dochten\n• Auswahl von besten Tees – Grün-\, Schwarz-\, Roibosch-oder Kräutertees \nSpezielle Verkostungen:\n\nGewürzmischungen\nmit natürlichen Aromen veredelte Olivenöle & Fruchtessige\nWeine von Peter Pscheidt\, bekannt als „Der Winzer“ aus Kritzendorf\n\nAngebote des Tages:\n\npassend zum Jubiläum gibt es auf das gesamte Sortiment einen Sonderrabatt von 5½ Prozent!\nAb-Hof-Preise auf die Weine von Peter Pscheidt\n\nHier können Sie gerne auch mit  dem Klosterneuburg Gutschein bezahlen! \nMonika und Sigmund Klein freuen sich über zahlreiche Besucher!
URL:https://www.stadtmarketing-klosterneuburg.at/veranstaltung/das-atelier-klein-geburtstag/
LOCATION:Das Atelier\, Hauptstraße 8a\, Weidling\, Niederösterreich\, 3400\, Austria
CATEGORIES:Clubbings & Parties,Einkaufen & Wirtschaft
ATTACH;FMTTYPE=image/jpeg:https://www.stadtmarketing-klosterneuburg.at/wp-content/uploads/2023/09/Atelier-Klein-c-Stadtmarketing-Klbg.jpg
END:VEVENT
END:VCALENDAR