BEGIN:VCALENDAR
VERSION:2.0
PRODID:-//Stadtmarketing Klosterneuburg - ECPv6.15.17.1//NONSGML v1.0//EN
CALSCALE:GREGORIAN
METHOD:PUBLISH
X-WR-CALNAME:Stadtmarketing Klosterneuburg
X-ORIGINAL-URL:https://www.stadtmarketing-klosterneuburg.at
X-WR-CALDESC:Veranstaltungen für Stadtmarketing Klosterneuburg
REFRESH-INTERVAL;VALUE=DURATION:PT1H
X-Robots-Tag:noindex
X-PUBLISHED-TTL:PT1H
BEGIN:VTIMEZONE
TZID:Europe/Vienna
BEGIN:DAYLIGHT
TZOFFSETFROM:+0100
TZOFFSETTO:+0200
TZNAME:CEST
DTSTART:20240331T010000
END:DAYLIGHT
BEGIN:STANDARD
TZOFFSETFROM:+0200
TZOFFSETTO:+0100
TZNAME:CET
DTSTART:20241027T010000
END:STANDARD
BEGIN:DAYLIGHT
TZOFFSETFROM:+0100
TZOFFSETTO:+0200
TZNAME:CEST
DTSTART:20250330T010000
END:DAYLIGHT
BEGIN:STANDARD
TZOFFSETFROM:+0200
TZOFFSETTO:+0100
TZNAME:CET
DTSTART:20251026T010000
END:STANDARD
BEGIN:DAYLIGHT
TZOFFSETFROM:+0100
TZOFFSETTO:+0200
TZNAME:CEST
DTSTART:20260329T010000
END:DAYLIGHT
BEGIN:STANDARD
TZOFFSETFROM:+0200
TZOFFSETTO:+0100
TZNAME:CET
DTSTART:20261025T010000
END:STANDARD
END:VTIMEZONE
BEGIN:VEVENT
DTSTART;TZID=Europe/Vienna:20251219T170000
DTEND;TZID=Europe/Vienna:20251219T210000
DTSTAMP:20260419T212527
CREATED:20251114T130817Z
LAST-MODIFIED:20251114T150351Z
UID:10043664-1766163600-1766178000@www.stadtmarketing-klosterneuburg.at
SUMMARY:Punschzeit @Lavendel
DESCRIPTION:Adventzeit ist Punschzeit im Lavendel\n27.11. bis 19.12.2025 / Donnerstag & Freitag / jeweils 17 – 21 Uhr / Punsch\, Kekse & Maroni \n  \nDas Lavendel – Feines & Süßes by Sabine im Inkupark Klosterneuburg \n 
URL:https://www.stadtmarketing-klosterneuburg.at/veranstaltung/punschzeit-lavendel/2025-12-19/
LOCATION:Das Lavendel – Feines & Süßes by Bine\, Inkupark 1-7\, Klosterneuburg\, Niederösterreich\, 3400\, Austria
CATEGORIES:Advent,Einkaufen & Wirtschaft,Familien,Kinder,Kulinarik & Wein,Kulinarische Veranstaltung
ATTACH;FMTTYPE=image/jpeg:https://www.stadtmarketing-klosterneuburg.at/wp-content/uploads/2025/11/Adventzeit-c-Das-Lavendel.jpg
END:VEVENT
BEGIN:VEVENT
DTSTART;TZID=Europe/Vienna:20251218T170000
DTEND;TZID=Europe/Vienna:20251218T210000
DTSTAMP:20260419T212527
CREATED:20251114T130817Z
LAST-MODIFIED:20251114T150351Z
UID:10043663-1766077200-1766091600@www.stadtmarketing-klosterneuburg.at
SUMMARY:Punschzeit @Lavendel
DESCRIPTION:Adventzeit ist Punschzeit im Lavendel\n27.11. bis 19.12.2025 / Donnerstag & Freitag / jeweils 17 – 21 Uhr / Punsch\, Kekse & Maroni \n  \nDas Lavendel – Feines & Süßes by Sabine im Inkupark Klosterneuburg \n 
URL:https://www.stadtmarketing-klosterneuburg.at/veranstaltung/punschzeit-lavendel/2025-12-18/
LOCATION:Das Lavendel – Feines & Süßes by Bine\, Inkupark 1-7\, Klosterneuburg\, Niederösterreich\, 3400\, Austria
CATEGORIES:Advent,Einkaufen & Wirtschaft,Familien,Kinder,Kulinarik & Wein,Kulinarische Veranstaltung
ATTACH;FMTTYPE=image/jpeg:https://www.stadtmarketing-klosterneuburg.at/wp-content/uploads/2025/11/Adventzeit-c-Das-Lavendel.jpg
END:VEVENT
BEGIN:VEVENT
DTSTART;TZID=Europe/Vienna:20251212T170000
DTEND;TZID=Europe/Vienna:20251212T210000
DTSTAMP:20260419T212527
CREATED:20251114T130817Z
LAST-MODIFIED:20251114T150351Z
UID:10043662-1765558800-1765573200@www.stadtmarketing-klosterneuburg.at
SUMMARY:Punschzeit @Lavendel
DESCRIPTION:Adventzeit ist Punschzeit im Lavendel\n27.11. bis 19.12.2025 / Donnerstag & Freitag / jeweils 17 – 21 Uhr / Punsch\, Kekse & Maroni \n  \nDas Lavendel – Feines & Süßes by Sabine im Inkupark Klosterneuburg \n 
URL:https://www.stadtmarketing-klosterneuburg.at/veranstaltung/punschzeit-lavendel/2025-12-12/
LOCATION:Das Lavendel – Feines & Süßes by Bine\, Inkupark 1-7\, Klosterneuburg\, Niederösterreich\, 3400\, Austria
CATEGORIES:Advent,Einkaufen & Wirtschaft,Familien,Kinder,Kulinarik & Wein,Kulinarische Veranstaltung
ATTACH;FMTTYPE=image/jpeg:https://www.stadtmarketing-klosterneuburg.at/wp-content/uploads/2025/11/Adventzeit-c-Das-Lavendel.jpg
END:VEVENT
BEGIN:VEVENT
DTSTART;TZID=Europe/Vienna:20251211T170000
DTEND;TZID=Europe/Vienna:20251211T210000
DTSTAMP:20260419T212527
CREATED:20251114T130817Z
LAST-MODIFIED:20251114T150351Z
UID:10043661-1765472400-1765486800@www.stadtmarketing-klosterneuburg.at
SUMMARY:Punschzeit @Lavendel
DESCRIPTION:Adventzeit ist Punschzeit im Lavendel\n27.11. bis 19.12.2025 / Donnerstag & Freitag / jeweils 17 – 21 Uhr / Punsch\, Kekse & Maroni \n  \nDas Lavendel – Feines & Süßes by Sabine im Inkupark Klosterneuburg \n 
URL:https://www.stadtmarketing-klosterneuburg.at/veranstaltung/punschzeit-lavendel/2025-12-11/
LOCATION:Das Lavendel – Feines & Süßes by Bine\, Inkupark 1-7\, Klosterneuburg\, Niederösterreich\, 3400\, Austria
CATEGORIES:Advent,Einkaufen & Wirtschaft,Familien,Kinder,Kulinarik & Wein,Kulinarische Veranstaltung
ATTACH;FMTTYPE=image/jpeg:https://www.stadtmarketing-klosterneuburg.at/wp-content/uploads/2025/11/Adventzeit-c-Das-Lavendel.jpg
END:VEVENT
BEGIN:VEVENT
DTSTART;TZID=Europe/Vienna:20251205T170000
DTEND;TZID=Europe/Vienna:20251205T210000
DTSTAMP:20260419T212527
CREATED:20251114T130817Z
LAST-MODIFIED:20251114T150351Z
UID:10043660-1764954000-1764968400@www.stadtmarketing-klosterneuburg.at
SUMMARY:Punschzeit @Lavendel
DESCRIPTION:Adventzeit ist Punschzeit im Lavendel\n27.11. bis 19.12.2025 / Donnerstag & Freitag / jeweils 17 – 21 Uhr / Punsch\, Kekse & Maroni \n  \nDas Lavendel – Feines & Süßes by Sabine im Inkupark Klosterneuburg \n 
URL:https://www.stadtmarketing-klosterneuburg.at/veranstaltung/punschzeit-lavendel/2025-12-05/
LOCATION:Das Lavendel – Feines & Süßes by Bine\, Inkupark 1-7\, Klosterneuburg\, Niederösterreich\, 3400\, Austria
CATEGORIES:Advent,Einkaufen & Wirtschaft,Familien,Kinder,Kulinarik & Wein,Kulinarische Veranstaltung
ATTACH;FMTTYPE=image/jpeg:https://www.stadtmarketing-klosterneuburg.at/wp-content/uploads/2025/11/Adventzeit-c-Das-Lavendel.jpg
END:VEVENT
BEGIN:VEVENT
DTSTART;TZID=Europe/Vienna:20251204T170000
DTEND;TZID=Europe/Vienna:20251204T210000
DTSTAMP:20260419T212527
CREATED:20251114T130817Z
LAST-MODIFIED:20251114T150351Z
UID:10043659-1764867600-1764882000@www.stadtmarketing-klosterneuburg.at
SUMMARY:Punschzeit @Lavendel
DESCRIPTION:Adventzeit ist Punschzeit im Lavendel\n27.11. bis 19.12.2025 / Donnerstag & Freitag / jeweils 17 – 21 Uhr / Punsch\, Kekse & Maroni \n  \nDas Lavendel – Feines & Süßes by Sabine im Inkupark Klosterneuburg \n 
URL:https://www.stadtmarketing-klosterneuburg.at/veranstaltung/punschzeit-lavendel/2025-12-04/
LOCATION:Das Lavendel – Feines & Süßes by Bine\, Inkupark 1-7\, Klosterneuburg\, Niederösterreich\, 3400\, Austria
CATEGORIES:Advent,Einkaufen & Wirtschaft,Familien,Kinder,Kulinarik & Wein,Kulinarische Veranstaltung
ATTACH;FMTTYPE=image/jpeg:https://www.stadtmarketing-klosterneuburg.at/wp-content/uploads/2025/11/Adventzeit-c-Das-Lavendel.jpg
END:VEVENT
BEGIN:VEVENT
DTSTART;TZID=Europe/Vienna:20251128T170000
DTEND;TZID=Europe/Vienna:20251128T210000
DTSTAMP:20260419T212527
CREATED:20251114T130817Z
LAST-MODIFIED:20251114T150351Z
UID:10043658-1764349200-1764363600@www.stadtmarketing-klosterneuburg.at
SUMMARY:Punschzeit @Lavendel
DESCRIPTION:Adventzeit ist Punschzeit im Lavendel\n27.11. bis 19.12.2025 / Donnerstag & Freitag / jeweils 17 – 21 Uhr / Punsch\, Kekse & Maroni \n  \nDas Lavendel – Feines & Süßes by Sabine im Inkupark Klosterneuburg \n 
URL:https://www.stadtmarketing-klosterneuburg.at/veranstaltung/punschzeit-lavendel/2025-11-28/
LOCATION:Das Lavendel – Feines & Süßes by Bine\, Inkupark 1-7\, Klosterneuburg\, Niederösterreich\, 3400\, Austria
CATEGORIES:Advent,Einkaufen & Wirtschaft,Familien,Kinder,Kulinarik & Wein,Kulinarische Veranstaltung
ATTACH;FMTTYPE=image/jpeg:https://www.stadtmarketing-klosterneuburg.at/wp-content/uploads/2025/11/Adventzeit-c-Das-Lavendel.jpg
END:VEVENT
BEGIN:VEVENT
DTSTART;TZID=Europe/Vienna:20251127T170000
DTEND;TZID=Europe/Vienna:20251127T210000
DTSTAMP:20260419T212527
CREATED:20251114T130817Z
LAST-MODIFIED:20251114T150351Z
UID:10043657-1764262800-1764277200@www.stadtmarketing-klosterneuburg.at
SUMMARY:Punschzeit @Lavendel
DESCRIPTION:Adventzeit ist Punschzeit im Lavendel\n27.11. bis 19.12.2025 / Donnerstag & Freitag / jeweils 17 – 21 Uhr / Punsch\, Kekse & Maroni \n  \nDas Lavendel – Feines & Süßes by Sabine im Inkupark Klosterneuburg \n 
URL:https://www.stadtmarketing-klosterneuburg.at/veranstaltung/punschzeit-lavendel/2025-11-27/
LOCATION:Das Lavendel – Feines & Süßes by Bine\, Inkupark 1-7\, Klosterneuburg\, Niederösterreich\, 3400\, Austria
CATEGORIES:Advent,Einkaufen & Wirtschaft,Familien,Kinder,Kulinarik & Wein,Kulinarische Veranstaltung
ATTACH;FMTTYPE=image/jpeg:https://www.stadtmarketing-klosterneuburg.at/wp-content/uploads/2025/11/Adventzeit-c-Das-Lavendel.jpg
END:VEVENT
END:VCALENDAR