BEGIN:VCALENDAR
VERSION:2.0
PRODID:-//Stadtmarketing Klosterneuburg - ECPv6.15.17.1//NONSGML v1.0//EN
CALSCALE:GREGORIAN
METHOD:PUBLISH
X-ORIGINAL-URL:https://www.stadtmarketing-klosterneuburg.at
X-WR-CALDESC:Veranstaltungen für Stadtmarketing Klosterneuburg
REFRESH-INTERVAL;VALUE=DURATION:PT1H
X-Robots-Tag:noindex
X-PUBLISHED-TTL:PT1H
BEGIN:VTIMEZONE
TZID:Europe/Vienna
BEGIN:DAYLIGHT
TZOFFSETFROM:+0100
TZOFFSETTO:+0200
TZNAME:CEST
DTSTART:20220327T010000
END:DAYLIGHT
BEGIN:STANDARD
TZOFFSETFROM:+0200
TZOFFSETTO:+0100
TZNAME:CET
DTSTART:20221030T010000
END:STANDARD
BEGIN:DAYLIGHT
TZOFFSETFROM:+0100
TZOFFSETTO:+0200
TZNAME:CEST
DTSTART:20230326T010000
END:DAYLIGHT
BEGIN:STANDARD
TZOFFSETFROM:+0200
TZOFFSETTO:+0100
TZNAME:CET
DTSTART:20231029T010000
END:STANDARD
BEGIN:DAYLIGHT
TZOFFSETFROM:+0100
TZOFFSETTO:+0200
TZNAME:CEST
DTSTART:20240331T010000
END:DAYLIGHT
BEGIN:STANDARD
TZOFFSETFROM:+0200
TZOFFSETTO:+0100
TZNAME:CET
DTSTART:20241027T010000
END:STANDARD
BEGIN:DAYLIGHT
TZOFFSETFROM:+0100
TZOFFSETTO:+0200
TZNAME:CEST
DTSTART:20250330T010000
END:DAYLIGHT
BEGIN:STANDARD
TZOFFSETFROM:+0200
TZOFFSETTO:+0100
TZNAME:CET
DTSTART:20251026T010000
END:STANDARD
BEGIN:DAYLIGHT
TZOFFSETFROM:+0100
TZOFFSETTO:+0200
TZNAME:CEST
DTSTART:20260329T010000
END:DAYLIGHT
BEGIN:STANDARD
TZOFFSETFROM:+0200
TZOFFSETTO:+0100
TZNAME:CET
DTSTART:20261025T010000
END:STANDARD
BEGIN:DAYLIGHT
TZOFFSETFROM:+0100
TZOFFSETTO:+0200
TZNAME:CEST
DTSTART:20270328T010000
END:DAYLIGHT
BEGIN:STANDARD
TZOFFSETFROM:+0200
TZOFFSETTO:+0100
TZNAME:CET
DTSTART:20271031T010000
END:STANDARD
END:VTIMEZONE
BEGIN:VEVENT
DTSTART;TZID=Europe/Vienna:20260404T150000
DTEND;TZID=Europe/Vienna:20260404T220000
DTSTAMP:20260420T171305
CREATED:20260401T152836Z
LAST-MODIFIED:20260401T153901Z
UID:10045833-1775314800-1775340000@www.stadtmarketing-klosterneuburg.at
SUMMARY:Saisoneröffnung @"Erdbeere"
DESCRIPTION:am Samstag\, 4.4.2026 ab 15 Uhr mit den „Red Diamonds“\nSwing\, Rock & Roll – Evergreens \nReservierungen unter: +43/ (0)664/ 24 34 288
URL:https://www.stadtmarketing-klosterneuburg.at/veranstaltung/saisoneroeffnung-erdbeere/
LOCATION:Die Erdbeere\, In der Au 12\, Klosterneuburg\, 3400\, Austria
CATEGORIES:Clubbings & Parties,Kulinarische Veranstaltung,Kunst & Kultur,Musik & Konzerte,Weinpräsentationen & Verkostungen
ATTACH;FMTTYPE=image/jpeg:https://www.stadtmarketing-klosterneuburg.at/wp-content/uploads/2026/04/Red-Diamonds-2026-c-Red-Diamonds.jpg
END:VEVENT
BEGIN:VEVENT
DTSTART;TZID=Europe/Vienna:20251026T140000
DTEND;TZID=Europe/Vienna:20251026T220000
DTSTAMP:20260420T171305
CREATED:20251021T153802Z
LAST-MODIFIED:20251021T153910Z
UID:10043448-1761487200-1761516000@www.stadtmarketing-klosterneuburg.at
SUMMARY:Austropop  @"Erdbeere"
DESCRIPTION:am Nationalfeiertag\, 26.10.2025 ab 14 Uhr mit DJ Eisbär\n  \nReservierungen unter: +43/ (0)664/ 24 34 288
URL:https://www.stadtmarketing-klosterneuburg.at/veranstaltung/austropop-erdbeere/
LOCATION:Die Erdbeere\, In der Au 12\, Klosterneuburg\, 3400\, Austria
CATEGORIES:Clubbings & Parties,Kulinarische Veranstaltung,Kunst & Kultur,Musik & Konzerte,Weinpräsentationen & Verkostungen
ATTACH;FMTTYPE=image/jpeg:https://www.stadtmarketing-klosterneuburg.at/wp-content/uploads/2024/06/Jausenstation-Erdbeere-2024-c-Erdbeere.jpg
END:VEVENT
BEGIN:VEVENT
DTSTART;TZID=Europe/Vienna:20250704T180000
DTEND;TZID=Europe/Vienna:20250704T220000
DTSTAMP:20260420T171305
CREATED:20250701T110254Z
LAST-MODIFIED:20250701T110352Z
UID:10042473-1751652000-1751666400@www.stadtmarketing-klosterneuburg.at
SUMMARY:Weinverkostung @"Erdbeere"
DESCRIPTION:Weinverkostung von BioWeingut Meißner und Zither Live Musik von Renate Meißner\n  \nReservierungen unter: +43/ (0)664/ 24 34 288
URL:https://www.stadtmarketing-klosterneuburg.at/veranstaltung/weinverkostung-erdbeere/
LOCATION:Die Erdbeere\, In der Au 12\, Klosterneuburg\, 3400\, Austria
CATEGORIES:Clubbings & Parties,Kulinarische Veranstaltung,Kunst & Kultur,Musik & Konzerte,Weinpräsentationen & Verkostungen
ATTACH;FMTTYPE=image/jpeg:https://www.stadtmarketing-klosterneuburg.at/wp-content/uploads/2025/07/Weinverkostung-Meissner-c-Erdbeere.jpg
END:VEVENT
BEGIN:VEVENT
DTSTART;TZID=Europe/Vienna:20250501T100000
DTEND;TZID=Europe/Vienna:20250501T220000
DTSTAMP:20260420T171305
CREATED:20250401T103447Z
LAST-MODIFIED:20250401T103500Z
UID:10040950-1746093600-1746136800@www.stadtmarketing-klosterneuburg.at
SUMMARY:Maifest @"Erdbeere"
DESCRIPTION:Auf geht´s! Zua geht´s! Maifest mit Grillhendln bei der Jausenstation „Erdbeere“ beim Aupark Klosterneuburg \nDonnerstag\, 1. Mai 2025 / Einlass: 10 Uhr / Beginn: 11 Uhr \nLive on stage: Peter Diamond \nReservierungen:\n+43/ (0)664/ 24 34 288
URL:https://www.stadtmarketing-klosterneuburg.at/veranstaltung/maifest-erdbeere-2/
LOCATION:Die Erdbeere\, In der Au 12\, Klosterneuburg\, 3400\, Austria
CATEGORIES:Clubbings & Parties,Kulinarik & Wein,Musik & Konzerte
ATTACH;FMTTYPE=image/jpeg:https://www.stadtmarketing-klosterneuburg.at/wp-content/uploads/2024/04/Maifest-2024-c-Erdbeere.jpg
END:VEVENT
BEGIN:VEVENT
DTSTART;TZID=Europe/Vienna:20240920T190000
DTEND;TZID=Europe/Vienna:20240920T220000
DTSTAMP:20260420T171305
CREATED:20240910T125606Z
LAST-MODIFIED:20240918T102833Z
UID:10037682-1726858800-1726869600@www.stadtmarketing-klosterneuburg.at
SUMMARY:Live Musik @"Erdbeere"
DESCRIPTION:„Rock-Oida“ live am Freitag\, 20.9. ab 19 Uhr bei der Jausenstation „Erdbeere“\n  \nReservierungen unter: +43/ (0)664/ 24 34 288
URL:https://www.stadtmarketing-klosterneuburg.at/veranstaltung/live-musik-erdbeere-2/
LOCATION:Die Erdbeere\, In der Au 12\, Klosterneuburg\, 3400\, Austria
CATEGORIES:Clubbings & Parties,Kulinarische Veranstaltung,Musik & Konzerte
ATTACH;FMTTYPE=image/jpeg:https://www.stadtmarketing-klosterneuburg.at/wp-content/uploads/2024/06/Jausenstation-Erdbeere-2024-c-Erdbeere.jpg
END:VEVENT
BEGIN:VEVENT
DTSTART;TZID=Europe/Vienna:20240823T173000
DTEND;TZID=Europe/Vienna:20240823T210000
DTSTAMP:20260420T171305
CREATED:20240822T084125Z
LAST-MODIFIED:20240822T085423Z
UID:10037377-1724434200-1724446800@www.stadtmarketing-klosterneuburg.at
SUMMARY:Malu & Friends @"Erdbeere"
DESCRIPTION:Malu & Friends spielen und singen zugunsten der Wildtierhilfe Tullnerfeld\n  \nAb 17.30 Uhr wird gegrillt! \nUm Reservierung wird gebeten: +43/ (0)664/ 24 34 288
URL:https://www.stadtmarketing-klosterneuburg.at/veranstaltung/malu-friends-erdbeere/
LOCATION:Die Erdbeere\, In der Au 12\, Klosterneuburg\, 3400\, Austria
CATEGORIES:Clubbings & Parties,Kulinarische Veranstaltung,Musik & Konzerte
ATTACH;FMTTYPE=image/jpeg:https://www.stadtmarketing-klosterneuburg.at/wp-content/uploads/2024/08/Konzert-c-Erdbeere.jpg
END:VEVENT
BEGIN:VEVENT
DTSTART;TZID=Europe/Vienna:20240816T170000
DTEND;TZID=Europe/Vienna:20240816T200000
DTSTAMP:20260420T171305
CREATED:20240813T114746Z
LAST-MODIFIED:20240813T115117Z
UID:10037262-1723827600-1723838400@www.stadtmarketing-klosterneuburg.at
SUMMARY:Live Musik @"Erdbeere"
DESCRIPTION:Jazz-Band „Jazz Lovers“ live on stage am Freitag\, 16.8. ab 17 Uhr\n\nGerhard Rührlringer (sax)\nMargit Schmidt ((bass & vocal)\nMarion Breiter (piano)\nGerlinde Koller (guitar)\nThomas Kukula (clarinet)\nWayan Warsa (percussion)\n\nReservierungen unter: +43/ (0)664/ 24 34 288
URL:https://www.stadtmarketing-klosterneuburg.at/veranstaltung/live-musik-erdbeere/
LOCATION:Die Erdbeere\, In der Au 12\, Klosterneuburg\, 3400\, Austria
CATEGORIES:Clubbings & Parties,Kulinarische Veranstaltung,Musik & Konzerte
ATTACH;FMTTYPE=image/jpeg:https://www.stadtmarketing-klosterneuburg.at/wp-content/uploads/2024/08/Live-Musik-c-Jausenstation-Erdbeere.jpg
END:VEVENT
BEGIN:VEVENT
DTSTART;TZID=Europe/Vienna:20240706T180000
DTEND;TZID=Europe/Vienna:20240706T200000
DTSTAMP:20260420T171305
CREATED:20240703T071620Z
LAST-MODIFIED:20240703T071624Z
UID:10037070-1720288800-1720296000@www.stadtmarketing-klosterneuburg.at
SUMMARY:Peter Diamond Live @"Erdbeere"
DESCRIPTION:Live on Stage am \nSamstag\, 6. Juli 2024 ab 18 Uhr \n  \nReservierungen unter: +43/ (0)664/ 24 34 288
URL:https://www.stadtmarketing-klosterneuburg.at/veranstaltung/peter-diamond-live-erdbeere/
LOCATION:Die Erdbeere\, In der Au 12\, Klosterneuburg\, 3400\, Austria
CATEGORIES:Clubbings & Parties,Kulinarische Veranstaltung,Musik & Konzerte
ATTACH;FMTTYPE=image/jpeg:https://www.stadtmarketing-klosterneuburg.at/wp-content/uploads/2024/07/Open-Air-Konzert-c-Erdbeere.jpg
END:VEVENT
BEGIN:VEVENT
DTSTART;TZID=Europe/Vienna:20240629T180000
DTEND;TZID=Europe/Vienna:20240629T200000
DTSTAMP:20260420T171305
CREATED:20240624T123302Z
LAST-MODIFIED:20240624T124837Z
UID:10036998-1719684000-1719691200@www.stadtmarketing-klosterneuburg.at
SUMMARY:Blues und Rock´n Roll @"Erdbeere"
DESCRIPTION:Blues und Rock´n Roll von Screaming Slim & Robert Shumy – Live in Concert! \nSamstag\, 29. Juni 2024 ab 18 Uhr \ndazu gibt´s Paella mit Meeresfrüchten und Fisch\, Hendl und viel Gemüse \nUm Reservierung wird gebeten: +43/ (0)664/ 24 34 288
URL:https://www.stadtmarketing-klosterneuburg.at/veranstaltung/blues-und-rockn-roll-erdbeere/
LOCATION:Die Erdbeere\, In der Au 12\, Klosterneuburg\, 3400\, Austria
CATEGORIES:Clubbings & Parties,Kulinarische Veranstaltung,Musik & Konzerte
ATTACH;FMTTYPE=image/jpeg:https://www.stadtmarketing-klosterneuburg.at/wp-content/uploads/2024/06/Jausenstation-Erdbeere-2024-c-Erdbeere.jpg
END:VEVENT
BEGIN:VEVENT
DTSTART;TZID=Europe/Vienna:20240621T170000
DTEND;TZID=Europe/Vienna:20240621T220000
DTSTAMP:20260420T171305
CREATED:20240618T105509Z
LAST-MODIFIED:20240618T105532Z
UID:10036854-1718989200-1719007200@www.stadtmarketing-klosterneuburg.at
SUMMARY:Sommersonnenwende @"Erdbeere"
DESCRIPTION:Fest zur Sommersonnenwende bei der Jausenstation „Erdbeere“ beim Aupark Klosterneuburg \nMit Live-Musik von Charlie \nFreitag\, 21. Juni 2024 ab 17 Uhr \nReservierungen:\n+43/ (0)664/ 24 34 288
URL:https://www.stadtmarketing-klosterneuburg.at/veranstaltung/sommersonnenwende-erdbeere/
LOCATION:Die Erdbeere\, In der Au 12\, Klosterneuburg\, 3400\, Austria
CATEGORIES:Clubbings & Parties,Kulinarik & Wein,Kunst & Kultur,Musik & Konzerte,Volksfeste & Brauchtum
ATTACH;FMTTYPE=image/jpeg:https://www.stadtmarketing-klosterneuburg.at/wp-content/uploads/2024/06/Sommersonnenwende-c-Erdbeere.jpg
END:VEVENT
BEGIN:VEVENT
DTSTART;TZID=Europe/Vienna:20240501T120000
DTEND;TZID=Europe/Vienna:20240501T220000
DTSTAMP:20260420T171305
CREATED:20240426T120343Z
LAST-MODIFIED:20240426T120400Z
UID:10036013-1714564800-1714600800@www.stadtmarketing-klosterneuburg.at
SUMMARY:Maifest @"Erdbeere"
DESCRIPTION:Auf geht´s! Zua geht´s! Maifest mit Grillhendln bei der Jausenstation „Erdbeere“ beim Aupark Klosterneuburg \nMittwoch\, 1. Mai 2024 ab 12 Uhr \nReservierungen:\n+43/ (0)664/ 24 34 288
URL:https://www.stadtmarketing-klosterneuburg.at/veranstaltung/maifest-erdbeere/
LOCATION:Die Erdbeere\, In der Au 12\, Klosterneuburg\, 3400\, Austria
CATEGORIES:Clubbings & Parties,Kulinarik & Wein,Musik & Konzerte
ATTACH;FMTTYPE=image/jpeg:https://www.stadtmarketing-klosterneuburg.at/wp-content/uploads/2024/04/Maifest-2024-c-Erdbeere.jpg
END:VEVENT
BEGIN:VEVENT
DTSTART;TZID=Europe/Vienna:20231008T110000
DTEND;TZID=Europe/Vienna:20231008T220000
DTSTAMP:20260420T171305
CREATED:20230920T131411Z
LAST-MODIFIED:20230920T131411Z
UID:10027899-1696762800-1696802400@www.stadtmarketing-klosterneuburg.at
SUMMARY:Oktoberfest @"Erdbeere"
DESCRIPTION:Auf geht´s! Zua geht´s! bei der Jausenstation „Erdbeere“ beim Aupark Klosterneuburg \nEinlass: 11 Uhr / Beginn: 12 Uhr \nBegrüßungs-Stamperl \nSpanferkel mit Kraut und Knödeln \nReservierungen:\n+43/ (0)664/ 24 34 288
URL:https://www.stadtmarketing-klosterneuburg.at/veranstaltung/oktoberfest-erdbeere/
LOCATION:Die Erdbeere\, In der Au 12\, Klosterneuburg\, 3400\, Austria
CATEGORIES:Clubbings & Parties,Kulinarik & Wein,Musik & Konzerte
ATTACH;FMTTYPE=image/jpeg:https://www.stadtmarketing-klosterneuburg.at/wp-content/uploads/2023/09/Oktoberfest-c-Erdbeere.jpg
END:VEVENT
BEGIN:VEVENT
DTSTART;TZID=Europe/Vienna:20230916T170000
DTEND;TZID=Europe/Vienna:20230916T220000
DTSTAMP:20260420T171305
CREATED:20230913T134939Z
LAST-MODIFIED:20230913T135251Z
UID:10027750-1694883600-1694901600@www.stadtmarketing-klosterneuburg.at
SUMMARY:Country Nachmittag @"Erdbeere"
DESCRIPTION:mit Keana Rose \nbei der Jausenstation „Erdbeere“ beim Aupark Klosterneuburg
URL:https://www.stadtmarketing-klosterneuburg.at/veranstaltung/country-nachittag-erdbeere/
LOCATION:Die Erdbeere\, In der Au 12\, Klosterneuburg\, 3400\, Austria
CATEGORIES:Clubbings & Parties,Kulinarik & Wein,Musik & Konzerte
ATTACH;FMTTYPE=image/jpeg:https://www.stadtmarketing-klosterneuburg.at/wp-content/uploads/2022/06/Country-Keana-Rose-c-Keana-Rose.jpg
END:VEVENT
BEGIN:VEVENT
DTSTART;TZID=Europe/Vienna:20230630T180000
DTEND;TZID=Europe/Vienna:20230630T220000
DTSTAMP:20260420T171305
CREATED:20230624T102732Z
LAST-MODIFIED:20230624T102841Z
UID:10027016-1688148000-1688162400@www.stadtmarketing-klosterneuburg.at
SUMMARY:Grillfest @"Erdbeere"
DESCRIPTION:Grillfest & Live-Musik mit Francis Key & The Gents \nbei der Jausenstation „Erdbeere“ beim Aupark Klosterneuburg
URL:https://www.stadtmarketing-klosterneuburg.at/veranstaltung/grillfest-erdbeere/
LOCATION:Die Erdbeere\, In der Au 12\, Klosterneuburg\, 3400\, Austria
CATEGORIES:Clubbings & Parties,Kulinarische Veranstaltung,Musik & Konzerte
ATTACH;FMTTYPE=image/jpeg:https://www.stadtmarketing-klosterneuburg.at/wp-content/uploads/2022/05/Jausenstation-Erdbeere-1c-Erdbeere.jpg
END:VEVENT
BEGIN:VEVENT
DTSTART;TZID=Europe/Vienna:20230617T180000
DTEND;TZID=Europe/Vienna:20230617T220000
DTSTAMP:20260420T171305
CREATED:20230611T103718Z
LAST-MODIFIED:20240624T121454Z
UID:10026896-1687024800-1687039200@www.stadtmarketing-klosterneuburg.at
SUMMARY:Cubafest @"Erdbeere"
DESCRIPTION:Das Motto der Jausenstation „Erdbeere“ im Aupark lautet: „Komm rein und lass den Alltag draußen!“ \nMusik\,Tanz\, Grillen\, Paella\, Cocktails\, der originellste Tanz gewinnt
URL:https://www.stadtmarketing-klosterneuburg.at/veranstaltung/cubafest-erdbeere/
LOCATION:Die Erdbeere\, In der Au 12\, Klosterneuburg\, 3400\, Austria
CATEGORIES:Clubbings & Parties,Kulinarische Veranstaltung,Musik & Konzerte
ATTACH;FMTTYPE=image/jpeg:https://www.stadtmarketing-klosterneuburg.at/wp-content/uploads/2022/05/Jausenstation-Erdbeere-1c-Erdbeere.jpg
END:VEVENT
END:VCALENDAR