BEGIN:VCALENDAR
VERSION:2.0
PRODID:-//Stadtmarketing Klosterneuburg - ECPv6.15.20//NONSGML v1.0//EN
CALSCALE:GREGORIAN
METHOD:PUBLISH
X-ORIGINAL-URL:https://www.stadtmarketing-klosterneuburg.at
X-WR-CALDESC:Veranstaltungen für Stadtmarketing Klosterneuburg
REFRESH-INTERVAL;VALUE=DURATION:PT1H
X-Robots-Tag:noindex
X-PUBLISHED-TTL:PT1H
BEGIN:VTIMEZONE
TZID:Europe/Vienna
BEGIN:DAYLIGHT
TZOFFSETFROM:+0100
TZOFFSETTO:+0200
TZNAME:CEST
DTSTART:20220327T010000
END:DAYLIGHT
BEGIN:STANDARD
TZOFFSETFROM:+0200
TZOFFSETTO:+0100
TZNAME:CET
DTSTART:20221030T010000
END:STANDARD
BEGIN:DAYLIGHT
TZOFFSETFROM:+0100
TZOFFSETTO:+0200
TZNAME:CEST
DTSTART:20230326T010000
END:DAYLIGHT
BEGIN:STANDARD
TZOFFSETFROM:+0200
TZOFFSETTO:+0100
TZNAME:CET
DTSTART:20231029T010000
END:STANDARD
BEGIN:DAYLIGHT
TZOFFSETFROM:+0100
TZOFFSETTO:+0200
TZNAME:CEST
DTSTART:20240331T010000
END:DAYLIGHT
BEGIN:STANDARD
TZOFFSETFROM:+0200
TZOFFSETTO:+0100
TZNAME:CET
DTSTART:20241027T010000
END:STANDARD
BEGIN:DAYLIGHT
TZOFFSETFROM:+0100
TZOFFSETTO:+0200
TZNAME:CEST
DTSTART:20250330T010000
END:DAYLIGHT
BEGIN:STANDARD
TZOFFSETFROM:+0200
TZOFFSETTO:+0100
TZNAME:CET
DTSTART:20251026T010000
END:STANDARD
END:VTIMEZONE
BEGIN:VEVENT
DTSTART;TZID=Europe/Vienna:20240501T120000
DTEND;TZID=Europe/Vienna:20240501T220000
DTSTAMP:20260421T054251
CREATED:20240426T120343Z
LAST-MODIFIED:20240426T120400Z
UID:10036013-1714564800-1714600800@www.stadtmarketing-klosterneuburg.at
SUMMARY:Maifest @"Erdbeere"
DESCRIPTION:Auf geht´s! Zua geht´s! Maifest mit Grillhendln bei der Jausenstation „Erdbeere“ beim Aupark Klosterneuburg \nMittwoch\, 1. Mai 2024 ab 12 Uhr \nReservierungen:\n+43/ (0)664/ 24 34 288
URL:https://www.stadtmarketing-klosterneuburg.at/veranstaltung/maifest-erdbeere/
LOCATION:Die Erdbeere\, In der Au 12\, Klosterneuburg\, 3400\, Austria
CATEGORIES:Clubbings & Parties,Kulinarik & Wein,Musik & Konzerte
ATTACH;FMTTYPE=image/jpeg:https://www.stadtmarketing-klosterneuburg.at/wp-content/uploads/2024/04/Maifest-2024-c-Erdbeere.jpg
END:VEVENT
BEGIN:VEVENT
DTSTART;TZID=Europe/Vienna:20231008T110000
DTEND;TZID=Europe/Vienna:20231008T220000
DTSTAMP:20260421T054251
CREATED:20230920T131411Z
LAST-MODIFIED:20230920T131411Z
UID:10027899-1696762800-1696802400@www.stadtmarketing-klosterneuburg.at
SUMMARY:Oktoberfest @"Erdbeere"
DESCRIPTION:Auf geht´s! Zua geht´s! bei der Jausenstation „Erdbeere“ beim Aupark Klosterneuburg \nEinlass: 11 Uhr / Beginn: 12 Uhr \nBegrüßungs-Stamperl \nSpanferkel mit Kraut und Knödeln \nReservierungen:\n+43/ (0)664/ 24 34 288
URL:https://www.stadtmarketing-klosterneuburg.at/veranstaltung/oktoberfest-erdbeere/
LOCATION:Die Erdbeere\, In der Au 12\, Klosterneuburg\, 3400\, Austria
CATEGORIES:Clubbings & Parties,Kulinarik & Wein,Musik & Konzerte
ATTACH;FMTTYPE=image/jpeg:https://www.stadtmarketing-klosterneuburg.at/wp-content/uploads/2023/09/Oktoberfest-c-Erdbeere.jpg
END:VEVENT
BEGIN:VEVENT
DTSTART;TZID=Europe/Vienna:20230916T170000
DTEND;TZID=Europe/Vienna:20230916T220000
DTSTAMP:20260421T054251
CREATED:20230913T134939Z
LAST-MODIFIED:20230913T135251Z
UID:10027750-1694883600-1694901600@www.stadtmarketing-klosterneuburg.at
SUMMARY:Country Nachmittag @"Erdbeere"
DESCRIPTION:mit Keana Rose \nbei der Jausenstation „Erdbeere“ beim Aupark Klosterneuburg
URL:https://www.stadtmarketing-klosterneuburg.at/veranstaltung/country-nachittag-erdbeere/
LOCATION:Die Erdbeere\, In der Au 12\, Klosterneuburg\, 3400\, Austria
CATEGORIES:Clubbings & Parties,Kulinarik & Wein,Musik & Konzerte
ATTACH;FMTTYPE=image/jpeg:https://www.stadtmarketing-klosterneuburg.at/wp-content/uploads/2022/06/Country-Keana-Rose-c-Keana-Rose.jpg
END:VEVENT
BEGIN:VEVENT
DTSTART;TZID=Europe/Vienna:20230630T180000
DTEND;TZID=Europe/Vienna:20230630T220000
DTSTAMP:20260421T054251
CREATED:20230624T102732Z
LAST-MODIFIED:20230624T102841Z
UID:10027016-1688148000-1688162400@www.stadtmarketing-klosterneuburg.at
SUMMARY:Grillfest @"Erdbeere"
DESCRIPTION:Grillfest & Live-Musik mit Francis Key & The Gents \nbei der Jausenstation „Erdbeere“ beim Aupark Klosterneuburg
URL:https://www.stadtmarketing-klosterneuburg.at/veranstaltung/grillfest-erdbeere/
LOCATION:Die Erdbeere\, In der Au 12\, Klosterneuburg\, 3400\, Austria
CATEGORIES:Clubbings & Parties,Kulinarische Veranstaltung,Musik & Konzerte
ATTACH;FMTTYPE=image/jpeg:https://www.stadtmarketing-klosterneuburg.at/wp-content/uploads/2022/05/Jausenstation-Erdbeere-1c-Erdbeere.jpg
END:VEVENT
BEGIN:VEVENT
DTSTART;TZID=Europe/Vienna:20230617T180000
DTEND;TZID=Europe/Vienna:20230617T220000
DTSTAMP:20260421T054251
CREATED:20230611T103718Z
LAST-MODIFIED:20240624T121454Z
UID:10026896-1687024800-1687039200@www.stadtmarketing-klosterneuburg.at
SUMMARY:Cubafest @"Erdbeere"
DESCRIPTION:Das Motto der Jausenstation „Erdbeere“ im Aupark lautet: „Komm rein und lass den Alltag draußen!“ \nMusik\,Tanz\, Grillen\, Paella\, Cocktails\, der originellste Tanz gewinnt
URL:https://www.stadtmarketing-klosterneuburg.at/veranstaltung/cubafest-erdbeere/
LOCATION:Die Erdbeere\, In der Au 12\, Klosterneuburg\, 3400\, Austria
CATEGORIES:Clubbings & Parties,Kulinarische Veranstaltung,Musik & Konzerte
ATTACH;FMTTYPE=image/jpeg:https://www.stadtmarketing-klosterneuburg.at/wp-content/uploads/2022/05/Jausenstation-Erdbeere-1c-Erdbeere.jpg
END:VEVENT
END:VCALENDAR