BEGIN:VCALENDAR
VERSION:2.0
PRODID:-//Stadtmarketing Klosterneuburg - ECPv6.15.20//NONSGML v1.0//EN
CALSCALE:GREGORIAN
METHOD:PUBLISH
X-ORIGINAL-URL:https://www.stadtmarketing-klosterneuburg.at
X-WR-CALDESC:Veranstaltungen für Stadtmarketing Klosterneuburg
REFRESH-INTERVAL;VALUE=DURATION:PT1H
X-Robots-Tag:noindex
X-PUBLISHED-TTL:PT1H
BEGIN:VTIMEZONE
TZID:Europe/Vienna
BEGIN:DAYLIGHT
TZOFFSETFROM:+0100
TZOFFSETTO:+0200
TZNAME:CEST
DTSTART:20210328T010000
END:DAYLIGHT
BEGIN:STANDARD
TZOFFSETFROM:+0200
TZOFFSETTO:+0100
TZNAME:CET
DTSTART:20211031T010000
END:STANDARD
BEGIN:DAYLIGHT
TZOFFSETFROM:+0100
TZOFFSETTO:+0200
TZNAME:CEST
DTSTART:20220327T010000
END:DAYLIGHT
BEGIN:STANDARD
TZOFFSETFROM:+0200
TZOFFSETTO:+0100
TZNAME:CET
DTSTART:20221030T010000
END:STANDARD
BEGIN:DAYLIGHT
TZOFFSETFROM:+0100
TZOFFSETTO:+0200
TZNAME:CEST
DTSTART:20230326T010000
END:DAYLIGHT
BEGIN:STANDARD
TZOFFSETFROM:+0200
TZOFFSETTO:+0100
TZNAME:CET
DTSTART:20231029T010000
END:STANDARD
BEGIN:DAYLIGHT
TZOFFSETFROM:+0100
TZOFFSETTO:+0200
TZNAME:CEST
DTSTART:20240331T010000
END:DAYLIGHT
BEGIN:STANDARD
TZOFFSETFROM:+0200
TZOFFSETTO:+0100
TZNAME:CET
DTSTART:20241027T010000
END:STANDARD
BEGIN:DAYLIGHT
TZOFFSETFROM:+0100
TZOFFSETTO:+0200
TZNAME:CEST
DTSTART:20250330T010000
END:DAYLIGHT
BEGIN:STANDARD
TZOFFSETFROM:+0200
TZOFFSETTO:+0100
TZNAME:CET
DTSTART:20251026T010000
END:STANDARD
BEGIN:DAYLIGHT
TZOFFSETFROM:+0100
TZOFFSETTO:+0200
TZNAME:CEST
DTSTART:20260329T010000
END:DAYLIGHT
BEGIN:STANDARD
TZOFFSETFROM:+0200
TZOFFSETTO:+0100
TZNAME:CET
DTSTART:20261025T010000
END:STANDARD
END:VTIMEZONE
BEGIN:VEVENT
DTSTART;TZID=Europe/Vienna:20250417T193000
DTEND;TZID=Europe/Vienna:20250417T210000
DTSTAMP:20260421T155907
CREATED:20250310T160850Z
LAST-MODIFIED:20250310T161337Z
UID:10040801-1744918200-1744923600@www.stadtmarketing-klosterneuburg.at
SUMMARY:Stabat Mater
DESCRIPTION:Am Gründonnerstag\, 17.4.2025 findet um 19.30 Uhr in der evangelischen Kirche Klosterneuburg die schon traditionelle Stabat Mater-Aufführung mit dem ENSEMBLE NEUE STREICHER statt. Diesmal steht das berühmte und oft aufgeführte STABAT MATER von Giovanni Battista am Programm\, das letzte und berührende Werk des mit 26 Jahren verstorbenen Komponisten. \nMitwirkende:\n\nKAMMERCHORUS Klosterneuburg\nGesangssolisten: KATHARINA LINHARD (Sopran) & Countertenor ARMIN GRAMER\n\nDirigent: ANTON GABMAYER \nBetrachtungen: KLAUS ALBRECHT SCHRÖDER\, ehemaliger Direktor der Albertina \nKarten: € 25 pro Person \nTickets:\n\nensemble@neuestreicher.at\nKulturamt Klosterneuburg: 02243/ 444-351\nAbendkasse\n\nInfos:\n\nTel: 0650/ 264 33 57\nensemble@neuestreicher.at\n\n 
URL:https://www.stadtmarketing-klosterneuburg.at/veranstaltung/stabat-mater-2/
LOCATION:Evangelische Gemeinde A.u.H.B.\, Franz Rumpler-Straße 14\, Klosterneuburg\, Niederösterreich\, 3400\, Austria
CATEGORIES:Kunst & Kultur,Musik & Konzerte
ATTACH;FMTTYPE=image/jpeg:https://www.stadtmarketing-klosterneuburg.at/wp-content/uploads/2025/03/Stabat-Mater-2025-c-Ensemble-Neue-Streicher.jpg
END:VEVENT
BEGIN:VEVENT
DTSTART;TZID=Europe/Vienna:20241206T190000
DTEND;TZID=Europe/Vienna:20241206T203000
DTSTAMP:20260421T155907
CREATED:20241106T161848Z
LAST-MODIFIED:20241106T170917Z
UID:10038491-1733511600-1733517000@www.stadtmarketing-klosterneuburg.at
SUMMARY:Adventkonzert "Weihnachten gestrichen"
DESCRIPTION:Philharmonie Klosterneuburg\npräsentiert Werke von Bach\, Corelli\, Vivaldi & Schubert \n\nRoland Herret / Leitung & Violine\nFabian Mittermayer / Violine\nFlorentina Serles / Sopran\n\n\n  \n\nTickets: Vorverkauf € 25 pro Person / Abendkassa € 28 pro Person\n\nklosterneuburg.philharmonie@gmail.com\n\n 
URL:https://www.stadtmarketing-klosterneuburg.at/veranstaltung/adventkonzert-weihnachten-gestrichen/
LOCATION:Evangelische Gemeinde A.u.H.B.\, Franz Rumpler-Straße 14\, Klosterneuburg\, Niederösterreich\, 3400\, Austria
CATEGORIES:Advent,Kunst & Kultur,Musik & Konzerte
ATTACH;FMTTYPE=image/jpeg:https://www.stadtmarketing-klosterneuburg.at/wp-content/uploads/2024/11/Adventkonzert24-c-Philharmonie-Klbg.jpg
END:VEVENT
BEGIN:VEVENT
DTSTART;TZID=Europe/Vienna:20241122T190000
DTEND;TZID=Europe/Vienna:20241122T210000
DTSTAMP:20260421T155907
CREATED:20240504T091917Z
LAST-MODIFIED:20241106T110923Z
UID:10036190-1732302000-1732309200@www.stadtmarketing-klosterneuburg.at
SUMMARY:Klosterneuburger Kammerkonzert
DESCRIPTION:„MENDELSSOHN LEBT!“\n\nATOUT – die Kammermusikgruppe präsentiert\nCarl Schuberth: Streichoktett op. 23 in E-Dur\nWoldemar Bargiel: Streichoktett op 15a in c-Moll\nFelix Mendelssohn Bartholdy: Streichersinfonie Nr. 2 in D-Dur \nKartenpreise Vorverkauf / Abendkassa\n\nRegulär € 22/25\nSeniorInnen € 17/20\nStudierende € 9/12\nKinder bis 12 Jahre frei\n\nFreie Platzwahl! \nFreier Eintritt und reservierte Sitzplätze für Mitglieder des Kammermusikvereins Niederösterreich. \nDer Vorverkauf erfolgt über eine verbindliche Reservierung per Email oder Telefon. \nDetails zum Programm finden Sie unter  https://kammermusikverein.at/event/klosterneuburg-2024-mendelssohn-lebt/ \nKontakt Kartenreservierung:\n\nkontakt@klosterneuburgerkammerkonzerte.at\n+43/ (0)690/ 100 155 71\nwww.facebook.com/klbgkammerkonzerte
URL:https://www.stadtmarketing-klosterneuburg.at/veranstaltung/klosterneuburger-kammerkonzert-5/
LOCATION:Evangelische Gemeinde A.u.H.B.\, Franz Rumpler-Straße 14\, Klosterneuburg\, Niederösterreich\, 3400\, Austria
CATEGORIES:Kunst & Kultur,Musik & Konzerte
ATTACH;FMTTYPE=image/jpeg:https://www.stadtmarketing-klosterneuburg.at/wp-content/uploads/2024/05/Mendelssohn-lebt-c-Klosterneuburger-Kammerkonzerte.jpg
END:VEVENT
BEGIN:VEVENT
DTSTART;TZID=Europe/Vienna:20240828T193000
DTEND;TZID=Europe/Vienna:20240828T210000
DTSTAMP:20260421T155907
CREATED:20240621T122852Z
LAST-MODIFIED:20240730T130556Z
UID:10036879-1724873400-1724878800@www.stadtmarketing-klosterneuburg.at
SUMMARY:Ensemble Neue Streicher - Summertime 2024
DESCRIPTION:FREDDY STAUDIGL & Solisten des ENSEMBLE NEUE STREICHER15. Crossover-Programm mit Hits aus 4 Jahrhunderten von Barock über Klassik und Johann Strauss bis hin zu Gershwin\, Bernstein\, Queen\, Sinatra…. \nKartenpreis: € 25 \nTickets mit freier Platzwahl:\n\nbei Stadtgemeinde Klosterneuburg Tel +43/ (0)2243/ 444-351\noder per Email: ensemble@neuestreicher.at\n\nInformationen:\n\nTel +43/ (0)650/ 264 33 57\nensemble@neuestreicher.at\nwww.neuestreicher.at
URL:https://www.stadtmarketing-klosterneuburg.at/veranstaltung/ensemble-neue-streicher-summertime-2024/
LOCATION:Evangelische Gemeinde A.u.H.B.\, Franz Rumpler-Straße 14\, Klosterneuburg\, Niederösterreich\, 3400\, Austria
CATEGORIES:Kunst & Kultur,Musik & Konzerte
ATTACH;FMTTYPE=image/jpeg:https://www.stadtmarketing-klosterneuburg.at/wp-content/uploads/2024/06/Summer-Time-2024-c-ENS.jpg
END:VEVENT
BEGIN:VEVENT
DTSTART;TZID=Europe/Vienna:20240419T190000
DTEND;TZID=Europe/Vienna:20240419T210000
DTSTAMP:20260421T155907
CREATED:20240329T161222Z
LAST-MODIFIED:20240408T135756Z
UID:10035846-1713553200-1713560400@www.stadtmarketing-klosterneuburg.at
SUMMARY:Klosterneuburger Kammerkonzert
DESCRIPTION:„RENDEZ-VOUS MIT EINEM STREICHQUARTETT“\nStellen Sie sich vor\, Sie treffen bei einem Rendez-vous nicht nur eine Person\, sondern vier eng verbundene\, aber doch sehr verschiedene Menschen. An diesem besonderen Abend lernen Sie ein Streichquartett kennen\, das sich in die Karten schauen lässt. Wie ist es\, eine „Ehe zu viert“ zu führen? Wie kommuniziert man in einer Probe\, in der es um die Interpretation einer Musik geht\, die „wie ein Spiegel ist\, der die tiefsten Gefühle und Gedanken der menschlichen Seele reflektiert“ (Franz Schubert)? An diesem Abend erleben Sie einen Streifzug durch das Repertoire des ADAMAS QUARTETTS und blicken hinter die Kulissen einer 20-jährigen „Quartett-Ehe“. \nGespielt werden Werke von Schubert\, Haydn\, Beethoven\, Mendelssohn und Pavel Haas (Streichquartett Nr.2 „Von den Affenbergen“) \nKartenpreise Vorverkauf / Abendkassa\n\nRegulär € 22/25\nSeniorInnen € 17/20\nStudierende € 9/12\nKinder bis 12 Jahre frei\n\nFreie Platzwahl! \nFreier Eintritt und reservierte Sitzplätze für Mitglieder des Kammermusikvereins Niederösterreich. \nDer Vorverkauf erfolgt über eine verbindliche Reservierung per Email oder Telefon. \nKontakt Kartenreservierung:\n\nkontakt@klosterneuburgerkammerkonzerte.at\n+43/ (0)690/ 100 155 71\nwww.facebook.com/klbgkammerkonzerte\nwww.klosterneuburgerkammerkonzerte.at
URL:https://www.stadtmarketing-klosterneuburg.at/veranstaltung/klosterneuburger-kammerkonzert/
LOCATION:Evangelische Gemeinde A.u.H.B.\, Franz Rumpler-Straße 14\, Klosterneuburg\, Niederösterreich\, 3400\, Austria
CATEGORIES:Kunst & Kultur,Musik & Konzerte
ATTACH;FMTTYPE=image/jpeg:https://www.stadtmarketing-klosterneuburg.at/wp-content/uploads/2024/03/Kammerkonzert-April24-c-Adamasquartett.jpg
END:VEVENT
BEGIN:VEVENT
DTSTART;TZID=Europe/Vienna:20240328T193000
DTEND;TZID=Europe/Vienna:20240328T213000
DTSTAMP:20260421T155907
CREATED:20240220T092257Z
LAST-MODIFIED:20240220T092358Z
UID:10034866-1711654200-1711661400@www.stadtmarketing-klosterneuburg.at
SUMMARY:Joseph Haydn "Die sieben letzten Worte"
DESCRIPTION:Am Gründonnerstag\, 28.3.2024 findet um 19.30 Uhr in der evangelischen Kirche Klosterneuburg die schon traditionelle Aufführung zur Karwoche mit dem ENSEMBLE NEUE STREICHER statt. \nDiesmal stehen unter der Leitung von ANTON GABMAYER Haydns berühmte „SIEBEN LETZTE WORTE UNSERES ERLÖSERS AM KREUZE“ in der Streichorchesterfassung am Programm\, umrahmt von zwei Werken Johann Sebastian Bachs. \nFür die Betrachtungen konnte die bekannte Klosterneuburger Schauspielerin ELISABETH-JOE HARRIET gewonnen werden \nKarten: € 25 pro Person (freie Platzwahl) \nVorverkauf & Informationen:\nensemble@neuestreicher.at \nKulturamt 02243 / 444-351 \n 
URL:https://www.stadtmarketing-klosterneuburg.at/veranstaltung/joseph-haydn-die-sieben-letzten-worte/
LOCATION:Evangelische Gemeinde A.u.H.B.\, Franz Rumpler-Straße 14\, Klosterneuburg\, Niederösterreich\, 3400\, Austria
CATEGORIES:Kunst & Kultur,Musik & Konzerte,Ostern,Sakral
ATTACH;FMTTYPE=image/jpeg:https://www.stadtmarketing-klosterneuburg.at/wp-content/uploads/2024/02/Konzert-c-ENS.jpg
END:VEVENT
BEGIN:VEVENT
DTSTART;TZID=Europe/Vienna:20221111T190000
DTEND;TZID=Europe/Vienna:20221111T203000
DTSTAMP:20260421T155907
CREATED:20221107T134048Z
LAST-MODIFIED:20221110T131219Z
UID:10023291-1668193200-1668198600@www.stadtmarketing-klosterneuburg.at
SUMMARY:Swing à la Django & Clermont Quartett
DESCRIPTION:Das Konzert beginnt mit dem Clermont Quartett – das Repertoire umfasst bekannte Melodien der Wiener Kaffeehausmusik\, Werke klassischer Komponisten bis zu Musik von Artur Piazzola\, Ennio Morricone und Nino Rota. \nDanach verwandelt sich das Ensemble zum Swing à la Django Quartett – mit einer einzigartigen Kombination aus authentischer ungarischer Musik\, französischem manouche Swing und Chanson\, Tango und Jazz. \nDie Band hatte in den letzten Jahren erfolgreiche Konzerte in Österreich\, Deutschland\, Rumänien\, Finnland und Estland – im Jahr 2019 auch im Musikverein Wien. \nEin besonderes Musikerlebnis wartet auf Sie! \nEintritt: freie Spende \nDauer: ca 70 Minuten \nOrt: Evangelische Kirche Klosterneuburg\, Franz-Rumpler-Straße 14
URL:https://www.stadtmarketing-klosterneuburg.at/veranstaltung/swing-a-la-django-clermont-quartett/
LOCATION:Evangelische Gemeinde A.u.H.B.\, Franz Rumpler-Straße 14\, Klosterneuburg\, Niederösterreich\, 3400\, Austria
CATEGORIES:Kunst & Kultur,Musik & Konzerte
ATTACH;FMTTYPE=image/jpeg:https://www.stadtmarketing-klosterneuburg.at/wp-content/uploads/2022/11/Swing-a-la-Django-Clermont-Quartett-c-Clermont-Quartett.jpg
END:VEVENT
END:VCALENDAR