BEGIN:VCALENDAR
VERSION:2.0
PRODID:-//Stadtmarketing Klosterneuburg - ECPv6.15.17.1//NONSGML v1.0//EN
CALSCALE:GREGORIAN
METHOD:PUBLISH
X-WR-CALNAME:Stadtmarketing Klosterneuburg
X-ORIGINAL-URL:https://www.stadtmarketing-klosterneuburg.at
X-WR-CALDESC:Veranstaltungen für Stadtmarketing Klosterneuburg
REFRESH-INTERVAL;VALUE=DURATION:PT1H
X-Robots-Tag:noindex
X-PUBLISHED-TTL:PT1H
BEGIN:VTIMEZONE
TZID:Europe/Vienna
BEGIN:DAYLIGHT
TZOFFSETFROM:+0100
TZOFFSETTO:+0200
TZNAME:CEST
DTSTART:20220327T010000
END:DAYLIGHT
BEGIN:STANDARD
TZOFFSETFROM:+0200
TZOFFSETTO:+0100
TZNAME:CET
DTSTART:20221030T010000
END:STANDARD
BEGIN:DAYLIGHT
TZOFFSETFROM:+0100
TZOFFSETTO:+0200
TZNAME:CEST
DTSTART:20230326T010000
END:DAYLIGHT
BEGIN:STANDARD
TZOFFSETFROM:+0200
TZOFFSETTO:+0100
TZNAME:CET
DTSTART:20231029T010000
END:STANDARD
BEGIN:DAYLIGHT
TZOFFSETFROM:+0100
TZOFFSETTO:+0200
TZNAME:CEST
DTSTART:20240331T010000
END:DAYLIGHT
BEGIN:STANDARD
TZOFFSETFROM:+0200
TZOFFSETTO:+0100
TZNAME:CET
DTSTART:20241027T010000
END:STANDARD
BEGIN:DAYLIGHT
TZOFFSETFROM:+0100
TZOFFSETTO:+0200
TZNAME:CEST
DTSTART:20250330T010000
END:DAYLIGHT
BEGIN:STANDARD
TZOFFSETFROM:+0200
TZOFFSETTO:+0100
TZNAME:CET
DTSTART:20251026T010000
END:STANDARD
END:VTIMEZONE
BEGIN:VEVENT
DTSTART;TZID=Europe/Vienna:20240907T180000
DTEND;TZID=Europe/Vienna:20240907T210000
DTSTAMP:20260420T153820
CREATED:20240822T112604Z
LAST-MODIFIED:20240822T112604Z
UID:10037379-1725732000-1725742800@www.stadtmarketing-klosterneuburg.at
SUMMARY:"Happy Men" @Gasthaus Silbersee
DESCRIPTION:Live-Musik von „Happy Men“ ab 18 Uhr\n\n\n\n\n\n\n\nEintritt frei!\n\n\n\n\n\n\nReservierungen unter +43/ (0)2243/ 24 442
URL:https://www.stadtmarketing-klosterneuburg.at/veranstaltung/happy-men-gasthaus-silbersee/
LOCATION:Gasthaus am Silbersee\, Am Silbersee 1\, Kritzendorf\, 3420\, Austria
CATEGORIES:Kunst & Kultur,Musik & Konzerte
ATTACH;FMTTYPE=image/jpeg:https://www.stadtmarketing-klosterneuburg.at/wp-content/uploads/2023/07/Happy-Men-2023-c-Happy-Men.jpg
END:VEVENT
BEGIN:VEVENT
DTSTART;TZID=Europe/Vienna:20240817T180000
DTEND;TZID=Europe/Vienna:20240817T210000
DTSTAMP:20260420T153820
CREATED:20240812T125653Z
LAST-MODIFIED:20240822T112634Z
UID:10037253-1723917600-1723928400@www.stadtmarketing-klosterneuburg.at
SUMMARY:Evergreen-Abend mit den "Red Diamonds"
DESCRIPTION:im Gasthaus am Silbersee\n\n\n\n\n\n\nStelzen mit Musik!\nSwing\, Rock&Roll Evergreens\n\n\n\n\n\n\n\n\n\n\n\n\n\n\n\n\n\n\n\nReservierungen unter +43/ (0)2243/ 24 442 \n 
URL:https://www.stadtmarketing-klosterneuburg.at/veranstaltung/evergreen-abend-mit-den-red-diamonds-3/
LOCATION:Gasthaus am Silbersee\, Am Silbersee 1\, Kritzendorf\, 3420\, Austria
CATEGORIES:Kulinarik & Wein,Kunst & Kultur,Musik & Konzerte
ATTACH;FMTTYPE=image/jpeg:https://www.stadtmarketing-klosterneuburg.at/wp-content/uploads/2023/05/Red-Diamonds-Evergreens-c-Red-Diamonds.jpg
END:VEVENT
BEGIN:VEVENT
DTSTART;TZID=Europe/Vienna:20240713T180000
DTEND;TZID=Europe/Vienna:20240713T210000
DTSTAMP:20260420T153820
CREATED:20240617T155337Z
LAST-MODIFIED:20240622T081518Z
UID:10036850-1720893600-1720904400@www.stadtmarketing-klosterneuburg.at
SUMMARY:Evergreen-Abend mit den "Red Diamonds"
DESCRIPTION:im Gasthaus am Silbersee\n\n\n\n\n\n\nSpareribs mit Musik!\nSwing\, Rock&Roll Evergreens\n\n\n\n\n\n\n\n\n\n\n\n\n\n\n\n\n\n\n\nReservierungen unter +43/ (0)2243/ 24 442 \n 
URL:https://www.stadtmarketing-klosterneuburg.at/veranstaltung/evergreen-abend-mit-den-red-diamonds-2/
LOCATION:Gasthaus am Silbersee\, Am Silbersee 1\, Kritzendorf\, 3420\, Austria
CATEGORIES:Kulinarik & Wein,Kunst & Kultur,Musik & Konzerte
ATTACH;FMTTYPE=image/jpeg:https://www.stadtmarketing-klosterneuburg.at/wp-content/uploads/2024/06/Evergreens-c-Red-Diamonds.jpg
END:VEVENT
BEGIN:VEVENT
DTSTART;TZID=Europe/Vienna:20240531T180000
DTEND;TZID=Europe/Vienna:20240531T210000
DTSTAMP:20260420T153820
CREATED:20240528T130843Z
LAST-MODIFIED:20240602T093006Z
UID:10036706-1717178400-1717189200@www.stadtmarketing-klosterneuburg.at
SUMMARY:Musikabend mit "Fräulein Peter"
DESCRIPTION:im Gasthaus am Silbersee\n\n\n\n\n\n\n\n\n\n\n\n\n\nReservierungen erforderlich:\n+43/ (0)2243/ 24 442 \n 
URL:https://www.stadtmarketing-klosterneuburg.at/veranstaltung/musikabend-mit-fraeulein-peter/
LOCATION:Gasthaus am Silbersee\, Am Silbersee 1\, Kritzendorf\, 3420\, Austria
CATEGORIES:Kulinarik & Wein,Kunst & Kultur,Musik & Konzerte
ATTACH;FMTTYPE=image/jpeg:https://www.stadtmarketing-klosterneuburg.at/wp-content/uploads/2024/05/Konzert-Fraeulein-Peter-c-Fraeulein-Peter.jpg
END:VEVENT
BEGIN:VEVENT
DTSTART;TZID=Europe/Vienna:20230901T180000
DTEND;TZID=Europe/Vienna:20230901T233000
DTSTAMP:20260420T153820
CREATED:20230416T102004Z
LAST-MODIFIED:20230702T101657Z
UID:10026203-1693591200-1693611000@www.stadtmarketing-klosterneuburg.at
SUMMARY:Musik- & Tanzabend
DESCRIPTION:…im Gasthaus am Silbersee\njeden 1. Freitag im Monat \nWer möchte gerne das Tanzbein schwingen? \n7.7.2023 Tanzmusik von Jazz Club Mio Band \n  \nUm Reservierung wird gebeten:\n\n+43/ (0)2243/ 24 442
URL:https://www.stadtmarketing-klosterneuburg.at/veranstaltung/musik-tanzabend/2023-09-01/
LOCATION:Gasthaus am Silbersee\, Am Silbersee 1\, Kritzendorf\, 3420\, Austria
CATEGORIES:Clubbings & Parties,Kunst & Kultur,Musik & Konzerte
ATTACH;FMTTYPE=image/jpeg:https://www.stadtmarketing-klosterneuburg.at/wp-content/uploads/2023/04/Gasthaus-am-Silbersee-c-Gasthaus-am-Silbersee.jpg
END:VEVENT
BEGIN:VEVENT
DTSTART;TZID=Europe/Vienna:20230812T180000
DTEND;TZID=Europe/Vienna:20230812T210000
DTSTAMP:20260420T153820
CREATED:20230515T091645Z
LAST-MODIFIED:20240528T125645Z
UID:10026668-1691863200-1691874000@www.stadtmarketing-klosterneuburg.at
SUMMARY:Evergreen-Abend mit den "Red Diamonds"
DESCRIPTION:im Gasthaus am Silbersee\n\n\n\n\n\n\nStelzen mit Musik!\nSwing\, Rock&Roll Evergreens\n\n\n\n\n\n\n\n\n\n\n\n\n\n\n\n\n\n\n\nReservierungen unter +43/ (0)2243/ 24 442 \n 
URL:https://www.stadtmarketing-klosterneuburg.at/veranstaltung/evergreen-abend-mit-den-red-diamonds/
LOCATION:Gasthaus am Silbersee\, Am Silbersee 1\, Kritzendorf\, 3420\, Austria
CATEGORIES:Kulinarik & Wein,Kunst & Kultur,Musik & Konzerte
ATTACH;FMTTYPE=image/jpeg:https://www.stadtmarketing-klosterneuburg.at/wp-content/uploads/2023/05/Red-Diamonds-Evergreens-c-Red-Diamonds.jpg
END:VEVENT
BEGIN:VEVENT
DTSTART;TZID=Europe/Vienna:20230804T180000
DTEND;TZID=Europe/Vienna:20230804T233000
DTSTAMP:20260420T153820
CREATED:20230416T102004Z
LAST-MODIFIED:20230702T101657Z
UID:10026202-1691172000-1691191800@www.stadtmarketing-klosterneuburg.at
SUMMARY:Musik- & Tanzabend
DESCRIPTION:…im Gasthaus am Silbersee\njeden 1. Freitag im Monat \nWer möchte gerne das Tanzbein schwingen? \n7.7.2023 Tanzmusik von Jazz Club Mio Band \n  \nUm Reservierung wird gebeten:\n\n+43/ (0)2243/ 24 442
URL:https://www.stadtmarketing-klosterneuburg.at/veranstaltung/musik-tanzabend/2023-08-04/
LOCATION:Gasthaus am Silbersee\, Am Silbersee 1\, Kritzendorf\, 3420\, Austria
CATEGORIES:Clubbings & Parties,Kunst & Kultur,Musik & Konzerte
ATTACH;FMTTYPE=image/jpeg:https://www.stadtmarketing-klosterneuburg.at/wp-content/uploads/2023/04/Gasthaus-am-Silbersee-c-Gasthaus-am-Silbersee.jpg
END:VEVENT
BEGIN:VEVENT
DTSTART;TZID=Europe/Vienna:20230722T180000
DTEND;TZID=Europe/Vienna:20230722T210000
DTSTAMP:20260420T153820
CREATED:20230515T090825Z
LAST-MODIFIED:20240618T080626Z
UID:10026667-1690048800-1690059600@www.stadtmarketing-klosterneuburg.at
SUMMARY:Evergreen-Abend mit den "Red Diamonds"
DESCRIPTION:im Gasthaus am Silbersee\n\n\n\n\n\n\nSpareribs mit Musik!\nSwing\, Rock&Roll Evergreens\n\n\n\n\n\n\n\n\n\n\n\n\n\n\n\n\n\n\n\nReservierungen unter +43/ (0)2243/ 24 442 \n 
URL:https://www.stadtmarketing-klosterneuburg.at/veranstaltung/schlagerabend-mit-den-red-diamonds/
LOCATION:Gasthaus am Silbersee\, Am Silbersee 1\, Kritzendorf\, 3420\, Austria
CATEGORIES:Kulinarik & Wein,Kunst & Kultur,Musik & Konzerte
ATTACH;FMTTYPE=image/jpeg:https://www.stadtmarketing-klosterneuburg.at/wp-content/uploads/2022/06/Red-Diamonds1-c-Red-Diamonds.jpg
END:VEVENT
BEGIN:VEVENT
DTSTART;TZID=Europe/Vienna:20230707T180000
DTEND;TZID=Europe/Vienna:20230707T233000
DTSTAMP:20260420T153820
CREATED:20230416T102004Z
LAST-MODIFIED:20230702T101657Z
UID:10026201-1688752800-1688772600@www.stadtmarketing-klosterneuburg.at
SUMMARY:Musik- & Tanzabend
DESCRIPTION:…im Gasthaus am Silbersee\njeden 1. Freitag im Monat \nWer möchte gerne das Tanzbein schwingen? \n7.7.2023 Tanzmusik von Jazz Club Mio Band \n  \nUm Reservierung wird gebeten:\n\n+43/ (0)2243/ 24 442
URL:https://www.stadtmarketing-klosterneuburg.at/veranstaltung/musik-tanzabend/2023-07-07/
LOCATION:Gasthaus am Silbersee\, Am Silbersee 1\, Kritzendorf\, 3420\, Austria
CATEGORIES:Clubbings & Parties,Kunst & Kultur,Musik & Konzerte
ATTACH;FMTTYPE=image/jpeg:https://www.stadtmarketing-klosterneuburg.at/wp-content/uploads/2023/04/Gasthaus-am-Silbersee-c-Gasthaus-am-Silbersee.jpg
END:VEVENT
BEGIN:VEVENT
DTSTART;TZID=Europe/Vienna:20230602T180000
DTEND;TZID=Europe/Vienna:20230602T233000
DTSTAMP:20260420T153820
CREATED:20230416T102004Z
LAST-MODIFIED:20230702T101657Z
UID:10026200-1685728800-1685748600@www.stadtmarketing-klosterneuburg.at
SUMMARY:Musik- & Tanzabend
DESCRIPTION:…im Gasthaus am Silbersee\njeden 1. Freitag im Monat \nWer möchte gerne das Tanzbein schwingen? \n7.7.2023 Tanzmusik von Jazz Club Mio Band \n  \nUm Reservierung wird gebeten:\n\n+43/ (0)2243/ 24 442
URL:https://www.stadtmarketing-klosterneuburg.at/veranstaltung/musik-tanzabend/2023-06-02/
LOCATION:Gasthaus am Silbersee\, Am Silbersee 1\, Kritzendorf\, 3420\, Austria
CATEGORIES:Clubbings & Parties,Kunst & Kultur,Musik & Konzerte
ATTACH;FMTTYPE=image/jpeg:https://www.stadtmarketing-klosterneuburg.at/wp-content/uploads/2023/04/Gasthaus-am-Silbersee-c-Gasthaus-am-Silbersee.jpg
END:VEVENT
BEGIN:VEVENT
DTSTART;TZID=Europe/Vienna:20230507T110000
DTEND;TZID=Europe/Vienna:20230507T140000
DTSTAMP:20260420T153820
CREATED:20230316T102836Z
LAST-MODIFIED:20230316T104812Z
UID:10025766-1683457200-1683468000@www.stadtmarketing-klosterneuburg.at
SUMMARY:Rudi & Lali
DESCRIPTION:Frühschoppen im Gasthaus am Silbersee\nSketches\, Parodien\, Witze\, Mundartgedichte und viel Musik mit Rudi Kandera & Walter Eisenmann! \nBeginn: 11 Uhr \nEintritt: € 15 / Person \nKarten:\n\n+43/ (0)2243/ 24 442\n+43/ (0)650/ 84 484 11\ndirekt im Gasthaus am Silbersee
URL:https://www.stadtmarketing-klosterneuburg.at/veranstaltung/rudi-lali-2/
LOCATION:Gasthaus am Silbersee\, Am Silbersee 1\, Kritzendorf\, 3420\, Austria
CATEGORIES:Kulinarische Veranstaltung,Kunst & Kultur,Musik & Konzerte
ATTACH;FMTTYPE=image/jpeg:https://www.stadtmarketing-klosterneuburg.at/wp-content/uploads/2022/07/RudiLali-c-RudiLali.jpg
END:VEVENT
BEGIN:VEVENT
DTSTART;TZID=Europe/Vienna:20230505T180000
DTEND;TZID=Europe/Vienna:20230505T233000
DTSTAMP:20260420T153820
CREATED:20230416T102004Z
LAST-MODIFIED:20230702T101657Z
UID:10026199-1683309600-1683329400@www.stadtmarketing-klosterneuburg.at
SUMMARY:Musik- & Tanzabend
DESCRIPTION:…im Gasthaus am Silbersee\njeden 1. Freitag im Monat \nWer möchte gerne das Tanzbein schwingen? \n7.7.2023 Tanzmusik von Jazz Club Mio Band \n  \nUm Reservierung wird gebeten:\n\n+43/ (0)2243/ 24 442
URL:https://www.stadtmarketing-klosterneuburg.at/veranstaltung/musik-tanzabend/2023-05-05/
LOCATION:Gasthaus am Silbersee\, Am Silbersee 1\, Kritzendorf\, 3420\, Austria
CATEGORIES:Clubbings & Parties,Kunst & Kultur,Musik & Konzerte
ATTACH;FMTTYPE=image/jpeg:https://www.stadtmarketing-klosterneuburg.at/wp-content/uploads/2023/04/Gasthaus-am-Silbersee-c-Gasthaus-am-Silbersee.jpg
END:VEVENT
END:VCALENDAR