BEGIN:VCALENDAR
VERSION:2.0
PRODID:-//Stadtmarketing Klosterneuburg - ECPv6.15.17.1//NONSGML v1.0//EN
CALSCALE:GREGORIAN
METHOD:PUBLISH
X-ORIGINAL-URL:https://www.stadtmarketing-klosterneuburg.at
X-WR-CALDESC:Veranstaltungen für Stadtmarketing Klosterneuburg
REFRESH-INTERVAL;VALUE=DURATION:PT1H
X-Robots-Tag:noindex
X-PUBLISHED-TTL:PT1H
BEGIN:VTIMEZONE
TZID:Europe/Vienna
BEGIN:DAYLIGHT
TZOFFSETFROM:+0100
TZOFFSETTO:+0200
TZNAME:CEST
DTSTART:20210328T010000
END:DAYLIGHT
BEGIN:STANDARD
TZOFFSETFROM:+0200
TZOFFSETTO:+0100
TZNAME:CET
DTSTART:20211031T010000
END:STANDARD
BEGIN:DAYLIGHT
TZOFFSETFROM:+0100
TZOFFSETTO:+0200
TZNAME:CEST
DTSTART:20220327T010000
END:DAYLIGHT
BEGIN:STANDARD
TZOFFSETFROM:+0200
TZOFFSETTO:+0100
TZNAME:CET
DTSTART:20221030T010000
END:STANDARD
BEGIN:DAYLIGHT
TZOFFSETFROM:+0100
TZOFFSETTO:+0200
TZNAME:CEST
DTSTART:20230326T010000
END:DAYLIGHT
BEGIN:STANDARD
TZOFFSETFROM:+0200
TZOFFSETTO:+0100
TZNAME:CET
DTSTART:20231029T010000
END:STANDARD
BEGIN:DAYLIGHT
TZOFFSETFROM:+0100
TZOFFSETTO:+0200
TZNAME:CEST
DTSTART:20240331T010000
END:DAYLIGHT
BEGIN:STANDARD
TZOFFSETFROM:+0200
TZOFFSETTO:+0100
TZNAME:CET
DTSTART:20241027T010000
END:STANDARD
END:VTIMEZONE
BEGIN:VEVENT
DTSTART;TZID=Europe/Vienna:20230324T170000
DTEND;TZID=Europe/Vienna:20230324T193000
DTSTAMP:20260420T002923
CREATED:20230306T102211Z
LAST-MODIFIED:20240322T142335Z
UID:10025717-1679677200-1679686200@www.stadtmarketing-klosterneuburg.at
SUMMARY:"Frühlingserwachen"
DESCRIPTION:Ein beschwingtes Potpourri bekannter Melodien aus Operette und Wienerlied\nmit Selma Fasching-Tomaschek (Sopran) und Peter Zimmeter (Klavier) \n  \nUm Tischreservierung wird gebeten!\n\nKierlingerhof   +43/ (0)664/ 25 32 872
URL:https://www.stadtmarketing-klosterneuburg.at/veranstaltung/fruehlingserwachen/
LOCATION:Kierlinger Hof – Schönes Neues und Altes\, Hauptstraße 146\, Kierling\, 3400\, Austria
CATEGORIES:Kunst & Kultur,Musik & Konzerte
ATTACH;FMTTYPE=image/jpeg:https://www.stadtmarketing-klosterneuburg.at/wp-content/uploads/2023/03/Fruehlingserwachen-c-Kierlingerhof.jpg
END:VEVENT
BEGIN:VEVENT
DTSTART;TZID=Europe/Vienna:20230222T183000
DTEND;TZID=Europe/Vienna:20230222T220000
DTSTAMP:20260420T002923
CREATED:20230208T133107Z
LAST-MODIFIED:20230208T133313Z
UID:10025254-1677090600-1677103200@www.stadtmarketing-klosterneuburg.at
SUMMARY:Heringsschmaus im Kierlingerhof
DESCRIPTION:Heringsschmaus Buffet am Aschermittwoch\n\nMittags um 12 Uhr\nAbends um 18.30 Uhr\n\nPreis: € 24\,50 pro Person \nUm Vorbestellung wird gebeten!\n\nKierlingerhof   02243/831 80
URL:https://www.stadtmarketing-klosterneuburg.at/veranstaltung/heringsschmaus-im-kierlingerhof-2/2023-02-22/2/
LOCATION:Kierlinger Hof – Schönes Neues und Altes\, Hauptstraße 146\, Kierling\, 3400\, Austria
CATEGORIES:Fasching,Kulinarische Veranstaltung
ATTACH;FMTTYPE=image/jpeg:https://www.stadtmarketing-klosterneuburg.at/wp-content/uploads/2023/02/Heringsschmaus-c-Pixabay.jpg
END:VEVENT
BEGIN:VEVENT
DTSTART;TZID=Europe/Vienna:20230222T120000
DTEND;TZID=Europe/Vienna:20230222T150000
DTSTAMP:20260420T002923
CREATED:20230208T133107Z
LAST-MODIFIED:20230208T133313Z
UID:10025253-1677067200-1677078000@www.stadtmarketing-klosterneuburg.at
SUMMARY:Heringsschmaus im Kierlingerhof
DESCRIPTION:Heringsschmaus Buffet am Aschermittwoch\n\nMittags um 12 Uhr\nAbends um 18.30 Uhr\n\nPreis: € 24\,50 pro Person \nUm Vorbestellung wird gebeten!\n\nKierlingerhof   02243/831 80
URL:https://www.stadtmarketing-klosterneuburg.at/veranstaltung/heringsschmaus-im-kierlingerhof-2/2023-02-22/1/
LOCATION:Kierlinger Hof – Schönes Neues und Altes\, Hauptstraße 146\, Kierling\, 3400\, Austria
CATEGORIES:Fasching,Kulinarische Veranstaltung
ATTACH;FMTTYPE=image/jpeg:https://www.stadtmarketing-klosterneuburg.at/wp-content/uploads/2023/02/Heringsschmaus-c-Pixabay.jpg
END:VEVENT
BEGIN:VEVENT
DTSTART;TZID=Europe/Vienna:20221230T160000
DTEND;TZID=Europe/Vienna:20221230T220000
DTSTAMP:20260420T002923
CREATED:20221228T085437Z
LAST-MODIFIED:20231219T103821Z
UID:10023796-1672416000-1672437600@www.stadtmarketing-klosterneuburg.at
SUMMARY:Jahresausklang im Kierlingerhof
DESCRIPTION:Die Wirtin Barbara Probst lädt ihre Gäste auf ein Gläschen Sekt ein! \nab 17 Uhr : Musikalische Unterhaltung mit Malu \nUm Tischreservierung wird gebeten!\n\nKierlingerhof   +43/ (0)664/ 25 32 872
URL:https://www.stadtmarketing-klosterneuburg.at/veranstaltung/jahresausklang-im-kierlingerhof/
LOCATION:Kierlinger Hof – Schönes Neues und Altes\, Hauptstraße 146\, Kierling\, 3400\, Austria
CATEGORIES:Kulinarik & Wein,Kulinarische Veranstaltung,Kunst & Kultur,Musik & Konzerte,Silvester
ATTACH;FMTTYPE=image/jpeg:https://www.stadtmarketing-klosterneuburg.at/wp-content/uploads/2022/12/Jahreswechsel-c-Pixabay.jpg
END:VEVENT
END:VCALENDAR