BEGIN:VCALENDAR
VERSION:2.0
PRODID:-//Stadtmarketing Klosterneuburg - ECPv6.15.17.1//NONSGML v1.0//EN
CALSCALE:GREGORIAN
METHOD:PUBLISH
X-ORIGINAL-URL:https://www.stadtmarketing-klosterneuburg.at
X-WR-CALDESC:Veranstaltungen für Stadtmarketing Klosterneuburg
REFRESH-INTERVAL;VALUE=DURATION:PT1H
X-Robots-Tag:noindex
X-PUBLISHED-TTL:PT1H
BEGIN:VTIMEZONE
TZID:Europe/Vienna
BEGIN:DAYLIGHT
TZOFFSETFROM:+0100
TZOFFSETTO:+0200
TZNAME:CEST
DTSTART:20220327T010000
END:DAYLIGHT
BEGIN:STANDARD
TZOFFSETFROM:+0200
TZOFFSETTO:+0100
TZNAME:CET
DTSTART:20221030T010000
END:STANDARD
BEGIN:DAYLIGHT
TZOFFSETFROM:+0100
TZOFFSETTO:+0200
TZNAME:CEST
DTSTART:20230326T010000
END:DAYLIGHT
BEGIN:STANDARD
TZOFFSETFROM:+0200
TZOFFSETTO:+0100
TZNAME:CET
DTSTART:20231029T010000
END:STANDARD
BEGIN:DAYLIGHT
TZOFFSETFROM:+0100
TZOFFSETTO:+0200
TZNAME:CEST
DTSTART:20240331T010000
END:DAYLIGHT
BEGIN:STANDARD
TZOFFSETFROM:+0200
TZOFFSETTO:+0100
TZNAME:CET
DTSTART:20241027T010000
END:STANDARD
BEGIN:DAYLIGHT
TZOFFSETFROM:+0100
TZOFFSETTO:+0200
TZNAME:CEST
DTSTART:20250330T010000
END:DAYLIGHT
BEGIN:STANDARD
TZOFFSETFROM:+0200
TZOFFSETTO:+0100
TZNAME:CET
DTSTART:20251026T010000
END:STANDARD
END:VTIMEZONE
BEGIN:VEVENT
DTSTART;TZID=Europe/Vienna:20240329T133000
DTEND;TZID=Europe/Vienna:20240329T150000
DTSTAMP:20260420T051147
CREATED:20240222T133930Z
LAST-MODIFIED:20240222T134008Z
UID:10034899-1711719000-1711724400@www.stadtmarketing-klosterneuburg.at
SUMMARY:Osterferienkurs III @Kletteranlage
DESCRIPTION:Geckos (8 – 11 Jahre) / Fortgeschrittene\n25.3. – 29.3.2024 / jeweils 13.30 – 15 Uhr \nAnmeldung:\nONLINE \n  \n 
URL:https://www.stadtmarketing-klosterneuburg.at/veranstaltung/osterferienkurs-iii-kletteranlage/2024-03-29/
LOCATION:Kletteranlage Klosterneuburg\, In der Au 1 / Happyland\, Klosterneuburg\, Niederöster\, 3400\, Austria
CATEGORIES:Feriencamp,Fitnesskurse & Workshops,Kinder,Ostern,Sport & Gesundheit
ATTACH;FMTTYPE=image/jpeg:https://www.stadtmarketing-klosterneuburg.at/wp-content/uploads/2024/02/Osterkurse-2024-c-Kletteranlage-Klbg.jpg
END:VEVENT
BEGIN:VEVENT
DTSTART;TZID=Europe/Vienna:20240329T113000
DTEND;TZID=Europe/Vienna:20240329T130000
DTSTAMP:20260420T051147
CREATED:20240222T133813Z
LAST-MODIFIED:20240222T133851Z
UID:10034895-1711711800-1711717200@www.stadtmarketing-klosterneuburg.at
SUMMARY:Osterferienkurs II @Kletteranlage
DESCRIPTION:Geckos (8 – 11 Jahre) / Anfänger\n25.3. – 29.3.2024 / jeweils 11.45 – 13.15 Uhr \nAnmeldung:\nONLINE \n  \n 
URL:https://www.stadtmarketing-klosterneuburg.at/veranstaltung/osterferienkurs-ii-kletteranlage/2024-03-29/
LOCATION:Kletteranlage Klosterneuburg\, In der Au 1 / Happyland\, Klosterneuburg\, Niederöster\, 3400\, Austria
CATEGORIES:Feriencamp,Fitnesskurse & Workshops,Kinder,Ostern,Sport & Gesundheit
ATTACH;FMTTYPE=image/jpeg:https://www.stadtmarketing-klosterneuburg.at/wp-content/uploads/2024/02/Osterkurse-2024-c-Kletteranlage-Klbg.jpg
END:VEVENT
BEGIN:VEVENT
DTSTART;TZID=Europe/Vienna:20240329T103000
DTEND;TZID=Europe/Vienna:20240329T113000
DTSTAMP:20260420T051147
CREATED:20240222T133557Z
LAST-MODIFIED:20240222T133708Z
UID:10034891-1711708200-1711711800@www.stadtmarketing-klosterneuburg.at
SUMMARY:Osterferienkurs I @Kletteranlage
DESCRIPTION:Schlümpfe (6 – 7 Jahre) / Anfänger\n25.3. – 29.3.2024 / jeweils 10.30 – 11.30 Uhr \nAnmeldung:\nONLINE \n  \n 
URL:https://www.stadtmarketing-klosterneuburg.at/veranstaltung/osterferienkurs-i-kletteranlage/2024-03-29/
LOCATION:Kletteranlage Klosterneuburg\, In der Au 1 / Happyland\, Klosterneuburg\, Niederöster\, 3400\, Austria
CATEGORIES:Feriencamp,Fitnesskurse & Workshops,Kinder,Ostern,Sport & Gesundheit
ATTACH;FMTTYPE=image/jpeg:https://www.stadtmarketing-klosterneuburg.at/wp-content/uploads/2024/02/Osterkurse-2024-c-Kletteranlage-Klbg.jpg
END:VEVENT
BEGIN:VEVENT
DTSTART;TZID=Europe/Vienna:20240328T133000
DTEND;TZID=Europe/Vienna:20240328T150000
DTSTAMP:20260420T051147
CREATED:20240222T133930Z
LAST-MODIFIED:20240222T134008Z
UID:10034898-1711632600-1711638000@www.stadtmarketing-klosterneuburg.at
SUMMARY:Osterferienkurs III @Kletteranlage
DESCRIPTION:Geckos (8 – 11 Jahre) / Fortgeschrittene\n25.3. – 29.3.2024 / jeweils 13.30 – 15 Uhr \nAnmeldung:\nONLINE \n  \n 
URL:https://www.stadtmarketing-klosterneuburg.at/veranstaltung/osterferienkurs-iii-kletteranlage/2024-03-28/
LOCATION:Kletteranlage Klosterneuburg\, In der Au 1 / Happyland\, Klosterneuburg\, Niederöster\, 3400\, Austria
CATEGORIES:Feriencamp,Fitnesskurse & Workshops,Kinder,Ostern,Sport & Gesundheit
ATTACH;FMTTYPE=image/jpeg:https://www.stadtmarketing-klosterneuburg.at/wp-content/uploads/2024/02/Osterkurse-2024-c-Kletteranlage-Klbg.jpg
END:VEVENT
BEGIN:VEVENT
DTSTART;TZID=Europe/Vienna:20240328T113000
DTEND;TZID=Europe/Vienna:20240328T130000
DTSTAMP:20260420T051147
CREATED:20240222T133813Z
LAST-MODIFIED:20240222T133851Z
UID:10034894-1711625400-1711630800@www.stadtmarketing-klosterneuburg.at
SUMMARY:Osterferienkurs II @Kletteranlage
DESCRIPTION:Geckos (8 – 11 Jahre) / Anfänger\n25.3. – 29.3.2024 / jeweils 11.45 – 13.15 Uhr \nAnmeldung:\nONLINE \n  \n 
URL:https://www.stadtmarketing-klosterneuburg.at/veranstaltung/osterferienkurs-ii-kletteranlage/2024-03-28/
LOCATION:Kletteranlage Klosterneuburg\, In der Au 1 / Happyland\, Klosterneuburg\, Niederöster\, 3400\, Austria
CATEGORIES:Feriencamp,Fitnesskurse & Workshops,Kinder,Ostern,Sport & Gesundheit
ATTACH;FMTTYPE=image/jpeg:https://www.stadtmarketing-klosterneuburg.at/wp-content/uploads/2024/02/Osterkurse-2024-c-Kletteranlage-Klbg.jpg
END:VEVENT
BEGIN:VEVENT
DTSTART;TZID=Europe/Vienna:20240328T103000
DTEND;TZID=Europe/Vienna:20240328T113000
DTSTAMP:20260420T051147
CREATED:20240222T133557Z
LAST-MODIFIED:20240222T133708Z
UID:10034890-1711621800-1711625400@www.stadtmarketing-klosterneuburg.at
SUMMARY:Osterferienkurs I @Kletteranlage
DESCRIPTION:Schlümpfe (6 – 7 Jahre) / Anfänger\n25.3. – 29.3.2024 / jeweils 10.30 – 11.30 Uhr \nAnmeldung:\nONLINE \n  \n 
URL:https://www.stadtmarketing-klosterneuburg.at/veranstaltung/osterferienkurs-i-kletteranlage/2024-03-28/
LOCATION:Kletteranlage Klosterneuburg\, In der Au 1 / Happyland\, Klosterneuburg\, Niederöster\, 3400\, Austria
CATEGORIES:Feriencamp,Fitnesskurse & Workshops,Kinder,Ostern,Sport & Gesundheit
ATTACH;FMTTYPE=image/jpeg:https://www.stadtmarketing-klosterneuburg.at/wp-content/uploads/2024/02/Osterkurse-2024-c-Kletteranlage-Klbg.jpg
END:VEVENT
BEGIN:VEVENT
DTSTART;TZID=Europe/Vienna:20240327T133000
DTEND;TZID=Europe/Vienna:20240327T150000
DTSTAMP:20260420T051147
CREATED:20240222T133930Z
LAST-MODIFIED:20240222T134008Z
UID:10034897-1711546200-1711551600@www.stadtmarketing-klosterneuburg.at
SUMMARY:Osterferienkurs III @Kletteranlage
DESCRIPTION:Geckos (8 – 11 Jahre) / Fortgeschrittene\n25.3. – 29.3.2024 / jeweils 13.30 – 15 Uhr \nAnmeldung:\nONLINE \n  \n 
URL:https://www.stadtmarketing-klosterneuburg.at/veranstaltung/osterferienkurs-iii-kletteranlage/2024-03-27/
LOCATION:Kletteranlage Klosterneuburg\, In der Au 1 / Happyland\, Klosterneuburg\, Niederöster\, 3400\, Austria
CATEGORIES:Feriencamp,Fitnesskurse & Workshops,Kinder,Ostern,Sport & Gesundheit
ATTACH;FMTTYPE=image/jpeg:https://www.stadtmarketing-klosterneuburg.at/wp-content/uploads/2024/02/Osterkurse-2024-c-Kletteranlage-Klbg.jpg
END:VEVENT
BEGIN:VEVENT
DTSTART;TZID=Europe/Vienna:20240327T113000
DTEND;TZID=Europe/Vienna:20240327T130000
DTSTAMP:20260420T051147
CREATED:20240222T133813Z
LAST-MODIFIED:20240222T133851Z
UID:10034893-1711539000-1711544400@www.stadtmarketing-klosterneuburg.at
SUMMARY:Osterferienkurs II @Kletteranlage
DESCRIPTION:Geckos (8 – 11 Jahre) / Anfänger\n25.3. – 29.3.2024 / jeweils 11.45 – 13.15 Uhr \nAnmeldung:\nONLINE \n  \n 
URL:https://www.stadtmarketing-klosterneuburg.at/veranstaltung/osterferienkurs-ii-kletteranlage/2024-03-27/
LOCATION:Kletteranlage Klosterneuburg\, In der Au 1 / Happyland\, Klosterneuburg\, Niederöster\, 3400\, Austria
CATEGORIES:Feriencamp,Fitnesskurse & Workshops,Kinder,Ostern,Sport & Gesundheit
ATTACH;FMTTYPE=image/jpeg:https://www.stadtmarketing-klosterneuburg.at/wp-content/uploads/2024/02/Osterkurse-2024-c-Kletteranlage-Klbg.jpg
END:VEVENT
BEGIN:VEVENT
DTSTART;TZID=Europe/Vienna:20240327T103000
DTEND;TZID=Europe/Vienna:20240327T113000
DTSTAMP:20260420T051147
CREATED:20240222T133557Z
LAST-MODIFIED:20240222T133708Z
UID:10034889-1711535400-1711539000@www.stadtmarketing-klosterneuburg.at
SUMMARY:Osterferienkurs I @Kletteranlage
DESCRIPTION:Schlümpfe (6 – 7 Jahre) / Anfänger\n25.3. – 29.3.2024 / jeweils 10.30 – 11.30 Uhr \nAnmeldung:\nONLINE \n  \n 
URL:https://www.stadtmarketing-klosterneuburg.at/veranstaltung/osterferienkurs-i-kletteranlage/2024-03-27/
LOCATION:Kletteranlage Klosterneuburg\, In der Au 1 / Happyland\, Klosterneuburg\, Niederöster\, 3400\, Austria
CATEGORIES:Feriencamp,Fitnesskurse & Workshops,Kinder,Ostern,Sport & Gesundheit
ATTACH;FMTTYPE=image/jpeg:https://www.stadtmarketing-klosterneuburg.at/wp-content/uploads/2024/02/Osterkurse-2024-c-Kletteranlage-Klbg.jpg
END:VEVENT
BEGIN:VEVENT
DTSTART;TZID=Europe/Vienna:20240326T133000
DTEND;TZID=Europe/Vienna:20240326T150000
DTSTAMP:20260420T051147
CREATED:20240222T133930Z
LAST-MODIFIED:20240222T134008Z
UID:10034896-1711459800-1711465200@www.stadtmarketing-klosterneuburg.at
SUMMARY:Osterferienkurs III @Kletteranlage
DESCRIPTION:Geckos (8 – 11 Jahre) / Fortgeschrittene\n25.3. – 29.3.2024 / jeweils 13.30 – 15 Uhr \nAnmeldung:\nONLINE \n  \n 
URL:https://www.stadtmarketing-klosterneuburg.at/veranstaltung/osterferienkurs-iii-kletteranlage/2024-03-26/
LOCATION:Kletteranlage Klosterneuburg\, In der Au 1 / Happyland\, Klosterneuburg\, Niederöster\, 3400\, Austria
CATEGORIES:Feriencamp,Fitnesskurse & Workshops,Kinder,Ostern,Sport & Gesundheit
ATTACH;FMTTYPE=image/jpeg:https://www.stadtmarketing-klosterneuburg.at/wp-content/uploads/2024/02/Osterkurse-2024-c-Kletteranlage-Klbg.jpg
END:VEVENT
BEGIN:VEVENT
DTSTART;TZID=Europe/Vienna:20240326T113000
DTEND;TZID=Europe/Vienna:20240326T130000
DTSTAMP:20260420T051147
CREATED:20240222T133813Z
LAST-MODIFIED:20240222T133851Z
UID:10034892-1711452600-1711458000@www.stadtmarketing-klosterneuburg.at
SUMMARY:Osterferienkurs II @Kletteranlage
DESCRIPTION:Geckos (8 – 11 Jahre) / Anfänger\n25.3. – 29.3.2024 / jeweils 11.45 – 13.15 Uhr \nAnmeldung:\nONLINE \n  \n 
URL:https://www.stadtmarketing-klosterneuburg.at/veranstaltung/osterferienkurs-ii-kletteranlage/2024-03-26/
LOCATION:Kletteranlage Klosterneuburg\, In der Au 1 / Happyland\, Klosterneuburg\, Niederöster\, 3400\, Austria
CATEGORIES:Feriencamp,Fitnesskurse & Workshops,Kinder,Ostern,Sport & Gesundheit
ATTACH;FMTTYPE=image/jpeg:https://www.stadtmarketing-klosterneuburg.at/wp-content/uploads/2024/02/Osterkurse-2024-c-Kletteranlage-Klbg.jpg
END:VEVENT
BEGIN:VEVENT
DTSTART;TZID=Europe/Vienna:20240326T103000
DTEND;TZID=Europe/Vienna:20240326T113000
DTSTAMP:20260420T051147
CREATED:20240222T133557Z
LAST-MODIFIED:20240222T133708Z
UID:10034888-1711449000-1711452600@www.stadtmarketing-klosterneuburg.at
SUMMARY:Osterferienkurs I @Kletteranlage
DESCRIPTION:Schlümpfe (6 – 7 Jahre) / Anfänger\n25.3. – 29.3.2024 / jeweils 10.30 – 11.30 Uhr \nAnmeldung:\nONLINE \n  \n 
URL:https://www.stadtmarketing-klosterneuburg.at/veranstaltung/osterferienkurs-i-kletteranlage/2024-03-26/
LOCATION:Kletteranlage Klosterneuburg\, In der Au 1 / Happyland\, Klosterneuburg\, Niederöster\, 3400\, Austria
CATEGORIES:Feriencamp,Fitnesskurse & Workshops,Kinder,Ostern,Sport & Gesundheit
ATTACH;FMTTYPE=image/jpeg:https://www.stadtmarketing-klosterneuburg.at/wp-content/uploads/2024/02/Osterkurse-2024-c-Kletteranlage-Klbg.jpg
END:VEVENT
BEGIN:VEVENT
DTSTART;TZID=Europe/Vienna:20240325T133000
DTEND;TZID=Europe/Vienna:20240325T150000
DTSTAMP:20260420T051147
CREATED:20240222T133930Z
LAST-MODIFIED:20240222T134008Z
UID:10034887-1711373400-1711378800@www.stadtmarketing-klosterneuburg.at
SUMMARY:Osterferienkurs III @Kletteranlage
DESCRIPTION:Geckos (8 – 11 Jahre) / Fortgeschrittene\n25.3. – 29.3.2024 / jeweils 13.30 – 15 Uhr \nAnmeldung:\nONLINE \n  \n 
URL:https://www.stadtmarketing-klosterneuburg.at/veranstaltung/osterferienkurs-iii-kletteranlage/2024-03-25/
LOCATION:Kletteranlage Klosterneuburg\, In der Au 1 / Happyland\, Klosterneuburg\, Niederöster\, 3400\, Austria
CATEGORIES:Feriencamp,Fitnesskurse & Workshops,Kinder,Ostern,Sport & Gesundheit
ATTACH;FMTTYPE=image/jpeg:https://www.stadtmarketing-klosterneuburg.at/wp-content/uploads/2024/02/Osterkurse-2024-c-Kletteranlage-Klbg.jpg
END:VEVENT
BEGIN:VEVENT
DTSTART;TZID=Europe/Vienna:20240325T113000
DTEND;TZID=Europe/Vienna:20240325T130000
DTSTAMP:20260420T051147
CREATED:20240222T133813Z
LAST-MODIFIED:20240222T133851Z
UID:10034886-1711366200-1711371600@www.stadtmarketing-klosterneuburg.at
SUMMARY:Osterferienkurs II @Kletteranlage
DESCRIPTION:Geckos (8 – 11 Jahre) / Anfänger\n25.3. – 29.3.2024 / jeweils 11.45 – 13.15 Uhr \nAnmeldung:\nONLINE \n  \n 
URL:https://www.stadtmarketing-klosterneuburg.at/veranstaltung/osterferienkurs-ii-kletteranlage/2024-03-25/
LOCATION:Kletteranlage Klosterneuburg\, In der Au 1 / Happyland\, Klosterneuburg\, Niederöster\, 3400\, Austria
CATEGORIES:Feriencamp,Fitnesskurse & Workshops,Kinder,Ostern,Sport & Gesundheit
ATTACH;FMTTYPE=image/jpeg:https://www.stadtmarketing-klosterneuburg.at/wp-content/uploads/2024/02/Osterkurse-2024-c-Kletteranlage-Klbg.jpg
END:VEVENT
BEGIN:VEVENT
DTSTART;TZID=Europe/Vienna:20240325T103000
DTEND;TZID=Europe/Vienna:20240325T113000
DTSTAMP:20260420T051147
CREATED:20240222T133557Z
LAST-MODIFIED:20240222T133708Z
UID:10034885-1711362600-1711366200@www.stadtmarketing-klosterneuburg.at
SUMMARY:Osterferienkurs I @Kletteranlage
DESCRIPTION:Schlümpfe (6 – 7 Jahre) / Anfänger\n25.3. – 29.3.2024 / jeweils 10.30 – 11.30 Uhr \nAnmeldung:\nONLINE \n  \n 
URL:https://www.stadtmarketing-klosterneuburg.at/veranstaltung/osterferienkurs-i-kletteranlage/2024-03-25/
LOCATION:Kletteranlage Klosterneuburg\, In der Au 1 / Happyland\, Klosterneuburg\, Niederöster\, 3400\, Austria
CATEGORIES:Feriencamp,Fitnesskurse & Workshops,Kinder,Ostern,Sport & Gesundheit
ATTACH;FMTTYPE=image/jpeg:https://www.stadtmarketing-klosterneuburg.at/wp-content/uploads/2024/02/Osterkurse-2024-c-Kletteranlage-Klbg.jpg
END:VEVENT
BEGIN:VEVENT
DTSTART;TZID=Europe/Vienna:20230915T140000
DTEND;TZID=Europe/Vienna:20230915T200000
DTSTAMP:20260420T051147
CREATED:20230825T135930Z
LAST-MODIFIED:20230825T140024Z
UID:10027508-1694786400-1694808000@www.stadtmarketing-klosterneuburg.at
SUMMARY:INKlettern
DESCRIPTION:Bei dieser Veranstaltung sollen Menschen MIT und OHNE Beeinträchtigung im Setting des Breitensports Klettern zusammenkommen. \nGemeinsam Klettern\, Spaß haben und der Austausch stehen im Vordergrund! \nUnkompliziert\, ohne Vorurteile und ohne Leistungsdruck. \nJede*r ist willkommen! Gerade Personen\, die keine Berührungspunkte mit Menschen mit Beeinträchtigung haben\, sind herzlichst eingeladen vorbeizukommen. \nDer Eintrittspreis in die Kletterhalle ist an diesen Tagen reduziert und für eine Jause ist auch gesorgt. \n  \nInfos & Anmeldung:\nalpenvereinsjugend.at/inklusion \n  \nKletteranlage Klosterneuburg\nAlpenverein Austria\n3400 Klosterneuburg\, In der Au 1 \n+43 664 455 1991 \ns.havel@kletteranlage-klosterneuburg.at \nwww.kletteranlage-klosterneuburg.at
URL:https://www.stadtmarketing-klosterneuburg.at/veranstaltung/inklettern/
LOCATION:Kletteranlage Klosterneuburg\, In der Au 1 / Happyland\, Klosterneuburg\, Niederöster\, 3400\, Austria
CATEGORIES:Sport & Gesundheit,Sportevents & Festivals
ATTACH;FMTTYPE=image/jpeg:https://www.stadtmarketing-klosterneuburg.at/wp-content/uploads/2023/08/INKlettern-c-Kletteranlage-Klbg.jpg
END:VEVENT
END:VCALENDAR