BEGIN:VCALENDAR
VERSION:2.0
PRODID:-//Stadtmarketing Klosterneuburg - ECPv6.15.20//NONSGML v1.0//EN
CALSCALE:GREGORIAN
METHOD:PUBLISH
X-WR-CALNAME:Stadtmarketing Klosterneuburg
X-ORIGINAL-URL:https://www.stadtmarketing-klosterneuburg.at
X-WR-CALDESC:Veranstaltungen für Stadtmarketing Klosterneuburg
REFRESH-INTERVAL;VALUE=DURATION:PT1H
X-Robots-Tag:noindex
X-PUBLISHED-TTL:PT1H
BEGIN:VTIMEZONE
TZID:Europe/Vienna
BEGIN:DAYLIGHT
TZOFFSETFROM:+0100
TZOFFSETTO:+0200
TZNAME:CEST
DTSTART:20220327T010000
END:DAYLIGHT
BEGIN:STANDARD
TZOFFSETFROM:+0200
TZOFFSETTO:+0100
TZNAME:CET
DTSTART:20221030T010000
END:STANDARD
BEGIN:DAYLIGHT
TZOFFSETFROM:+0100
TZOFFSETTO:+0200
TZNAME:CEST
DTSTART:20230326T010000
END:DAYLIGHT
BEGIN:STANDARD
TZOFFSETFROM:+0200
TZOFFSETTO:+0100
TZNAME:CET
DTSTART:20231029T010000
END:STANDARD
BEGIN:DAYLIGHT
TZOFFSETFROM:+0100
TZOFFSETTO:+0200
TZNAME:CEST
DTSTART:20240331T010000
END:DAYLIGHT
BEGIN:STANDARD
TZOFFSETFROM:+0200
TZOFFSETTO:+0100
TZNAME:CET
DTSTART:20241027T010000
END:STANDARD
BEGIN:DAYLIGHT
TZOFFSETFROM:+0100
TZOFFSETTO:+0200
TZNAME:CEST
DTSTART:20250330T010000
END:DAYLIGHT
BEGIN:STANDARD
TZOFFSETFROM:+0200
TZOFFSETTO:+0100
TZNAME:CET
DTSTART:20251026T010000
END:STANDARD
BEGIN:DAYLIGHT
TZOFFSETFROM:+0100
TZOFFSETTO:+0200
TZNAME:CEST
DTSTART:20260329T010000
END:DAYLIGHT
BEGIN:STANDARD
TZOFFSETFROM:+0200
TZOFFSETTO:+0100
TZNAME:CET
DTSTART:20261025T010000
END:STANDARD
END:VTIMEZONE
BEGIN:VEVENT
DTSTART;TZID=Europe/Vienna:20250427T123000
DTEND;TZID=Europe/Vienna:20250427T180000
DTSTAMP:20260422T004259
CREATED:20250320T142841Z
LAST-MODIFIED:20250320T142917Z
UID:10040888-1745757000-1745776800@www.stadtmarketing-klosterneuburg.at
SUMMARY:Klosterneuburger Entenrennen
DESCRIPTION:Das Entenrennen Klosterneuburg ist eine jährliche Wohltätigkeitsveranstaltung der Pfadfindergruppen Klosterneuburg Weidling und Kierling Gugging\, bei der unzählige Gummienten den Weidlingbach hinunter schwimmen. Die Einnahmen aus dieser Veranstaltung kommen ausschließlich unserer Jugendarbeit zugute \nAm Sonntag\, den 27. April 2025\, ist es endlich wieder soweit.\nEs ist Zeit für das 24. Klosterneuburger ENTENRENNEN!\n\nFreier Eintritt\nEntenverkauf: ab 12.30 Uhr\nStart: 14 Uhr\nSiegerehrung: ca. 16.30 – 17 Uhr\nEssen und Trinken im Start- und Zielbereich\nMusikalische Begleitung / DJ Eisbär\nSpielestationen\n\n  \n\nStartbereich: Weidlingbachgasse 7\, 3400 Weidling\nZielbereich: Feldergasse Ecke Metzgergasse\n\nInfos:\n\nONLINE
URL:https://www.stadtmarketing-klosterneuburg.at/veranstaltung/klosterneuburger-entenrennen-3/
LOCATION:Klosterneuburger Entenrennen\, Weidlingbachgasse 7\, Klosterneuburg\, Niederösterreich\, 3400\, Austria
CATEGORIES:Kinder,Sonstige,Sport & Gesundheit,Sportevents & Festivals,Wettbewerbe
ATTACH;FMTTYPE=image/jpeg:https://www.stadtmarketing-klosterneuburg.at/wp-content/uploads/2025/03/Entenrennen2025-c-Pfadis-Weidling.jpg
END:VEVENT
BEGIN:VEVENT
DTSTART;TZID=Europe/Vienna:20240421T123000
DTEND;TZID=Europe/Vienna:20240421T180000
DTSTAMP:20260422T004259
CREATED:20240405T093042Z
LAST-MODIFIED:20240405T100445Z
UID:10035862-1713702600-1713722400@www.stadtmarketing-klosterneuburg.at
SUMMARY:Klosterneuburger Entenrennen
DESCRIPTION:Am Sonntag\, den 21. April 2024\, ist es endlich wieder soweit.\nEs ist Zeit für das 23. Klosterneuburger ENTENRENNEN!\n\nFreier Eintritt\nEntenverkauf: ab 12.30 Uhr\nStart: 14 Uhr\nSiegerehrung: ca. 16.30 – 17 Uhr\nEssen und Trinken im Start- und Zielbereich\nMusikalische Begleitung / DJ Eisbär\nSpielestationen\n\n  \n\nStartbereich: Weidlingbachgasse 7\, 3400 Weidling\nZielbereich: Feldergasse Ecke Metzgergasse\n\nInfos:\n\nONLINE
URL:https://www.stadtmarketing-klosterneuburg.at/veranstaltung/klosterneuburger-entenrennen/
LOCATION:Klosterneuburger Entenrennen\, Weidlingbachgasse 7\, Klosterneuburg\, Niederösterreich\, 3400\, Austria
CATEGORIES:Kinder,Sonstige,Sport & Gesundheit,Sportevents & Festivals,Wettbewerbe
ATTACH;FMTTYPE=image/jpeg:https://www.stadtmarketing-klosterneuburg.at/wp-content/uploads/2024/04/Entenrennen2024-c-Pfadis-Weidling.jpg
END:VEVENT
BEGIN:VEVENT
DTSTART;TZID=Europe/Vienna:20230430T130000
DTEND;TZID=Europe/Vienna:20230430T180000
DTSTAMP:20260422T004259
CREATED:20230315T093121Z
LAST-MODIFIED:20240405T091831Z
UID:10025763-1682859600-1682877600@www.stadtmarketing-klosterneuburg.at
SUMMARY:Klosterneuburger Entenrennen
DESCRIPTION:Am Sonntag\, den 30. April 2023\, ist es endlich wieder soweit.\nEs ist Zeit für das 22. Klosterneuburger ENTENRENNEN!\n\nFreier Eintritt\nEntenverkauf: ab 13 Uhr\nStart: 14 Uhr\nSiegerehrung: ca. 16.30 – 17 Uhr\nEssen und Trinken im Start- und Zielbereich\nMusikalische Begleitung / DJ Eisbär\nSpielestationen\n\n  \n\nStartbereich: Weidlingbachgasse 7\, 3400 Weidling\nZielbereich: Feldergasse Ecke Metzgergasse\n\nFoto: (c) Entenrennen Klosterneuburg \nInfos:\n\nONLINE
URL:https://www.stadtmarketing-klosterneuburg.at/veranstaltung/klosterneuburger-entenrennen-2/
LOCATION:Klosterneuburger Entenrennen\, Weidlingbachgasse 7\, Klosterneuburg\, Niederösterreich\, 3400\, Austria
CATEGORIES:Kinder,Sonstige,Sport & Gesundheit,Sportevents & Festivals,Wettbewerbe
ATTACH;FMTTYPE=image/jpeg:https://www.stadtmarketing-klosterneuburg.at/wp-content/uploads/2023/03/Entenrennen2023-c-KiGu.jpg
END:VEVENT
END:VCALENDAR