BEGIN:VCALENDAR
VERSION:2.0
PRODID:-//Stadtmarketing Klosterneuburg - ECPv6.15.20//NONSGML v1.0//EN
CALSCALE:GREGORIAN
METHOD:PUBLISH
X-ORIGINAL-URL:https://www.stadtmarketing-klosterneuburg.at
X-WR-CALDESC:Veranstaltungen für Stadtmarketing Klosterneuburg
REFRESH-INTERVAL;VALUE=DURATION:PT1H
X-Robots-Tag:noindex
X-PUBLISHED-TTL:PT1H
BEGIN:VTIMEZONE
TZID:Europe/Vienna
BEGIN:DAYLIGHT
TZOFFSETFROM:+0100
TZOFFSETTO:+0200
TZNAME:CEST
DTSTART:20250330T010000
END:DAYLIGHT
BEGIN:STANDARD
TZOFFSETFROM:+0200
TZOFFSETTO:+0100
TZNAME:CET
DTSTART:20251026T010000
END:STANDARD
BEGIN:DAYLIGHT
TZOFFSETFROM:+0100
TZOFFSETTO:+0200
TZNAME:CEST
DTSTART:20260329T010000
END:DAYLIGHT
BEGIN:STANDARD
TZOFFSETFROM:+0200
TZOFFSETTO:+0100
TZNAME:CET
DTSTART:20261025T010000
END:STANDARD
BEGIN:DAYLIGHT
TZOFFSETFROM:+0100
TZOFFSETTO:+0200
TZNAME:CEST
DTSTART:20270328T010000
END:DAYLIGHT
BEGIN:STANDARD
TZOFFSETFROM:+0200
TZOFFSETTO:+0100
TZNAME:CET
DTSTART:20271031T010000
END:STANDARD
END:VTIMEZONE
BEGIN:VEVENT
DTSTART;TZID=Europe/Vienna:20260426T123000
DTEND;TZID=Europe/Vienna:20260426T180000
DTSTAMP:20260421T224946
CREATED:20260421T152432Z
LAST-MODIFIED:20260421T154747Z
UID:10046171-1777206600-1777226400@www.stadtmarketing-klosterneuburg.at
SUMMARY:Klosterneuburger Entenrennen
DESCRIPTION:Das Entenrennen Klosterneuburg ist eine jährliche Wohltätigkeitsveranstaltung der Pfadfindergruppen Klosterneuburg Weidling und Kierling-Gugging\, bei der unzählige Gummienten den Weidlingbach hinunter schwimmen. Die Einnahmen aus dieser Veranstaltung kommen ausschließlich der Jugendarbeit der Pfadfinder zugute \nAm Sonntag\, den 26. April 2026\, ist es endlich wieder soweit.\nEs ist Zeit für das 25. Klosterneuburger ENTENRENNEN!\n\nFreier Eintritt\nEntenverkauf ab 12.30 Uhr\nStart: 14 Uhr\nSiegerehrung: ca. 16.30 – 17 Uhr\nEssen und Trinken im Start- und Zielbereich\nMusikalische Begleitung / DJ Eisbär\nSpielestationen\n\n  \n\nStartbereich: Weidlingbachgasse 7\, 3400 Weidling\nZielbereich: Feldergasse Ecke Metzgergasse\n\nInfos:\n\nONLINE
URL:https://www.stadtmarketing-klosterneuburg.at/veranstaltung/klosterneuburger-entenrennen-4/
LOCATION:Klosterneuburger Entenrennen\, Weidlingbachgasse 7\, Klosterneuburg\, Niederösterreich\, 3400\, Austria
CATEGORIES:Kinder,Sonstige,Sport & Gesundheit,Sportevents & Festivals,Wettbewerbe
ATTACH;FMTTYPE=image/jpeg:https://www.stadtmarketing-klosterneuburg.at/wp-content/uploads/2026/04/Entenrennen2026-c-Pfadis-Weidling.jpg
END:VEVENT
END:VCALENDAR