BEGIN:VCALENDAR
VERSION:2.0
PRODID:-//Stadtmarketing Klosterneuburg - ECPv6.15.17.1//NONSGML v1.0//EN
CALSCALE:GREGORIAN
METHOD:PUBLISH
X-ORIGINAL-URL:https://www.stadtmarketing-klosterneuburg.at
X-WR-CALDESC:Veranstaltungen für Stadtmarketing Klosterneuburg
REFRESH-INTERVAL;VALUE=DURATION:PT1H
X-Robots-Tag:noindex
X-PUBLISHED-TTL:PT1H
BEGIN:VTIMEZONE
TZID:Europe/Vienna
BEGIN:DAYLIGHT
TZOFFSETFROM:+0100
TZOFFSETTO:+0200
TZNAME:CEST
DTSTART:20240331T010000
END:DAYLIGHT
BEGIN:STANDARD
TZOFFSETFROM:+0200
TZOFFSETTO:+0100
TZNAME:CET
DTSTART:20241027T010000
END:STANDARD
BEGIN:DAYLIGHT
TZOFFSETFROM:+0100
TZOFFSETTO:+0200
TZNAME:CEST
DTSTART:20250330T010000
END:DAYLIGHT
BEGIN:STANDARD
TZOFFSETFROM:+0200
TZOFFSETTO:+0100
TZNAME:CET
DTSTART:20251026T010000
END:STANDARD
BEGIN:DAYLIGHT
TZOFFSETFROM:+0100
TZOFFSETTO:+0200
TZNAME:CEST
DTSTART:20260329T010000
END:DAYLIGHT
BEGIN:STANDARD
TZOFFSETFROM:+0200
TZOFFSETTO:+0100
TZNAME:CET
DTSTART:20261025T010000
END:STANDARD
BEGIN:DAYLIGHT
TZOFFSETFROM:+0100
TZOFFSETTO:+0200
TZNAME:CEST
DTSTART:20270328T010000
END:DAYLIGHT
BEGIN:STANDARD
TZOFFSETFROM:+0200
TZOFFSETTO:+0100
TZNAME:CET
DTSTART:20271031T010000
END:STANDARD
END:VTIMEZONE
BEGIN:VEVENT
DTSTART;TZID=Europe/Vienna:20260218T153000
DTEND;TZID=Europe/Vienna:20260218T193000
DTSTAMP:20260420T043515
CREATED:20260216T162223Z
LAST-MODIFIED:20260217T105414Z
UID:10045037-1771428600-1771443000@www.stadtmarketing-klosterneuburg.at
SUMMARY:Live-Musik @La Marchande
DESCRIPTION:Am Mittwoch\, 18.2.2026 ab 15.3 Uhr bei La Marchande\nEin musikalischer Nachmittag mit Heringsschmaus\, oder Kaffee und Tartelette \n\nLuci Kucharko am Piano\nLily-Marie Köck mit Gesang\n\nBeginn: 15.30 Uhr\, Eintritt frei! \nGleich hier reservieren: ONLINE
URL:https://www.stadtmarketing-klosterneuburg.at/veranstaltung/live-musik-la-marchande/
LOCATION:La Marchande\, Stadtplatz 29\, Klosterneuburg\, Niederösterreich\, 3400\, Austria
CATEGORIES:Einkaufen & Wirtschaft,Kulinarik & Wein,Kulinarische Veranstaltung,Kunst & Kultur,Musik & Konzerte,Sonstige
ATTACH;FMTTYPE=image/jpeg:https://www.stadtmarketing-klosterneuburg.at/wp-content/uploads/2026/01/La-Marchande-c-La-Marchande.jpg
END:VEVENT
BEGIN:VEVENT
DTSTART;TZID=Europe/Vienna:20260114T160000
DTEND;TZID=Europe/Vienna:20260114T193000
DTSTAMP:20260420T043515
CREATED:20260112T092049Z
LAST-MODIFIED:20260112T100817Z
UID:10044079-1768406400-1768419000@www.stadtmarketing-klosterneuburg.at
SUMMARY:Trio Zu Viert & Friends
DESCRIPTION:Am Mittwoch\, 14.1. begrüßt La Marchande das neue Jahr mit einem musikalischen Highlight:\n\nTrio Zu Viert\nLily-Marie Köck (Vocals) · Florian Binder (Drums) · Max Mares (Kontrabass) · Luci Kucharko (Piano) \nBeginn: 16 Uhr\, Eintritt frei! \nGleich reservieren! \nAlle Infos ONLINE
URL:https://www.stadtmarketing-klosterneuburg.at/veranstaltung/trio-zu-viert-friends/
LOCATION:La Marchande\, Stadtplatz 29\, Klosterneuburg\, Niederösterreich\, 3400\, Austria
CATEGORIES:Einkaufen & Wirtschaft,Kulinarik & Wein,Kulinarische Veranstaltung,Kunst & Kultur,Musik & Konzerte,Sonstige
ATTACH;FMTTYPE=image/jpeg:https://www.stadtmarketing-klosterneuburg.at/wp-content/uploads/2026/01/La-Marchande-c-La-Marchande.jpg
END:VEVENT
BEGIN:VEVENT
DTSTART;TZID=Europe/Vienna:20251220T140000
DTEND;TZID=Europe/Vienna:20251220T160000
DTSTAMP:20260420T043515
CREATED:20251211T164442Z
LAST-MODIFIED:20251212T080144Z
UID:10043937-1766239200-1766246400@www.stadtmarketing-klosterneuburg.at
SUMMARY:Jazz am Stadtplatz @La Marchande
DESCRIPTION:Am Samstag\, 20.12. wird bei La Marchande\nJazz von den „Les Formidables“\, Austern & Crémant \nWas wäre der Advent ohne ein bisschen Glanz\, Klang und Genuss?\n„Les Formidables“: Urs Hager (Piano) · Tobias Meissl (Drums) · Gregor Aufmesser (Kontrabass) – Live-Musik die berührt\, begleitet von den feinen Aromen französischer Lebensfreude. \nBeginn: 16 Uhr\, Eintritt frei! \nGleich reservieren! \nAlle Infos ONLINE
URL:https://www.stadtmarketing-klosterneuburg.at/veranstaltung/jazz-am-stadtplatz-la-marchande/
LOCATION:La Marchande\, Stadtplatz 29\, Klosterneuburg\, Niederösterreich\, 3400\, Austria
CATEGORIES:Einkaufen & Wirtschaft,Kulinarik & Wein,Kulinarische Veranstaltung,Kunst & Kultur,Musik & Konzerte,Sonstige
ATTACH;FMTTYPE=image/jpeg:https://www.stadtmarketing-klosterneuburg.at/wp-content/uploads/2025/12/Les-Formidables-c-La-Marchande.jpg
END:VEVENT
BEGIN:VEVENT
DTSTART;TZID=Europe/Vienna:20251022T180000
DTEND;TZID=Europe/Vienna:20251022T213000
DTSTAMP:20260420T043515
CREATED:20251021T121556Z
LAST-MODIFIED:20251021T121739Z
UID:10043446-1761156000-1761168600@www.stadtmarketing-klosterneuburg.at
SUMMARY:Bonne Anniversaire @La Marchande
DESCRIPTION:Am Mittwoch\, 22.10. wird bei La Marchande der 1. Geburtstag gefeiert!\nmit Champagner\, lukullischen Freuden und Live-Musik von „Trio zu Viert“ mir Lily-Marie Köck & Friends \nBeginn: 18 Uhr\, Eintritt frei! \n  \nAlle Infos ONLINE
URL:https://www.stadtmarketing-klosterneuburg.at/veranstaltung/bonne-anniversaire-la-marchande/
LOCATION:La Marchande\, Stadtplatz 29\, Klosterneuburg\, Niederösterreich\, 3400\, Austria
CATEGORIES:Clubbings & Parties,Einkaufen & Wirtschaft,Kulinarik & Wein,Kulinarische Veranstaltung,Kunst & Kultur,Musik & Konzerte,Sonstige
ATTACH;FMTTYPE=image/jpeg:https://www.stadtmarketing-klosterneuburg.at/wp-content/uploads/2025/10/Geburtstagsfeier25-c-La-Marchande.jpg
END:VEVENT
BEGIN:VEVENT
DTSTART;TZID=Europe/Vienna:20250714T160000
DTEND;TZID=Europe/Vienna:20250714T210000
DTSTAMP:20260420T043515
CREATED:20250709T154050Z
LAST-MODIFIED:20250709T154334Z
UID:10042504-1752508800-1752526800@www.stadtmarketing-klosterneuburg.at
SUMMARY:14 Julliet @La Marchande
DESCRIPTION:Montag\, 14.7. wird bei La Marchande gefeiert! Liberté\,égalité\,fraternité\nDer französische Nationalfeiertag am Stadtplatz. Ein Nachmittag für Genießer – französisch\, festlich\, fein.\n\nCheese Tasting\nApéro\nLive-Musik mit Tobias Meissl\, Urs Hager und Gregor Aufmesser\n\nBeginn: 16 Uhr\, Eintritt frei (Wir freuen uns natürlich über eine Musikspende!)
URL:https://www.stadtmarketing-klosterneuburg.at/veranstaltung/14-julliet-la-marchande/
LOCATION:La Marchande\, Stadtplatz 29\, Klosterneuburg\, Niederösterreich\, 3400\, Austria
CATEGORIES:Clubbings & Parties,Einkaufen & Wirtschaft,Kulinarik & Wein,Kulinarische Veranstaltung,Kunst & Kultur,Musik & Konzerte,Sonstige
ATTACH;FMTTYPE=image/jpeg:https://www.stadtmarketing-klosterneuburg.at/wp-content/uploads/2025/07/Julliet-14-c-La-Marchande.jpg
END:VEVENT
END:VCALENDAR