BEGIN:VCALENDAR
VERSION:2.0
PRODID:-//Stadtmarketing Klosterneuburg - ECPv6.15.17.1//NONSGML v1.0//EN
CALSCALE:GREGORIAN
METHOD:PUBLISH
X-WR-CALNAME:Stadtmarketing Klosterneuburg
X-ORIGINAL-URL:https://www.stadtmarketing-klosterneuburg.at
X-WR-CALDESC:Veranstaltungen für Stadtmarketing Klosterneuburg
REFRESH-INTERVAL;VALUE=DURATION:PT1H
X-Robots-Tag:noindex
X-PUBLISHED-TTL:PT1H
BEGIN:VTIMEZONE
TZID:Europe/Vienna
BEGIN:DAYLIGHT
TZOFFSETFROM:+0100
TZOFFSETTO:+0200
TZNAME:CEST
DTSTART:20250330T010000
END:DAYLIGHT
BEGIN:STANDARD
TZOFFSETFROM:+0200
TZOFFSETTO:+0100
TZNAME:CET
DTSTART:20251026T010000
END:STANDARD
BEGIN:DAYLIGHT
TZOFFSETFROM:+0100
TZOFFSETTO:+0200
TZNAME:CEST
DTSTART:20260329T010000
END:DAYLIGHT
BEGIN:STANDARD
TZOFFSETFROM:+0200
TZOFFSETTO:+0100
TZNAME:CET
DTSTART:20261025T010000
END:STANDARD
BEGIN:DAYLIGHT
TZOFFSETFROM:+0100
TZOFFSETTO:+0200
TZNAME:CEST
DTSTART:20270328T010000
END:DAYLIGHT
BEGIN:STANDARD
TZOFFSETFROM:+0200
TZOFFSETTO:+0100
TZNAME:CET
DTSTART:20271031T010000
END:STANDARD
END:VTIMEZONE
BEGIN:VEVENT
DTSTART;TZID=Europe/Vienna:20260424T140000
DTEND;TZID=Europe/Vienna:20260424T220000
DTSTAMP:20260420T061918
CREATED:20260330T144108Z
LAST-MODIFIED:20260330T144541Z
UID:10045824-1777039200-1777068000@www.stadtmarketing-klosterneuburg.at
SUMMARY:Live-Musik @La Marchande
DESCRIPTION:im Rahmen des Klosterneuburger Frühlingerwachens! \nFreitag\, 24. April 2026 / 14 – 16 Uhr\nRosé & Savoir-vivre – Weinverkostung Château La Coste\nEntdecken Sie die Weinauswahl für 2026\, begleitet von französischem Käse und entspannten Sounds von DJ Apéro \n\n  \nLive ab 17 Uhr: Trio zu Viert – hier erwacht der Frühling garantiert!\nVier junge Ausnahmetalente aus Klosterneuburg und Bundessieger von „podium.jazz.pop.rock… 2025“. Ihr Sound verbindet Jazz\, Pop und Improvisation – frisch\, lebendig und voller Energie. \n\nLily-Marie Köck (Vocals)\nLuci Kucharko (Piano)\nMax Mares (Bass)\nFlorian Binder (Drums)\n\n  \n@frühlingserwachen
URL:https://www.stadtmarketing-klosterneuburg.at/veranstaltung/live-musik-la-marchande-3/
LOCATION:La Marchande\, Stadtplatz 29\, Klosterneuburg\, Niederösterreich\, 3400\, Austria
CATEGORIES:Einkaufen & Wirtschaft,Frühlingserwachen,Kulinarik & Wein,Kulinarische Veranstaltung,Kunst & Kultur,Musik & Konzerte,Sonstige
ATTACH;FMTTYPE=image/jpeg:https://www.stadtmarketing-klosterneuburg.at/wp-content/uploads/2026/01/La-Marchande-c-La-Marchande.jpg
END:VEVENT
BEGIN:VEVENT
DTSTART;TZID=Europe/Vienna:20260425T140000
DTEND;TZID=Europe/Vienna:20260425T220000
DTSTAMP:20260420T061918
CREATED:20260330T143401Z
LAST-MODIFIED:20260330T151337Z
UID:10045823-1777125600-1777154400@www.stadtmarketing-klosterneuburg.at
SUMMARY:Live-Musik @La Marchande
DESCRIPTION:im Rahmen des Klosterneuburger Frühlingerwachens! \nSamstag\, 25. April 2026 / 14 – 16 Uhr\nRosé & Savoir-vivre – Weinverkostung Château La Coste\nEntdecken Sie die Weinauswahl für 2026\, begleitet von französischem Käse und entspannten Sounds von DJ Apéro \n\nLive ab 17 Uhr: Mirema.gypsy – hier klingt der Frühling nach Süden!\nDas Ensemble bringt lateinamerikanische Jazz-Arrangements bekannter Melodien auf die Bühne – leidenschaftlich\, rhythmisch und voller Atmosphäre. \n\nFabian Mittermayer (Violine)\nJaromir Rektenwald (Gitarre)\nMax Mares (Gitarre/Bass)\n\n  \n  \n@frühlingserwachen
URL:https://www.stadtmarketing-klosterneuburg.at/veranstaltung/live-musik-la-marchande-2/
LOCATION:La Marchande\, Stadtplatz 29\, Klosterneuburg\, Niederösterreich\, 3400\, Austria
CATEGORIES:Einkaufen & Wirtschaft,Frühlingserwachen,Kulinarik & Wein,Kulinarische Veranstaltung,Kunst & Kultur,Musik & Konzerte,Sonstige
ATTACH;FMTTYPE=image/jpeg:https://www.stadtmarketing-klosterneuburg.at/wp-content/uploads/2026/01/La-Marchande-c-La-Marchande.jpg
END:VEVENT
END:VCALENDAR