BEGIN:VCALENDAR
VERSION:2.0
PRODID:-//Stadtmarketing Klosterneuburg - ECPv6.15.20//NONSGML v1.0//EN
CALSCALE:GREGORIAN
METHOD:PUBLISH
X-ORIGINAL-URL:https://www.stadtmarketing-klosterneuburg.at
X-WR-CALDESC:Veranstaltungen für Stadtmarketing Klosterneuburg
REFRESH-INTERVAL;VALUE=DURATION:PT1H
X-Robots-Tag:noindex
X-PUBLISHED-TTL:PT1H
BEGIN:VTIMEZONE
TZID:Europe/Vienna
BEGIN:DAYLIGHT
TZOFFSETFROM:+0100
TZOFFSETTO:+0200
TZNAME:CEST
DTSTART:20220327T010000
END:DAYLIGHT
BEGIN:STANDARD
TZOFFSETFROM:+0200
TZOFFSETTO:+0100
TZNAME:CET
DTSTART:20221030T010000
END:STANDARD
BEGIN:DAYLIGHT
TZOFFSETFROM:+0100
TZOFFSETTO:+0200
TZNAME:CEST
DTSTART:20230326T010000
END:DAYLIGHT
BEGIN:STANDARD
TZOFFSETFROM:+0200
TZOFFSETTO:+0100
TZNAME:CET
DTSTART:20231029T010000
END:STANDARD
BEGIN:DAYLIGHT
TZOFFSETFROM:+0100
TZOFFSETTO:+0200
TZNAME:CEST
DTSTART:20240331T010000
END:DAYLIGHT
BEGIN:STANDARD
TZOFFSETFROM:+0200
TZOFFSETTO:+0100
TZNAME:CET
DTSTART:20241027T010000
END:STANDARD
END:VTIMEZONE
BEGIN:VEVENT
DTSTART;TZID=Europe/Vienna:20230923T100000
DTEND;TZID=Europe/Vienna:20230923T130000
DTSTAMP:20260422T050432
CREATED:20230507T084723Z
LAST-MODIFIED:20230507T090954Z
UID:10026372-1695463200-1695474000@www.stadtmarketing-klosterneuburg.at
SUMMARY:Lions Flohmarkt - Sammeltage 2023
DESCRIPTION:Vor der großen Schatzsuche wird erst einmal gesammelt! \nSAMMELTAGE:\n\nSa\, 26.8. 10 – 13 Uhr\nSa\, 9.9. 10 – 13 Uhr\nSa\, 23.9. 10 – 13 Uhr\n\nDiese finden in bewährter Form wieder am Gelände der ehemaligen Magdeburgkaserne in Klosterneuburg statt. \nGesucht wird – und das soweit möglich bereits sortiert – gut erhaltene Ware für folgende Stände: \n\nKleider\, Jacken\, Mäntel\nKinderspiele und Spielzeug\nSchallplatten VINYL\nKrims Krams von A-Z – klein und fein\nBrillen\, Schmuck und Rares\nBücher (Raritäten)\nkleine Dekomöbel\nGeschirr – gerne auch Sets\nSchuhe\, Hüte\, Taschen\nTechnik (Radios\, Schallplattenspieler)\nFahrräder\, Skier\, Rollerskates\n\nAlso grundsätzlich alles\, was man gerne herschenkt und in einen Karton passt… \nBitte NUR funktionierende Geräte\, KEINE Röhrenfernseher\, KEINE sperrigen Möbel – Dinge\, die eher auf den Recyclinghof gehören bitte nicht bringen! \nFür wahre Schätze kommen die Lions auch zu Ihnen! Keine Möglichkeit etwas zu bringen – senden Sie eine Anfrage per E-Mail: flohmarkt@lions.charity
URL:https://www.stadtmarketing-klosterneuburg.at/veranstaltung/lions-flohmarkt-sammeltage-2023/2023-09-23/
LOCATION:Magdeburgkaserne\, Magdeburggasse 9\, Klosterneuburg\, Niederösterreich\, 3400
ATTACH;FMTTYPE=image/jpeg:https://www.stadtmarketing-klosterneuburg.at/wp-content/uploads/2023/05/Lions-Sammeltage-2023-c-Lions.jpg
END:VEVENT
BEGIN:VEVENT
DTSTART;TZID=Europe/Vienna:20230909T100000
DTEND;TZID=Europe/Vienna:20230909T130000
DTSTAMP:20260422T050432
CREATED:20230507T084723Z
LAST-MODIFIED:20230507T090954Z
UID:10026371-1694253600-1694264400@www.stadtmarketing-klosterneuburg.at
SUMMARY:Lions Flohmarkt - Sammeltage 2023
DESCRIPTION:Vor der großen Schatzsuche wird erst einmal gesammelt! \nSAMMELTAGE:\n\nSa\, 26.8. 10 – 13 Uhr\nSa\, 9.9. 10 – 13 Uhr\nSa\, 23.9. 10 – 13 Uhr\n\nDiese finden in bewährter Form wieder am Gelände der ehemaligen Magdeburgkaserne in Klosterneuburg statt. \nGesucht wird – und das soweit möglich bereits sortiert – gut erhaltene Ware für folgende Stände: \n\nKleider\, Jacken\, Mäntel\nKinderspiele und Spielzeug\nSchallplatten VINYL\nKrims Krams von A-Z – klein und fein\nBrillen\, Schmuck und Rares\nBücher (Raritäten)\nkleine Dekomöbel\nGeschirr – gerne auch Sets\nSchuhe\, Hüte\, Taschen\nTechnik (Radios\, Schallplattenspieler)\nFahrräder\, Skier\, Rollerskates\n\nAlso grundsätzlich alles\, was man gerne herschenkt und in einen Karton passt… \nBitte NUR funktionierende Geräte\, KEINE Röhrenfernseher\, KEINE sperrigen Möbel – Dinge\, die eher auf den Recyclinghof gehören bitte nicht bringen! \nFür wahre Schätze kommen die Lions auch zu Ihnen! Keine Möglichkeit etwas zu bringen – senden Sie eine Anfrage per E-Mail: flohmarkt@lions.charity
URL:https://www.stadtmarketing-klosterneuburg.at/veranstaltung/lions-flohmarkt-sammeltage-2023/2023-09-09/
LOCATION:Magdeburgkaserne\, Magdeburggasse 9\, Klosterneuburg\, Niederösterreich\, 3400
ATTACH;FMTTYPE=image/jpeg:https://www.stadtmarketing-klosterneuburg.at/wp-content/uploads/2023/05/Lions-Sammeltage-2023-c-Lions.jpg
END:VEVENT
BEGIN:VEVENT
DTSTART;TZID=Europe/Vienna:20230826T100000
DTEND;TZID=Europe/Vienna:20230826T130000
DTSTAMP:20260422T050432
CREATED:20230507T084723Z
LAST-MODIFIED:20230507T090954Z
UID:10026370-1693044000-1693054800@www.stadtmarketing-klosterneuburg.at
SUMMARY:Lions Flohmarkt - Sammeltage 2023
DESCRIPTION:Vor der großen Schatzsuche wird erst einmal gesammelt! \nSAMMELTAGE:\n\nSa\, 26.8. 10 – 13 Uhr\nSa\, 9.9. 10 – 13 Uhr\nSa\, 23.9. 10 – 13 Uhr\n\nDiese finden in bewährter Form wieder am Gelände der ehemaligen Magdeburgkaserne in Klosterneuburg statt. \nGesucht wird – und das soweit möglich bereits sortiert – gut erhaltene Ware für folgende Stände: \n\nKleider\, Jacken\, Mäntel\nKinderspiele und Spielzeug\nSchallplatten VINYL\nKrims Krams von A-Z – klein und fein\nBrillen\, Schmuck und Rares\nBücher (Raritäten)\nkleine Dekomöbel\nGeschirr – gerne auch Sets\nSchuhe\, Hüte\, Taschen\nTechnik (Radios\, Schallplattenspieler)\nFahrräder\, Skier\, Rollerskates\n\nAlso grundsätzlich alles\, was man gerne herschenkt und in einen Karton passt… \nBitte NUR funktionierende Geräte\, KEINE Röhrenfernseher\, KEINE sperrigen Möbel – Dinge\, die eher auf den Recyclinghof gehören bitte nicht bringen! \nFür wahre Schätze kommen die Lions auch zu Ihnen! Keine Möglichkeit etwas zu bringen – senden Sie eine Anfrage per E-Mail: flohmarkt@lions.charity
URL:https://www.stadtmarketing-klosterneuburg.at/veranstaltung/lions-flohmarkt-sammeltage-2023/2023-08-26/
LOCATION:Magdeburgkaserne\, Magdeburggasse 9\, Klosterneuburg\, Niederösterreich\, 3400
ATTACH;FMTTYPE=image/jpeg:https://www.stadtmarketing-klosterneuburg.at/wp-content/uploads/2023/05/Lions-Sammeltage-2023-c-Lions.jpg
END:VEVENT
END:VCALENDAR