BEGIN:VCALENDAR
VERSION:2.0
PRODID:-//Stadtmarketing Klosterneuburg - ECPv6.15.20//NONSGML v1.0//EN
CALSCALE:GREGORIAN
METHOD:PUBLISH
X-ORIGINAL-URL:https://www.stadtmarketing-klosterneuburg.at
X-WR-CALDESC:Veranstaltungen für Stadtmarketing Klosterneuburg
REFRESH-INTERVAL;VALUE=DURATION:PT1H
X-Robots-Tag:noindex
X-PUBLISHED-TTL:PT1H
BEGIN:VTIMEZONE
TZID:Europe/Vienna
BEGIN:DAYLIGHT
TZOFFSETFROM:+0100
TZOFFSETTO:+0200
TZNAME:CEST
DTSTART:20250330T010000
END:DAYLIGHT
BEGIN:STANDARD
TZOFFSETFROM:+0200
TZOFFSETTO:+0100
TZNAME:CET
DTSTART:20251026T010000
END:STANDARD
BEGIN:DAYLIGHT
TZOFFSETFROM:+0100
TZOFFSETTO:+0200
TZNAME:CEST
DTSTART:20260329T010000
END:DAYLIGHT
BEGIN:STANDARD
TZOFFSETFROM:+0200
TZOFFSETTO:+0100
TZNAME:CET
DTSTART:20261025T010000
END:STANDARD
BEGIN:DAYLIGHT
TZOFFSETFROM:+0100
TZOFFSETTO:+0200
TZNAME:CEST
DTSTART:20270328T010000
END:DAYLIGHT
BEGIN:STANDARD
TZOFFSETFROM:+0200
TZOFFSETTO:+0100
TZNAME:CET
DTSTART:20271031T010000
END:STANDARD
END:VTIMEZONE
BEGIN:VEVENT
DTSTART;TZID=Europe/Vienna:20260418T093000
DTEND;TZID=Europe/Vienna:20260418T123000
DTSTAMP:20260422T124810
CREATED:20260410T141632Z
LAST-MODIFIED:20260411T075201Z
UID:10045902-1776504600-1776515400@www.stadtmarketing-klosterneuburg.at
SUMMARY:Spielevormittag für Kinder
DESCRIPTION:Ab 11.4.2026 jeden Samstag Vormittag / Jeweils 9.30 – 12.30 Uhr\nMalblätter\, kreatives Basteln\, Puzzles\, Memory\, Domino\, Brettspiele\, Kartenspiele u.v.m \nKosten: € € 8 pro Kind und Stunde \nOrt: Martina Lang\, 3400 Klosterneuburg\, Leopold Weinmayerstraße 27/4/12 \nAchtung: Nur begrenzte Platzmöglichkeit! \nUm Anmeldung wird gebeten:\n\n\n\nMartina Lang\, 0664/ 27 86 018\n\n\n\n 
URL:https://www.stadtmarketing-klosterneuburg.at/veranstaltung/spielevormittag-fuer-kinder/2026-04-18/
LOCATION:Martina Lang\, Leopold Weinmayerstraße 27/4/12\, Klosterneuburg\, Niederösterreich\, 3400\, Austria
CATEGORIES:Kinder,Kurse, Seminare & Workshops
ATTACH;FMTTYPE=image/jpeg:https://www.stadtmarketing-klosterneuburg.at/wp-content/uploads/2026/04/Spielevormittag-c-Martina-Lang.jpg
END:VEVENT
BEGIN:VEVENT
DTSTART;TZID=Europe/Vienna:20260411T093000
DTEND;TZID=Europe/Vienna:20260411T123000
DTSTAMP:20260422T124811
CREATED:20260410T141632Z
LAST-MODIFIED:20260411T075201Z
UID:10045901-1775899800-1775910600@www.stadtmarketing-klosterneuburg.at
SUMMARY:Spielevormittag für Kinder
DESCRIPTION:Ab 11.4.2026 jeden Samstag Vormittag / Jeweils 9.30 – 12.30 Uhr\nMalblätter\, kreatives Basteln\, Puzzles\, Memory\, Domino\, Brettspiele\, Kartenspiele u.v.m \nKosten: € € 8 pro Kind und Stunde \nOrt: Martina Lang\, 3400 Klosterneuburg\, Leopold Weinmayerstraße 27/4/12 \nAchtung: Nur begrenzte Platzmöglichkeit! \nUm Anmeldung wird gebeten:\n\n\n\nMartina Lang\, 0664/ 27 86 018\n\n\n\n 
URL:https://www.stadtmarketing-klosterneuburg.at/veranstaltung/spielevormittag-fuer-kinder/2026-04-11/
LOCATION:Martina Lang\, Leopold Weinmayerstraße 27/4/12\, Klosterneuburg\, Niederösterreich\, 3400\, Austria
CATEGORIES:Kinder,Kurse, Seminare & Workshops
ATTACH;FMTTYPE=image/jpeg:https://www.stadtmarketing-klosterneuburg.at/wp-content/uploads/2026/04/Spielevormittag-c-Martina-Lang.jpg
END:VEVENT
END:VCALENDAR