BEGIN:VCALENDAR
VERSION:2.0
PRODID:-//Stadtmarketing Klosterneuburg - ECPv6.15.17.1//NONSGML v1.0//EN
CALSCALE:GREGORIAN
METHOD:PUBLISH
X-WR-CALNAME:Stadtmarketing Klosterneuburg
X-ORIGINAL-URL:https://www.stadtmarketing-klosterneuburg.at
X-WR-CALDESC:Veranstaltungen für Stadtmarketing Klosterneuburg
REFRESH-INTERVAL;VALUE=DURATION:PT1H
X-Robots-Tag:noindex
X-PUBLISHED-TTL:PT1H
BEGIN:VTIMEZONE
TZID:Europe/Vienna
BEGIN:DAYLIGHT
TZOFFSETFROM:+0100
TZOFFSETTO:+0200
TZNAME:CEST
DTSTART:20210328T010000
END:DAYLIGHT
BEGIN:STANDARD
TZOFFSETFROM:+0200
TZOFFSETTO:+0100
TZNAME:CET
DTSTART:20211031T010000
END:STANDARD
BEGIN:DAYLIGHT
TZOFFSETFROM:+0100
TZOFFSETTO:+0200
TZNAME:CEST
DTSTART:20220327T010000
END:DAYLIGHT
BEGIN:STANDARD
TZOFFSETFROM:+0200
TZOFFSETTO:+0100
TZNAME:CET
DTSTART:20221030T010000
END:STANDARD
BEGIN:DAYLIGHT
TZOFFSETFROM:+0100
TZOFFSETTO:+0200
TZNAME:CEST
DTSTART:20230326T010000
END:DAYLIGHT
BEGIN:STANDARD
TZOFFSETFROM:+0200
TZOFFSETTO:+0100
TZNAME:CET
DTSTART:20231029T010000
END:STANDARD
BEGIN:DAYLIGHT
TZOFFSETFROM:+0100
TZOFFSETTO:+0200
TZNAME:CEST
DTSTART:20240331T010000
END:DAYLIGHT
BEGIN:STANDARD
TZOFFSETFROM:+0200
TZOFFSETTO:+0100
TZNAME:CET
DTSTART:20241027T010000
END:STANDARD
BEGIN:DAYLIGHT
TZOFFSETFROM:+0100
TZOFFSETTO:+0200
TZNAME:CEST
DTSTART:20250330T010000
END:DAYLIGHT
BEGIN:STANDARD
TZOFFSETFROM:+0200
TZOFFSETTO:+0100
TZNAME:CET
DTSTART:20251026T010000
END:STANDARD
END:VTIMEZONE
BEGIN:VEVENT
DTSTART;TZID=Europe/Vienna:20241124T110000
DTEND;TZID=Europe/Vienna:20241124T160000
DTSTAMP:20260420T064840
CREATED:20241120T183032Z
LAST-MODIFIED:20241120T183740Z
UID:10038580-1732446000-1732464000@www.stadtmarketing-klosterneuburg.at
SUMMARY:Weihnachts-Flohmarkt
DESCRIPTION:Am Sonntag\, 24. November 2024 / 11 – 16 Uhr im Pfarrhof Höflein\nWeihnachts- & Adventdeko\, kleine Geschenke\, Baumschmuck\, Geschenkpapier\, Kerzen\, Kinderspielzeug\, … \nEs gibt auch Kaffee & Kuchen! \nAlle Einnahmen kommen der Orgelrenovierung zugute!
URL:https://www.stadtmarketing-klosterneuburg.at/veranstaltung/weihnachts-flohmarkt/
LOCATION:Pfarre Höflein a.d. Donau St. Margareta\, Schulgasse 9\, Höflein\, 3421\, Austria
CATEGORIES:Advent,Einkaufen & Wirtschaft,Familien,Flohmärkte
ATTACH;FMTTYPE=image/jpeg:https://www.stadtmarketing-klosterneuburg.at/wp-content/uploads/2024/11/Weihnachts-Flohmarkt-c-Pfarre-Hoeflein.jpg
END:VEVENT
BEGIN:VEVENT
DTSTART;TZID=Europe/Vienna:20240127T140000
DTEND;TZID=Europe/Vienna:20240127T170000
DTSTAMP:20260420T064840
CREATED:20240124T124827Z
LAST-MODIFIED:20240124T130244Z
UID:10034523-1706364000-1706374800@www.stadtmarketing-klosterneuburg.at
SUMMARY:Stimmtraining für ChorsägerInnen
DESCRIPTION:mit Gesangspädagogin und Dirigent\nEin neues Konzept:  effizientes Gesangs- und Musiktraining für Chorsänger/Innen und Solisten. Verbesserung der individuellen Gesangstechnik und der Klangqualität der Gruppe. \nVeranstaltung von Maria Bisso \nInformationen: ONLINE
URL:https://www.stadtmarketing-klosterneuburg.at/veranstaltung/stimmtraining-fuer-chorsaegerinnen/
LOCATION:Pfarre Höflein a.d. Donau St. Margareta\, Schulgasse 9\, Höflein\, 3421\, Austria
CATEGORIES:Kunst & Kultur,Kurse, Seminare & Workshops,Musik & Konzerte
ATTACH;FMTTYPE=image/jpeg:https://www.stadtmarketing-klosterneuburg.at/wp-content/uploads/2024/01/Chorgesang-c-Pixabay.jpg
END:VEVENT
BEGIN:VEVENT
DTSTART;TZID=Europe/Vienna:20231025T190000
DTEND;TZID=Europe/Vienna:20231025T200000
DTSTAMP:20260420T064840
CREATED:20230925T150947Z
LAST-MODIFIED:20230925T151021Z
UID:10027929-1698260400-1698264000@www.stadtmarketing-klosterneuburg.at
SUMMARY:Höfleiner Sommernachts Konzerte 2023
DESCRIPTION:Der Sommer wird in Höflein heuer etwas verlängert!\nBenefizkonzerte zugunsten der Orgelrenovierung mit anschließendem Buffet! \n\nSamstag\, 7.10.2023 / 19 Uhr / „Abendmusik“ mit dem Vokalensemble Zeiselmauer\nMittwoch\, 25.10.2023 / 19 Uhr / „Sur les Montagnes“ mit dem Niederländischen Kammerchor Doulce Memoire\n\nDauer: jeweils ca. 1 Stunde\, anschließende Buffet \nSitzplatzreservierung:\n+43/ (0)699/ 11 29 56 04 \n  \n  \n 
URL:https://www.stadtmarketing-klosterneuburg.at/veranstaltung/hoefleiner-sommernachts-konzerte-2023/2023-10-25/
LOCATION:Pfarre Höflein a.d. Donau St. Margareta\, Schulgasse 9\, Höflein\, 3421\, Austria
CATEGORIES:Kunst & Kultur,Musik & Konzerte
ATTACH;FMTTYPE=image/jpeg:https://www.stadtmarketing-klosterneuburg.at/wp-content/uploads/2020/03/musik.jpeg
END:VEVENT
BEGIN:VEVENT
DTSTART;VALUE=DATE:20231015
DTEND;VALUE=DATE:20231017
DTSTAMP:20260420T064840
CREATED:20230925T151510Z
LAST-MODIFIED:20230925T151756Z
UID:10027930-1697346000-1697432399@www.stadtmarketing-klosterneuburg.at
SUMMARY:Erntedankfest in Höflein
DESCRIPTION:Vor dem feierlichen Erntedank-Gottesdienst wird der neu gestaltete Kirchenpark gesegnet. \nAnschließend Erntedank-Schulgassl-Fest mit vielen Köstlichkeiten \nFrühschoppen mit der Höfleiner Musi
URL:https://www.stadtmarketing-klosterneuburg.at/veranstaltung/erntedankfest-in-hoeflein/
LOCATION:Pfarre Höflein a.d. Donau St. Margareta\, Schulgasse 9\, Höflein\, 3421\, Austria
CATEGORIES:Kulinarische Veranstaltung,Volksfeste & Brauchtum,Weinherbst
ATTACH;FMTTYPE=image/jpeg:https://www.stadtmarketing-klosterneuburg.at/wp-content/uploads/2023/09/Erntedank-c-Pixabay.jpg
END:VEVENT
BEGIN:VEVENT
DTSTART;TZID=Europe/Vienna:20231007T190000
DTEND;TZID=Europe/Vienna:20231007T200000
DTSTAMP:20260420T064840
CREATED:20230925T150947Z
LAST-MODIFIED:20230925T151021Z
UID:10027928-1696705200-1696708800@www.stadtmarketing-klosterneuburg.at
SUMMARY:Höfleiner Sommernachts Konzerte 2023
DESCRIPTION:Der Sommer wird in Höflein heuer etwas verlängert!\nBenefizkonzerte zugunsten der Orgelrenovierung mit anschließendem Buffet! \n\nSamstag\, 7.10.2023 / 19 Uhr / „Abendmusik“ mit dem Vokalensemble Zeiselmauer\nMittwoch\, 25.10.2023 / 19 Uhr / „Sur les Montagnes“ mit dem Niederländischen Kammerchor Doulce Memoire\n\nDauer: jeweils ca. 1 Stunde\, anschließende Buffet \nSitzplatzreservierung:\n+43/ (0)699/ 11 29 56 04 \n  \n  \n 
URL:https://www.stadtmarketing-klosterneuburg.at/veranstaltung/hoefleiner-sommernachts-konzerte-2023/2023-10-07/
LOCATION:Pfarre Höflein a.d. Donau St. Margareta\, Schulgasse 9\, Höflein\, 3421\, Austria
CATEGORIES:Kunst & Kultur,Musik & Konzerte
ATTACH;FMTTYPE=image/jpeg:https://www.stadtmarketing-klosterneuburg.at/wp-content/uploads/2020/03/musik.jpeg
END:VEVENT
BEGIN:VEVENT
DTSTART;TZID=Europe/Vienna:20230129T163000
DTEND;TZID=Europe/Vienna:20230129T173000
DTSTAMP:20260420T064840
CREATED:20221123T141708Z
LAST-MODIFIED:20221123T142100Z
UID:10023521-1675009800-1675013400@www.stadtmarketing-klosterneuburg.at
SUMMARY:Höfleiner Winternachts Konzerte 2022/2023
DESCRIPTION:3 Benefizkonzerte zur finanziellen Unterstützung der Renovierung der Höfleiner Orgel und des Orgelchores. \n4. Dezember 2022\, 17 Uhr: Sound Account „2nd Christmas“\n18. Dezember 2022\, 16 Uhr: KammerChorus „Freue dich\, s´Christkind kommt bald…“\n29. Jänner 2023\, 16.30 Uhr: Wiener Chor Cantus Iuvenis „Still\, still\, still“\n\nAnschließend gemütliches Beisammensein mit Buffet. \nSitzplatzreservierung: +43/ (0)699/11 29 56 04 \n 
URL:https://www.stadtmarketing-klosterneuburg.at/veranstaltung/hoefleiner-winternachts-konzerte-2022-2023/2023-01-29/
LOCATION:Pfarre Höflein a.d. Donau St. Margareta\, Schulgasse 9\, Höflein\, 3421\, Austria
CATEGORIES:Advent,Kunst & Kultur,Musik & Konzerte,Weihnachten
ATTACH;FMTTYPE=image/jpeg:https://www.stadtmarketing-klosterneuburg.at/wp-content/uploads/2022/11/Weihnachtsmusik-c-Pixabay.jpg
END:VEVENT
BEGIN:VEVENT
DTSTART;TZID=Europe/Vienna:20221218T160000
DTEND;TZID=Europe/Vienna:20221218T170000
DTSTAMP:20260420T064840
CREATED:20221123T141708Z
LAST-MODIFIED:20221123T142100Z
UID:10023520-1671379200-1671382800@www.stadtmarketing-klosterneuburg.at
SUMMARY:Höfleiner Winternachts Konzerte 2022/2023
DESCRIPTION:3 Benefizkonzerte zur finanziellen Unterstützung der Renovierung der Höfleiner Orgel und des Orgelchores. \n4. Dezember 2022\, 17 Uhr: Sound Account „2nd Christmas“\n18. Dezember 2022\, 16 Uhr: KammerChorus „Freue dich\, s´Christkind kommt bald…“\n29. Jänner 2023\, 16.30 Uhr: Wiener Chor Cantus Iuvenis „Still\, still\, still“\n\nAnschließend gemütliches Beisammensein mit Buffet. \nSitzplatzreservierung: +43/ (0)699/11 29 56 04 \n 
URL:https://www.stadtmarketing-klosterneuburg.at/veranstaltung/hoefleiner-winternachts-konzerte-2022-2023/2022-12-18/
LOCATION:Pfarre Höflein a.d. Donau St. Margareta\, Schulgasse 9\, Höflein\, 3421\, Austria
CATEGORIES:Advent,Kunst & Kultur,Musik & Konzerte,Weihnachten
ATTACH;FMTTYPE=image/jpeg:https://www.stadtmarketing-klosterneuburg.at/wp-content/uploads/2022/11/Weihnachtsmusik-c-Pixabay.jpg
END:VEVENT
BEGIN:VEVENT
DTSTART;TZID=Europe/Vienna:20221204T170000
DTEND;TZID=Europe/Vienna:20221204T180000
DTSTAMP:20260420T064840
CREATED:20221123T141708Z
LAST-MODIFIED:20221123T142100Z
UID:10023519-1670173200-1670176800@www.stadtmarketing-klosterneuburg.at
SUMMARY:Höfleiner Winternachts Konzerte 2022/2023
DESCRIPTION:3 Benefizkonzerte zur finanziellen Unterstützung der Renovierung der Höfleiner Orgel und des Orgelchores. \n4. Dezember 2022\, 17 Uhr: Sound Account „2nd Christmas“\n18. Dezember 2022\, 16 Uhr: KammerChorus „Freue dich\, s´Christkind kommt bald…“\n29. Jänner 2023\, 16.30 Uhr: Wiener Chor Cantus Iuvenis „Still\, still\, still“\n\nAnschließend gemütliches Beisammensein mit Buffet. \nSitzplatzreservierung: +43/ (0)699/11 29 56 04 \n 
URL:https://www.stadtmarketing-klosterneuburg.at/veranstaltung/hoefleiner-winternachts-konzerte-2022-2023/2022-12-04/
LOCATION:Pfarre Höflein a.d. Donau St. Margareta\, Schulgasse 9\, Höflein\, 3421\, Austria
CATEGORIES:Advent,Kunst & Kultur,Musik & Konzerte,Weihnachten
ATTACH;FMTTYPE=image/jpeg:https://www.stadtmarketing-klosterneuburg.at/wp-content/uploads/2022/11/Weihnachtsmusik-c-Pixabay.jpg
END:VEVENT
END:VCALENDAR