BEGIN:VCALENDAR
VERSION:2.0
PRODID:-//Stadtmarketing Klosterneuburg - ECPv6.15.17.1//NONSGML v1.0//EN
CALSCALE:GREGORIAN
METHOD:PUBLISH
X-ORIGINAL-URL:https://www.stadtmarketing-klosterneuburg.at
X-WR-CALDESC:Veranstaltungen für Stadtmarketing Klosterneuburg
REFRESH-INTERVAL;VALUE=DURATION:PT1H
X-Robots-Tag:noindex
X-PUBLISHED-TTL:PT1H
BEGIN:VTIMEZONE
TZID:Europe/Vienna
BEGIN:DAYLIGHT
TZOFFSETFROM:+0100
TZOFFSETTO:+0200
TZNAME:CEST
DTSTART:20210328T010000
END:DAYLIGHT
BEGIN:STANDARD
TZOFFSETFROM:+0200
TZOFFSETTO:+0100
TZNAME:CET
DTSTART:20211031T010000
END:STANDARD
BEGIN:DAYLIGHT
TZOFFSETFROM:+0100
TZOFFSETTO:+0200
TZNAME:CEST
DTSTART:20220327T010000
END:DAYLIGHT
BEGIN:STANDARD
TZOFFSETFROM:+0200
TZOFFSETTO:+0100
TZNAME:CET
DTSTART:20221030T010000
END:STANDARD
BEGIN:DAYLIGHT
TZOFFSETFROM:+0100
TZOFFSETTO:+0200
TZNAME:CEST
DTSTART:20230326T010000
END:DAYLIGHT
BEGIN:STANDARD
TZOFFSETFROM:+0200
TZOFFSETTO:+0100
TZNAME:CET
DTSTART:20231029T010000
END:STANDARD
BEGIN:DAYLIGHT
TZOFFSETFROM:+0100
TZOFFSETTO:+0200
TZNAME:CEST
DTSTART:20240331T010000
END:DAYLIGHT
BEGIN:STANDARD
TZOFFSETFROM:+0200
TZOFFSETTO:+0100
TZNAME:CET
DTSTART:20241027T010000
END:STANDARD
BEGIN:DAYLIGHT
TZOFFSETFROM:+0100
TZOFFSETTO:+0200
TZNAME:CEST
DTSTART:20250330T010000
END:DAYLIGHT
BEGIN:STANDARD
TZOFFSETFROM:+0200
TZOFFSETTO:+0100
TZNAME:CET
DTSTART:20251026T010000
END:STANDARD
BEGIN:DAYLIGHT
TZOFFSETFROM:+0100
TZOFFSETTO:+0200
TZNAME:CEST
DTSTART:20260329T010000
END:DAYLIGHT
BEGIN:STANDARD
TZOFFSETFROM:+0200
TZOFFSETTO:+0100
TZNAME:CET
DTSTART:20261025T010000
END:STANDARD
END:VTIMEZONE
BEGIN:VEVENT
DTSTART;TZID=Europe/Vienna:20251105T190000
DTEND;TZID=Europe/Vienna:20251105T210000
DTSTAMP:20260419T224227
CREATED:20250828T102727Z
LAST-MODIFIED:20250828T103554Z
UID:10042821-1762369200-1762376400@www.stadtmarketing-klosterneuburg.at
SUMMARY:Infoabend für neue Freiwillige 2025
DESCRIPTION:Das Rote Kreuz hat die passende Jacke für Sie!\nDieser Informationsabend stellt das Rote Kreuz Klosterneuburg und alle Leistungsbereiche vor. Das Team der Freiwilligenkoordinatoren stellt sich vor und man kann unverbindlich Informationen einholen. Wer sich schon entschieden hat\, kann an diesem Termin auch das Einstiegsgespräch absolvieren und die Beitrittserklärung unterschreiben. \nAnmeldungen via E-Mail:\nfreiwilligenkoordination.kl@n.roteskreuz.at \nEingang: in der Hundskehle!
URL:https://www.stadtmarketing-klosterneuburg.at/veranstaltung/infoabend-fuer-neue-freiwillige-2025-3/2025-11-05/
LOCATION:Rotes Kreuz Klosterneuburg\, Kreutzergasse 11\, Klosterneuburg\, Niederösterreich\, 3400\, Austria
CATEGORIES:Bildung,Vorträge & Diskussionen
ATTACH;FMTTYPE=image/jpeg:https://www.stadtmarketing-klosterneuburg.at/wp-content/uploads/2022/05/Rote-Jacke-c-Rotes-Kreuz.jpg
END:VEVENT
BEGIN:VEVENT
DTSTART;TZID=Europe/Vienna:20251001T190000
DTEND;TZID=Europe/Vienna:20251001T210000
DTSTAMP:20260419T224227
CREATED:20250828T102727Z
LAST-MODIFIED:20250828T103554Z
UID:10042820-1759345200-1759352400@www.stadtmarketing-klosterneuburg.at
SUMMARY:Infoabend für neue Freiwillige 2025
DESCRIPTION:Das Rote Kreuz hat die passende Jacke für Sie!\nDieser Informationsabend stellt das Rote Kreuz Klosterneuburg und alle Leistungsbereiche vor. Das Team der Freiwilligenkoordinatoren stellt sich vor und man kann unverbindlich Informationen einholen. Wer sich schon entschieden hat\, kann an diesem Termin auch das Einstiegsgespräch absolvieren und die Beitrittserklärung unterschreiben. \nAnmeldungen via E-Mail:\nfreiwilligenkoordination.kl@n.roteskreuz.at \nEingang: in der Hundskehle!
URL:https://www.stadtmarketing-klosterneuburg.at/veranstaltung/infoabend-fuer-neue-freiwillige-2025-3/2025-10-01/
LOCATION:Rotes Kreuz Klosterneuburg\, Kreutzergasse 11\, Klosterneuburg\, Niederösterreich\, 3400\, Austria
CATEGORIES:Bildung,Vorträge & Diskussionen
ATTACH;FMTTYPE=image/jpeg:https://www.stadtmarketing-klosterneuburg.at/wp-content/uploads/2022/05/Rote-Jacke-c-Rotes-Kreuz.jpg
END:VEVENT
BEGIN:VEVENT
DTSTART;TZID=Europe/Vienna:20250903T190000
DTEND;TZID=Europe/Vienna:20250903T210000
DTSTAMP:20260419T224227
CREATED:20250828T102727Z
LAST-MODIFIED:20250828T103554Z
UID:10042819-1756926000-1756933200@www.stadtmarketing-klosterneuburg.at
SUMMARY:Infoabend für neue Freiwillige 2025
DESCRIPTION:Das Rote Kreuz hat die passende Jacke für Sie!\nDieser Informationsabend stellt das Rote Kreuz Klosterneuburg und alle Leistungsbereiche vor. Das Team der Freiwilligenkoordinatoren stellt sich vor und man kann unverbindlich Informationen einholen. Wer sich schon entschieden hat\, kann an diesem Termin auch das Einstiegsgespräch absolvieren und die Beitrittserklärung unterschreiben. \nAnmeldungen via E-Mail:\nfreiwilligenkoordination.kl@n.roteskreuz.at \nEingang: in der Hundskehle!
URL:https://www.stadtmarketing-klosterneuburg.at/veranstaltung/infoabend-fuer-neue-freiwillige-2025-3/2025-09-03/
LOCATION:Rotes Kreuz Klosterneuburg\, Kreutzergasse 11\, Klosterneuburg\, Niederösterreich\, 3400\, Austria
CATEGORIES:Bildung,Vorträge & Diskussionen
ATTACH;FMTTYPE=image/jpeg:https://www.stadtmarketing-klosterneuburg.at/wp-content/uploads/2022/05/Rote-Jacke-c-Rotes-Kreuz.jpg
END:VEVENT
BEGIN:VEVENT
DTSTART;TZID=Europe/Vienna:20250516T160000
DTEND;TZID=Europe/Vienna:20250516T210000
DTSTAMP:20260419T224227
CREATED:20250510T104143Z
LAST-MODIFIED:20250510T104231Z
UID:10041986-1747411200-1747429200@www.stadtmarketing-klosterneuburg.at
SUMMARY:Lange Nacht der Jugend 2024
DESCRIPTION:Es ist wieder soweit! Am Freitag\, den 16. Mai 2025\, öffnet die Rot Kreuz Bezirksstelle Klosterneuburg 16 – 21 Uhr ihre Türen für alle Interessierten. Kinder\, Jugendliche und Eltern können das Rote Kreuz und seine vielfältigen Aufgabenbereiche näher kennenlernen! \nOb Groß oder Klein – bei uns ist für alle etwas dabei: \n\n Erste-Hilfe-Stationen (z.B. Wiederbelebung\, Verbände)\n Rettungsauto hautnah erleben\nRealistische Wunden schminken lassen\nGeschicklichkeitsparcours mit dem Tragsessel\nHüpfburg für die Kleinsten\nBesuch der Suchhundestaffel Tulln (18 –19 Uhr)\nFrisch Gekochtes aus der Feldküche Klosterneuburg\n…und noch vieles mehr!\n\nGleich beim Empfang einen Stempelpass holen und los geht’s durch die Welt des Roten Kreuzes Klosterneuburg! \nEs gibt Fragen zum Roten Kreuz Klosterneuburg? An unserem Infostand nehmen wir uns gerne Zeit – inklusive persönlicher Führung durch unsere Dienststelle.\nEin spannender Nachmittag für die ganze Familie! \n\nNutzen Sie die Gelegenheit\, um einen spannenden Einblick in die Tätigkeiten und die Vielfalt Ihrer Bezirksstelle zu gewinnen.
URL:https://www.stadtmarketing-klosterneuburg.at/veranstaltung/lange-nacht-der-jugend-2024/
LOCATION:Rotes Kreuz Klosterneuburg\, Kreutzergasse 11\, Klosterneuburg\, Niederösterreich\, 3400\, Austria
CATEGORIES:Bildung,Familien,Kinder,Sport & Gesundheit
ATTACH;FMTTYPE=image/jpeg:https://www.stadtmarketing-klosterneuburg.at/wp-content/uploads/2023/05/Lange-Nacht23-c-Rotes-Kreuz.jpg
END:VEVENT
BEGIN:VEVENT
DTSTART;TZID=Europe/Vienna:20240503T160000
DTEND;TZID=Europe/Vienna:20240503T210000
DTSTAMP:20260419T224227
CREATED:20240413T094146Z
LAST-MODIFIED:20240413T095233Z
UID:10035934-1714752000-1714770000@www.stadtmarketing-klosterneuburg.at
SUMMARY:Lange Nacht der Jugend 2024
DESCRIPTION:Die Lange Nacht der Jugend geht in die 4. Runde. Am Freitag\, den 3. Mai 2024 ist es endlich wieder so weit – die Rot Kreuz Bezirksstelle Klosterneuburg öffnet von 16 – 21 Uhr im Rahmen der Langen Nacht der Jugend ihre Türen und Tore für Kinder\, Jugendliche\, Eltern und alle Interessierten\, um das Rote Kreuz Klosterneuburg und seine Leistungsbereiche (Rettungsdienst\, Jugendrotkreuz\, Gesundheits- & Soziale Dienste etc.) näher kennenzulernen. \nAb 16 Uhr beim Empfangsstand einen Stempelpass holen und los geht´s zu den spannenden Stationen für Groß und Klein:\n\nBesichtigung des Rettungsautos\nWunden schminken\nVorführung unserer Dienststellenhündin\nRollstuhlparcours\ndiverse Erste Hilfe Stationen (Verbände\, …)\nHüpfburg\nund vieles mehr\n\nInfostand & Führung durch die Dienststelle \nFür kulinarische Untermalung ist gesorgt. \n\nNutzen Sie die Gelegenheit\, um einen spannenden Einblick in die Tätigkeiten und die Vielfalt Ihrer Bezirksstelle zu gewinnen.
URL:https://www.stadtmarketing-klosterneuburg.at/veranstaltung/lange-nacht-der-jugend-2023-2/
LOCATION:Rotes Kreuz Klosterneuburg\, Kreutzergasse 11\, Klosterneuburg\, Niederösterreich\, 3400\, Austria
CATEGORIES:Bildung,Sport & Gesundheit
ATTACH;FMTTYPE=image/jpeg:https://www.stadtmarketing-klosterneuburg.at/wp-content/uploads/2023/05/Lange-Nacht23-c-Rotes-Kreuz.jpg
END:VEVENT
BEGIN:VEVENT
DTSTART;TZID=Europe/Vienna:20231108T183000
DTEND;TZID=Europe/Vienna:20231108T193000
DTSTAMP:20260419T224227
CREATED:20230210T135800Z
LAST-MODIFIED:20230210T135800Z
UID:10025274-1699468200-1699471800@www.stadtmarketing-klosterneuburg.at
SUMMARY:Infoabend für neue Freiwillige 2023
DESCRIPTION:Das Rote Kreuz hat die passende Jacke für euch!\nDieser Informationsabend stellt das Rote Kreuz Klosterneuburg und alle Leistungsbereiche vor. Das Team der Freiwilligenkoordinatoren stellt sich vor und man kann unverbindlich Informationen einholen. Wer sich schon entschieden hat\, kann an diesem Termin auch das Einstiegsgespräch absolvieren und die Beitrittserklärung unterschreiben. \nAnmeldungen via E-Mail:\nfreiwilligenkoordination.kl@n.roteskreuz.at
URL:https://www.stadtmarketing-klosterneuburg.at/veranstaltung/infoabend-fuer-neue-freiwillige-2023/2023-11-08/
LOCATION:Rotes Kreuz Klosterneuburg\, Kreutzergasse 11\, Klosterneuburg\, Niederösterreich\, 3400\, Austria
CATEGORIES:Bildung,Sport & Gesundheit,Vorträge & Diskussionen
ATTACH;FMTTYPE=image/jpeg:https://www.stadtmarketing-klosterneuburg.at/wp-content/uploads/2022/05/Rote-Jacke-c-Rotes-Kreuz.jpg
END:VEVENT
BEGIN:VEVENT
DTSTART;TZID=Europe/Vienna:20231004T183000
DTEND;TZID=Europe/Vienna:20231004T193000
DTSTAMP:20260419T224227
CREATED:20230210T135800Z
LAST-MODIFIED:20230210T135800Z
UID:10025273-1696444200-1696447800@www.stadtmarketing-klosterneuburg.at
SUMMARY:Infoabend für neue Freiwillige 2023
DESCRIPTION:Das Rote Kreuz hat die passende Jacke für euch!\nDieser Informationsabend stellt das Rote Kreuz Klosterneuburg und alle Leistungsbereiche vor. Das Team der Freiwilligenkoordinatoren stellt sich vor und man kann unverbindlich Informationen einholen. Wer sich schon entschieden hat\, kann an diesem Termin auch das Einstiegsgespräch absolvieren und die Beitrittserklärung unterschreiben. \nAnmeldungen via E-Mail:\nfreiwilligenkoordination.kl@n.roteskreuz.at
URL:https://www.stadtmarketing-klosterneuburg.at/veranstaltung/infoabend-fuer-neue-freiwillige-2023/2023-10-04/
LOCATION:Rotes Kreuz Klosterneuburg\, Kreutzergasse 11\, Klosterneuburg\, Niederösterreich\, 3400\, Austria
CATEGORIES:Bildung,Sport & Gesundheit,Vorträge & Diskussionen
ATTACH;FMTTYPE=image/jpeg:https://www.stadtmarketing-klosterneuburg.at/wp-content/uploads/2022/05/Rote-Jacke-c-Rotes-Kreuz.jpg
END:VEVENT
BEGIN:VEVENT
DTSTART;TZID=Europe/Vienna:20230906T183000
DTEND;TZID=Europe/Vienna:20230906T193000
DTSTAMP:20260419T224227
CREATED:20230210T135800Z
LAST-MODIFIED:20230210T135800Z
UID:10025272-1694025000-1694028600@www.stadtmarketing-klosterneuburg.at
SUMMARY:Infoabend für neue Freiwillige 2023
DESCRIPTION:Das Rote Kreuz hat die passende Jacke für euch!\nDieser Informationsabend stellt das Rote Kreuz Klosterneuburg und alle Leistungsbereiche vor. Das Team der Freiwilligenkoordinatoren stellt sich vor und man kann unverbindlich Informationen einholen. Wer sich schon entschieden hat\, kann an diesem Termin auch das Einstiegsgespräch absolvieren und die Beitrittserklärung unterschreiben. \nAnmeldungen via E-Mail:\nfreiwilligenkoordination.kl@n.roteskreuz.at
URL:https://www.stadtmarketing-klosterneuburg.at/veranstaltung/infoabend-fuer-neue-freiwillige-2023/2023-09-06/
LOCATION:Rotes Kreuz Klosterneuburg\, Kreutzergasse 11\, Klosterneuburg\, Niederösterreich\, 3400\, Austria
CATEGORIES:Bildung,Sport & Gesundheit,Vorträge & Diskussionen
ATTACH;FMTTYPE=image/jpeg:https://www.stadtmarketing-klosterneuburg.at/wp-content/uploads/2022/05/Rote-Jacke-c-Rotes-Kreuz.jpg
END:VEVENT
BEGIN:VEVENT
DTSTART;TZID=Europe/Vienna:20230705T183000
DTEND;TZID=Europe/Vienna:20230705T193000
DTSTAMP:20260419T224227
CREATED:20230210T135800Z
LAST-MODIFIED:20230210T135800Z
UID:10025271-1688581800-1688585400@www.stadtmarketing-klosterneuburg.at
SUMMARY:Infoabend für neue Freiwillige 2023
DESCRIPTION:Das Rote Kreuz hat die passende Jacke für euch!\nDieser Informationsabend stellt das Rote Kreuz Klosterneuburg und alle Leistungsbereiche vor. Das Team der Freiwilligenkoordinatoren stellt sich vor und man kann unverbindlich Informationen einholen. Wer sich schon entschieden hat\, kann an diesem Termin auch das Einstiegsgespräch absolvieren und die Beitrittserklärung unterschreiben. \nAnmeldungen via E-Mail:\nfreiwilligenkoordination.kl@n.roteskreuz.at
URL:https://www.stadtmarketing-klosterneuburg.at/veranstaltung/infoabend-fuer-neue-freiwillige-2023/2023-07-05/
LOCATION:Rotes Kreuz Klosterneuburg\, Kreutzergasse 11\, Klosterneuburg\, Niederösterreich\, 3400\, Austria
CATEGORIES:Bildung,Sport & Gesundheit,Vorträge & Diskussionen
ATTACH;FMTTYPE=image/jpeg:https://www.stadtmarketing-klosterneuburg.at/wp-content/uploads/2022/05/Rote-Jacke-c-Rotes-Kreuz.jpg
END:VEVENT
BEGIN:VEVENT
DTSTART;TZID=Europe/Vienna:20230607T183000
DTEND;TZID=Europe/Vienna:20230607T193000
DTSTAMP:20260419T224227
CREATED:20230210T135800Z
LAST-MODIFIED:20230210T135800Z
UID:10025270-1686162600-1686166200@www.stadtmarketing-klosterneuburg.at
SUMMARY:Infoabend für neue Freiwillige 2023
DESCRIPTION:Das Rote Kreuz hat die passende Jacke für euch!\nDieser Informationsabend stellt das Rote Kreuz Klosterneuburg und alle Leistungsbereiche vor. Das Team der Freiwilligenkoordinatoren stellt sich vor und man kann unverbindlich Informationen einholen. Wer sich schon entschieden hat\, kann an diesem Termin auch das Einstiegsgespräch absolvieren und die Beitrittserklärung unterschreiben. \nAnmeldungen via E-Mail:\nfreiwilligenkoordination.kl@n.roteskreuz.at
URL:https://www.stadtmarketing-klosterneuburg.at/veranstaltung/infoabend-fuer-neue-freiwillige-2023/2023-06-07/
LOCATION:Rotes Kreuz Klosterneuburg\, Kreutzergasse 11\, Klosterneuburg\, Niederösterreich\, 3400\, Austria
CATEGORIES:Bildung,Sport & Gesundheit,Vorträge & Diskussionen
ATTACH;FMTTYPE=image/jpeg:https://www.stadtmarketing-klosterneuburg.at/wp-content/uploads/2022/05/Rote-Jacke-c-Rotes-Kreuz.jpg
END:VEVENT
BEGIN:VEVENT
DTSTART;TZID=Europe/Vienna:20230505T160000
DTEND;TZID=Europe/Vienna:20230505T210000
DTSTAMP:20260419T224227
CREATED:20230502T195439Z
LAST-MODIFIED:20240413T093824Z
UID:10026318-1683302400-1683320400@www.stadtmarketing-klosterneuburg.at
SUMMARY:Lange Nacht der Jugend 2023
DESCRIPTION:Die Lange Nacht der Jugend geht in die nächste Runde. Am Freitag\, den 5. Mai 2023 ist es endlich wieder so weit – die Rot Kreuz Bezirksstelle Klosterneuburg öffnet von 16 – 21 Uhr im Rahmen der Langen Nacht der Jugend ihre Türen und Tore für Kinder\, Jugendliche\, Eltern und alle Interessierten\, um das Rote Kreuz Klosterneuburg und seine Leistungsbereiche (Rettungsdienst\, Jugendrotkreuz\, Gesundheits- & Soziale Dienste etc.) näher kennenzulernen. \nAb 16 Uhr beim Empfangsstand einen Stempelpass holen und los geht´s zu den spannenden Stationen für Groß und Klein:\n\nBesichtigung des Rettungsautos\nWunden schminken\nVorführung unserer Dienststellenhündin\nRollstuhlparcours\ndiverse Erste Hilfe Stationen (Verbände\, …)\nHüpfburg\nund vieles mehr\n\nInfostand & Führung durch die Dienststelle \nFür kulinarische Untermalung ist gesorgt. \n\nNutzen Sie die Gelegenheit\, um einen spannenden Einblick in die Tätigkeiten und die Vielfalt Ihrer Bezirksstelle zu gewinnen.
URL:https://www.stadtmarketing-klosterneuburg.at/veranstaltung/lange-nacht-der-jugend-2023/
LOCATION:Rotes Kreuz Klosterneuburg\, Kreutzergasse 11\, Klosterneuburg\, Niederösterreich\, 3400\, Austria
CATEGORIES:Bildung,Sport & Gesundheit
ATTACH;FMTTYPE=image/jpeg:https://www.stadtmarketing-klosterneuburg.at/wp-content/uploads/2023/05/Lange-Nacht23-c-Rotes-Kreuz.jpg
END:VEVENT
BEGIN:VEVENT
DTSTART;TZID=Europe/Vienna:20230503T183000
DTEND;TZID=Europe/Vienna:20230503T193000
DTSTAMP:20260419T224227
CREATED:20230210T135800Z
LAST-MODIFIED:20230210T135800Z
UID:10025269-1683138600-1683142200@www.stadtmarketing-klosterneuburg.at
SUMMARY:Infoabend für neue Freiwillige 2023
DESCRIPTION:Das Rote Kreuz hat die passende Jacke für euch!\nDieser Informationsabend stellt das Rote Kreuz Klosterneuburg und alle Leistungsbereiche vor. Das Team der Freiwilligenkoordinatoren stellt sich vor und man kann unverbindlich Informationen einholen. Wer sich schon entschieden hat\, kann an diesem Termin auch das Einstiegsgespräch absolvieren und die Beitrittserklärung unterschreiben. \nAnmeldungen via E-Mail:\nfreiwilligenkoordination.kl@n.roteskreuz.at
URL:https://www.stadtmarketing-klosterneuburg.at/veranstaltung/infoabend-fuer-neue-freiwillige-2023/2023-05-03/
LOCATION:Rotes Kreuz Klosterneuburg\, Kreutzergasse 11\, Klosterneuburg\, Niederösterreich\, 3400\, Austria
CATEGORIES:Bildung,Sport & Gesundheit,Vorträge & Diskussionen
ATTACH;FMTTYPE=image/jpeg:https://www.stadtmarketing-klosterneuburg.at/wp-content/uploads/2022/05/Rote-Jacke-c-Rotes-Kreuz.jpg
END:VEVENT
BEGIN:VEVENT
DTSTART;TZID=Europe/Vienna:20230405T183000
DTEND;TZID=Europe/Vienna:20230405T193000
DTSTAMP:20260419T224227
CREATED:20230210T135800Z
LAST-MODIFIED:20230210T135800Z
UID:10025268-1680719400-1680723000@www.stadtmarketing-klosterneuburg.at
SUMMARY:Infoabend für neue Freiwillige 2023
DESCRIPTION:Das Rote Kreuz hat die passende Jacke für euch!\nDieser Informationsabend stellt das Rote Kreuz Klosterneuburg und alle Leistungsbereiche vor. Das Team der Freiwilligenkoordinatoren stellt sich vor und man kann unverbindlich Informationen einholen. Wer sich schon entschieden hat\, kann an diesem Termin auch das Einstiegsgespräch absolvieren und die Beitrittserklärung unterschreiben. \nAnmeldungen via E-Mail:\nfreiwilligenkoordination.kl@n.roteskreuz.at
URL:https://www.stadtmarketing-klosterneuburg.at/veranstaltung/infoabend-fuer-neue-freiwillige-2023/2023-04-05/
LOCATION:Rotes Kreuz Klosterneuburg\, Kreutzergasse 11\, Klosterneuburg\, Niederösterreich\, 3400\, Austria
CATEGORIES:Bildung,Sport & Gesundheit,Vorträge & Diskussionen
ATTACH;FMTTYPE=image/jpeg:https://www.stadtmarketing-klosterneuburg.at/wp-content/uploads/2022/05/Rote-Jacke-c-Rotes-Kreuz.jpg
END:VEVENT
BEGIN:VEVENT
DTSTART;TZID=Europe/Vienna:20230301T183000
DTEND;TZID=Europe/Vienna:20230301T193000
DTSTAMP:20260419T224227
CREATED:20230210T135800Z
LAST-MODIFIED:20230210T135800Z
UID:10025267-1677695400-1677699000@www.stadtmarketing-klosterneuburg.at
SUMMARY:Infoabend für neue Freiwillige 2023
DESCRIPTION:Das Rote Kreuz hat die passende Jacke für euch!\nDieser Informationsabend stellt das Rote Kreuz Klosterneuburg und alle Leistungsbereiche vor. Das Team der Freiwilligenkoordinatoren stellt sich vor und man kann unverbindlich Informationen einholen. Wer sich schon entschieden hat\, kann an diesem Termin auch das Einstiegsgespräch absolvieren und die Beitrittserklärung unterschreiben. \nAnmeldungen via E-Mail:\nfreiwilligenkoordination.kl@n.roteskreuz.at
URL:https://www.stadtmarketing-klosterneuburg.at/veranstaltung/infoabend-fuer-neue-freiwillige-2023/2023-03-01/
LOCATION:Rotes Kreuz Klosterneuburg\, Kreutzergasse 11\, Klosterneuburg\, Niederösterreich\, 3400\, Austria
CATEGORIES:Bildung,Sport & Gesundheit,Vorträge & Diskussionen
ATTACH;FMTTYPE=image/jpeg:https://www.stadtmarketing-klosterneuburg.at/wp-content/uploads/2022/05/Rote-Jacke-c-Rotes-Kreuz.jpg
END:VEVENT
BEGIN:VEVENT
DTSTART;TZID=Europe/Vienna:20230201T183000
DTEND;TZID=Europe/Vienna:20230201T193000
DTSTAMP:20260419T224227
CREATED:20230210T135800Z
LAST-MODIFIED:20230210T135800Z
UID:10025266-1675276200-1675279800@www.stadtmarketing-klosterneuburg.at
SUMMARY:Infoabend für neue Freiwillige 2023
DESCRIPTION:Das Rote Kreuz hat die passende Jacke für euch!\nDieser Informationsabend stellt das Rote Kreuz Klosterneuburg und alle Leistungsbereiche vor. Das Team der Freiwilligenkoordinatoren stellt sich vor und man kann unverbindlich Informationen einholen. Wer sich schon entschieden hat\, kann an diesem Termin auch das Einstiegsgespräch absolvieren und die Beitrittserklärung unterschreiben. \nAnmeldungen via E-Mail:\nfreiwilligenkoordination.kl@n.roteskreuz.at
URL:https://www.stadtmarketing-klosterneuburg.at/veranstaltung/infoabend-fuer-neue-freiwillige-2023/2023-02-01/
LOCATION:Rotes Kreuz Klosterneuburg\, Kreutzergasse 11\, Klosterneuburg\, Niederösterreich\, 3400\, Austria
CATEGORIES:Bildung,Sport & Gesundheit,Vorträge & Diskussionen
ATTACH;FMTTYPE=image/jpeg:https://www.stadtmarketing-klosterneuburg.at/wp-content/uploads/2022/05/Rote-Jacke-c-Rotes-Kreuz.jpg
END:VEVENT
BEGIN:VEVENT
DTSTART;TZID=Europe/Vienna:20230111T183000
DTEND;TZID=Europe/Vienna:20230111T193000
DTSTAMP:20260419T224227
CREATED:20230210T135800Z
LAST-MODIFIED:20230210T135800Z
UID:10025265-1673461800-1673465400@www.stadtmarketing-klosterneuburg.at
SUMMARY:Infoabend für neue Freiwillige 2023
DESCRIPTION:Das Rote Kreuz hat die passende Jacke für euch!\nDieser Informationsabend stellt das Rote Kreuz Klosterneuburg und alle Leistungsbereiche vor. Das Team der Freiwilligenkoordinatoren stellt sich vor und man kann unverbindlich Informationen einholen. Wer sich schon entschieden hat\, kann an diesem Termin auch das Einstiegsgespräch absolvieren und die Beitrittserklärung unterschreiben. \nAnmeldungen via E-Mail:\nfreiwilligenkoordination.kl@n.roteskreuz.at
URL:https://www.stadtmarketing-klosterneuburg.at/veranstaltung/infoabend-fuer-neue-freiwillige-2023/2023-01-11/
LOCATION:Rotes Kreuz Klosterneuburg\, Kreutzergasse 11\, Klosterneuburg\, Niederösterreich\, 3400\, Austria
CATEGORIES:Bildung,Sport & Gesundheit,Vorträge & Diskussionen
ATTACH;FMTTYPE=image/jpeg:https://www.stadtmarketing-klosterneuburg.at/wp-content/uploads/2022/05/Rote-Jacke-c-Rotes-Kreuz.jpg
END:VEVENT
BEGIN:VEVENT
DTSTART;TZID=Europe/Vienna:20221207T183000
DTEND;TZID=Europe/Vienna:20221207T200000
DTSTAMP:20260419T224227
CREATED:20220504T183036Z
LAST-MODIFIED:20220504T184834Z
UID:10021533-1670437800-1670443200@www.stadtmarketing-klosterneuburg.at
SUMMARY:Infoabend für neue Freiwillige
DESCRIPTION:Das Rote Kreuz hat die passende Jacke für euch! \nDieser Informationsabend stellt das Rote Kreuz Klosterneuburg und alle Leistungsbereiche vor. Das Team der Freiwilligenkoordinatoren stellt sich vor und man kann unverbindlich Informationen einholen. Wer sich schon entschieden hat\, kann an diesem Termin auch das Einstiegsgespräch absolvieren und die Beitrittserklärung unterschreiben. \nAnmeldungen via E-Mail:\nfreiwilligenkoordination.kl@n.roteskreuz.at
URL:https://www.stadtmarketing-klosterneuburg.at/veranstaltung/infoabend-fuer-neue-freiwillige/2022-12-07/
LOCATION:Rotes Kreuz Klosterneuburg\, Kreutzergasse 11\, Klosterneuburg\, Niederösterreich\, 3400\, Austria
CATEGORIES:Sport & Gesundheit
ATTACH;FMTTYPE=image/jpeg:https://www.stadtmarketing-klosterneuburg.at/wp-content/uploads/2022/05/Rote-Jacke-c-Rotes-Kreuz.jpg
END:VEVENT
BEGIN:VEVENT
DTSTART;TZID=Europe/Vienna:20221102T183000
DTEND;TZID=Europe/Vienna:20221102T200000
DTSTAMP:20260419T224227
CREATED:20220504T183036Z
LAST-MODIFIED:20220504T184834Z
UID:10021532-1667413800-1667419200@www.stadtmarketing-klosterneuburg.at
SUMMARY:Infoabend für neue Freiwillige
DESCRIPTION:Das Rote Kreuz hat die passende Jacke für euch! \nDieser Informationsabend stellt das Rote Kreuz Klosterneuburg und alle Leistungsbereiche vor. Das Team der Freiwilligenkoordinatoren stellt sich vor und man kann unverbindlich Informationen einholen. Wer sich schon entschieden hat\, kann an diesem Termin auch das Einstiegsgespräch absolvieren und die Beitrittserklärung unterschreiben. \nAnmeldungen via E-Mail:\nfreiwilligenkoordination.kl@n.roteskreuz.at
URL:https://www.stadtmarketing-klosterneuburg.at/veranstaltung/infoabend-fuer-neue-freiwillige/2022-11-02/
LOCATION:Rotes Kreuz Klosterneuburg\, Kreutzergasse 11\, Klosterneuburg\, Niederösterreich\, 3400\, Austria
CATEGORIES:Sport & Gesundheit
ATTACH;FMTTYPE=image/jpeg:https://www.stadtmarketing-klosterneuburg.at/wp-content/uploads/2022/05/Rote-Jacke-c-Rotes-Kreuz.jpg
END:VEVENT
END:VCALENDAR