BEGIN:VCALENDAR
VERSION:2.0
PRODID:-//Stadtmarketing Klosterneuburg - ECPv6.15.20//NONSGML v1.0//EN
CALSCALE:GREGORIAN
METHOD:PUBLISH
X-ORIGINAL-URL:https://www.stadtmarketing-klosterneuburg.at
X-WR-CALDESC:Veranstaltungen für Stadtmarketing Klosterneuburg
REFRESH-INTERVAL;VALUE=DURATION:PT1H
X-Robots-Tag:noindex
X-PUBLISHED-TTL:PT1H
BEGIN:VTIMEZONE
TZID:Europe/Vienna
BEGIN:DAYLIGHT
TZOFFSETFROM:+0100
TZOFFSETTO:+0200
TZNAME:CEST
DTSTART:20220327T010000
END:DAYLIGHT
BEGIN:STANDARD
TZOFFSETFROM:+0200
TZOFFSETTO:+0100
TZNAME:CET
DTSTART:20221030T010000
END:STANDARD
BEGIN:DAYLIGHT
TZOFFSETFROM:+0100
TZOFFSETTO:+0200
TZNAME:CEST
DTSTART:20230326T010000
END:DAYLIGHT
BEGIN:STANDARD
TZOFFSETFROM:+0200
TZOFFSETTO:+0100
TZNAME:CET
DTSTART:20231029T010000
END:STANDARD
BEGIN:DAYLIGHT
TZOFFSETFROM:+0100
TZOFFSETTO:+0200
TZNAME:CEST
DTSTART:20240331T010000
END:DAYLIGHT
BEGIN:STANDARD
TZOFFSETFROM:+0200
TZOFFSETTO:+0100
TZNAME:CET
DTSTART:20241027T010000
END:STANDARD
BEGIN:DAYLIGHT
TZOFFSETFROM:+0100
TZOFFSETTO:+0200
TZNAME:CEST
DTSTART:20250330T010000
END:DAYLIGHT
BEGIN:STANDARD
TZOFFSETFROM:+0200
TZOFFSETTO:+0100
TZNAME:CET
DTSTART:20251026T010000
END:STANDARD
BEGIN:DAYLIGHT
TZOFFSETFROM:+0100
TZOFFSETTO:+0200
TZNAME:CEST
DTSTART:20260329T010000
END:DAYLIGHT
BEGIN:STANDARD
TZOFFSETFROM:+0200
TZOFFSETTO:+0100
TZNAME:CET
DTSTART:20261025T010000
END:STANDARD
END:VTIMEZONE
BEGIN:VEVENT
DTSTART;TZID=Europe/Vienna:20251018T130000
DTEND;TZID=Europe/Vienna:20251018T200000
DTSTAMP:20260422T004523
CREATED:20250926T112905Z
LAST-MODIFIED:20250929T090746Z
UID:10043316-1760792400-1760817600@www.stadtmarketing-klosterneuburg.at
SUMMARY:Tag der offenen Kellertür bei Inführ Sekt
DESCRIPTION:Führungen durch die traditionsreiche Sektkellerei Inführ\n\nLaufend Führungen durch den Betrieb der Sektkellerei Inführ: historischer Fasskeller\, Produktionsanlage\, Tankhallen\, Lagerzisternen\, Graffiti-Tanks\nSektausschank quer durch das bunte Sekt- und Schaumweinprogramm der Sektkellerei Inführ – ein Glas gratis Begrüßungs-Sekt!\nAlkoholfreie Alternativen\nKellerbar im alten Fasskeller\nSchmankerln zum Essen vom Marienhof / Unterkirchbach (Der gesamte Erlös kommt dem gemeinnützigen Verein Auxilium Infantilis zu Gute!)\nGlücksrad mit vielen prickelnden Preisen – jeder Dreh gewinnt!\nAb Hof Einkaufsmöglichkeit zu Sonderpreisen\n\nKostenloser Eintritt! Keine Anmeldung erforderlich! Parkplätze direkt am Gelände vorhanden!
URL:https://www.stadtmarketing-klosterneuburg.at/veranstaltung/tag-der-offenen-kellertuer-bei-infuehr-sekt/
LOCATION:Sektkellerei Inführ\, Karl Inführ-Platz 1\, Klosterneuburg\, Niederösterreich\, 3400\, Austria
CATEGORIES:Kulinarik & Wein,Kulinarische Veranstaltung,Weinpräsentationen & Verkostungen
ATTACH;FMTTYPE=image/jpeg:https://www.stadtmarketing-klosterneuburg.at/wp-content/uploads/2023/10/Infuehr-Sekt-c-Infuehr-Sekt.jpg
END:VEVENT
BEGIN:VEVENT
DTSTART;TZID=Europe/Vienna:20250918T180000
DTEND;TZID=Europe/Vienna:20250918T210000
DTSTAMP:20260422T004523
CREATED:20250913T093610Z
LAST-MODIFIED:20250913T094224Z
UID:10042911-1758218400-1758229200@www.stadtmarketing-klosterneuburg.at
SUMMARY:Herbstfest der Soroptimistinnen
DESCRIPTION:Der Soroptimist Club Klosterneuburg lädt zum Herbstfest in die Sektkellerei Inführ ein:\n\nSektverkostung: 5 ausgewählte Sorten\nStand-Up-Comedy mit Lisa-Marie Bähr\nKellerführung\nFingerfood\n\nUnkostenbeitrag: € 30 \nUm Anmeldung wird gebeten:\nclub.klosterneuburg@soroptimist.at \nDer Erlös des Abends dient sozialen Projekten!
URL:https://www.stadtmarketing-klosterneuburg.at/veranstaltung/herbstfest-der-soroptimistinnen/
LOCATION:Sektkellerei Inführ\, Karl Inführ-Platz 1\, Klosterneuburg\, Niederösterreich\, 3400\, Austria
CATEGORIES:Kulinarik & Wein,Kulinarische Veranstaltung,Weinpräsentationen & Verkostungen
ATTACH;FMTTYPE=image/jpeg:https://www.stadtmarketing-klosterneuburg.at/wp-content/uploads/2025/09/Herbstfest-2025-c-Soroptimistinnen-Klosterneuburg.jpg
END:VEVENT
BEGIN:VEVENT
DTSTART;TZID=Europe/Vienna:20241019T140000
DTEND;TZID=Europe/Vienna:20241019T200000
DTSTAMP:20260422T004523
CREATED:20240219T143904Z
LAST-MODIFIED:20240924T120437Z
UID:10034844-1729346400-1729368000@www.stadtmarketing-klosterneuburg.at
SUMMARY:Tag der offenen Kellertür bei Inführ Sekt
DESCRIPTION:Führungen durch die traditionsreiche Sektkellerei Inführ\n\nLaufend Führungen durch den Betrieb der Sektkellerei Inführ: historischer Fasskeller\, Produktion\, Tankhallen\, Zisternen\, Graffiti-Tanks\n14 – 20 Uhr Zeitgenössische Kunstpräsentation von bekannten Kunstschaffenden\n17 Uhr Vernissage / Eröffnung\n18 Uhr Verlosung eines Kunstwerkes unter den anwesenden Gästen!\nSektausschank quer durch das bunte Sekt- und Schaumweinprogramm der Sektkellerei Inführ – ein Glas gratis Begrüßungs-Sekt!\nGlücksrad mit vielen prickelnden Preisen\nAb Hof Einkaufsmöglichkeit zu Sonderpreisen\n\nKostenloser Eintritt! Keine Anmeldung erforderlich! Parkplätze vorhanden!
URL:https://www.stadtmarketing-klosterneuburg.at/veranstaltung/tag-der-offenen-kellertuer-bei-infuehr-sekt-3/
LOCATION:Sektkellerei Inführ\, Karl Inführ-Platz 1\, Klosterneuburg\, Niederösterreich\, 3400\, Austria
CATEGORIES:Kulinarik & Wein,Kulinarische Veranstaltung,Weinpräsentationen & Verkostungen
ATTACH;FMTTYPE=image/jpeg:https://www.stadtmarketing-klosterneuburg.at/wp-content/uploads/2023/10/Infuehr-Sekt-c-Infuehr-Sekt.jpg
END:VEVENT
BEGIN:VEVENT
DTSTART;TZID=Europe/Vienna:20231021T140000
DTEND;TZID=Europe/Vienna:20231021T200000
DTSTAMP:20260422T004523
CREATED:20231005T154818Z
LAST-MODIFIED:20231005T154839Z
UID:10028885-1697896800-1697918400@www.stadtmarketing-klosterneuburg.at
SUMMARY:Tag der offenen Kellertür bei Inführ Sekt
DESCRIPTION:Führungen durch die traditionsreiche Sektkellerei Inführ\n\nBesichtigung der Graffiti-Tanks\nSekt-„Tankstelle“\nSchmankerlstation\nGlücksrad\nAb Hof Einkaufsmöglichkeit uvm.\n\nKostenloser Eintritt! Keine Anmeldung erforderlich! Parkplätze vorhanden!
URL:https://www.stadtmarketing-klosterneuburg.at/veranstaltung/tag-der-offenen-kellertuer-bei-infuehr-sekt-2/
LOCATION:Sektkellerei Inführ\, Karl Inführ-Platz 1\, Klosterneuburg\, Niederösterreich\, 3400\, Austria
CATEGORIES:Kulinarik & Wein,Kulinarische Veranstaltung,Weinpräsentationen & Verkostungen
ATTACH;FMTTYPE=image/jpeg:https://www.stadtmarketing-klosterneuburg.at/wp-content/uploads/2023/10/Infuehr-Sekt-c-Infuehr-Sekt.jpg
END:VEVENT
BEGIN:VEVENT
DTSTART;TZID=Europe/Vienna:20230615T180000
DTEND;TZID=Europe/Vienna:20230615T220000
DTSTAMP:20260422T004523
CREATED:20230520T101142Z
LAST-MODIFIED:20230520T101142Z
UID:10026682-1686852000-1686866400@www.stadtmarketing-klosterneuburg.at
SUMMARY:Sektverkostung & Kellerführung
DESCRIPTION:Der Soroptimist Club Klosterneuburg lädt zu einem prickelnden Sommerabend zum Netzwerken & Genießen! \nKostenbeitrag für Degustation (6 prämierte Sektsorten\, Buffet & Führung): € 35 \nUm Anmeldung bis 8.6. wird gebeten:\nklosterneuburg@soroptimist.at \n 
URL:https://www.stadtmarketing-klosterneuburg.at/veranstaltung/sektverkostung-kellerfuehrung/
LOCATION:Sektkellerei Inführ\, Karl Inführ-Platz 1\, Klosterneuburg\, Niederösterreich\, 3400\, Austria
CATEGORIES:Kulinarik & Wein,Kulinarische Veranstaltung,Weinpräsentationen & Verkostungen
ATTACH;FMTTYPE=image/jpeg:https://www.stadtmarketing-klosterneuburg.at/wp-content/uploads/2023/05/Sektverkostung-c-Soroptimist-Club-Klosterneuburg.jpg
END:VEVENT
END:VCALENDAR