BEGIN:VCALENDAR
VERSION:2.0
PRODID:-//Stadtmarketing Klosterneuburg - ECPv6.15.17.1//NONSGML v1.0//EN
CALSCALE:GREGORIAN
METHOD:PUBLISH
X-ORIGINAL-URL:https://www.stadtmarketing-klosterneuburg.at
X-WR-CALDESC:Veranstaltungen für Stadtmarketing Klosterneuburg
REFRESH-INTERVAL;VALUE=DURATION:PT1H
X-Robots-Tag:noindex
X-PUBLISHED-TTL:PT1H
BEGIN:VTIMEZONE
TZID:Europe/Vienna
BEGIN:DAYLIGHT
TZOFFSETFROM:+0100
TZOFFSETTO:+0200
TZNAME:CEST
DTSTART:20250330T010000
END:DAYLIGHT
BEGIN:STANDARD
TZOFFSETFROM:+0200
TZOFFSETTO:+0100
TZNAME:CET
DTSTART:20251026T010000
END:STANDARD
BEGIN:DAYLIGHT
TZOFFSETFROM:+0100
TZOFFSETTO:+0200
TZNAME:CEST
DTSTART:20260329T010000
END:DAYLIGHT
BEGIN:STANDARD
TZOFFSETFROM:+0200
TZOFFSETTO:+0100
TZNAME:CET
DTSTART:20261025T010000
END:STANDARD
BEGIN:DAYLIGHT
TZOFFSETFROM:+0100
TZOFFSETTO:+0200
TZNAME:CEST
DTSTART:20270328T010000
END:DAYLIGHT
BEGIN:STANDARD
TZOFFSETFROM:+0200
TZOFFSETTO:+0100
TZNAME:CET
DTSTART:20271031T010000
END:STANDARD
END:VTIMEZONE
BEGIN:VEVENT
DTSTART;TZID=Europe/Vienna:20260505T190000
DTEND;TZID=Europe/Vienna:20260505T220000
DTSTAMP:20260419T235545
CREATED:20260202T093819Z
LAST-MODIFIED:20260202T094731Z
UID:10044388-1778007600-1778018400@www.stadtmarketing-klosterneuburg.at
SUMMARY:Gemeinsam lesen - die Welt besser verstehen
DESCRIPTION:Im Lesekreis\, der im Herbst 2025 gestartet hat\, sind mittlerweile keine Plätze mehr frei! Nachdem das Interesse an gemeinsamem Lesen ungebrochen ist\, startet das SHIFT Klosterneuburg einen neuen Lesekreis: \nJeweils am ersten Dienstag im Monat\, beginnend ab März 2026. Weitere Termine sind: 7.4.\, 5.5. und 2.6.2026 \nBeim ersten Treffen können alle Teilnehmer:innen ein Buch mitbringen\, kurz vorstellen und für die gemeinsame Lektüre vorschlagen. Dann wird festgelegt\, was und in welchem Modus gelesen wird. Bitte unbedingt bald anmelden! \n  \nEintritt: frei! Spenden erbeten! \nOrt: SHIFT Klosterneuburg \nAnmeldung erforderlich: we@shiftklosterneuburg.at \nDas SHIFT öffnet 30 Minuten vor Vorstellungsbeginn! \n  \nInformationen zum SHIFT:\n\n\n\nwww.shiftklosterneuburg.at\n\n\n\n 
URL:https://www.stadtmarketing-klosterneuburg.at/veranstaltung/gemeinsam-lesen-die-welt-besser-verstehen/2026-05-05/
LOCATION:SHIFT Klosterneuburg\, Rathausplatz 8\, Klosterneuburg\, Niederösterreich\, 3400\, Austria
CATEGORIES:Kurse, Seminare & Workshops,Lesung,Literatur
ATTACH;FMTTYPE=image/jpeg:https://www.stadtmarketing-klosterneuburg.at/wp-content/uploads/2026/02/Lesekreis-c-SHIFT-Klosterneuburg.jpg
END:VEVENT
BEGIN:VEVENT
DTSTART;TZID=Europe/Vienna:20260602T190000
DTEND;TZID=Europe/Vienna:20260602T220000
DTSTAMP:20260419T235545
CREATED:20260202T093819Z
LAST-MODIFIED:20260202T094731Z
UID:10044389-1780426800-1780437600@www.stadtmarketing-klosterneuburg.at
SUMMARY:Gemeinsam lesen - die Welt besser verstehen
DESCRIPTION:Im Lesekreis\, der im Herbst 2025 gestartet hat\, sind mittlerweile keine Plätze mehr frei! Nachdem das Interesse an gemeinsamem Lesen ungebrochen ist\, startet das SHIFT Klosterneuburg einen neuen Lesekreis: \nJeweils am ersten Dienstag im Monat\, beginnend ab März 2026. Weitere Termine sind: 7.4.\, 5.5. und 2.6.2026 \nBeim ersten Treffen können alle Teilnehmer:innen ein Buch mitbringen\, kurz vorstellen und für die gemeinsame Lektüre vorschlagen. Dann wird festgelegt\, was und in welchem Modus gelesen wird. Bitte unbedingt bald anmelden! \n  \nEintritt: frei! Spenden erbeten! \nOrt: SHIFT Klosterneuburg \nAnmeldung erforderlich: we@shiftklosterneuburg.at \nDas SHIFT öffnet 30 Minuten vor Vorstellungsbeginn! \n  \nInformationen zum SHIFT:\n\n\n\nwww.shiftklosterneuburg.at\n\n\n\n 
URL:https://www.stadtmarketing-klosterneuburg.at/veranstaltung/gemeinsam-lesen-die-welt-besser-verstehen/2026-06-02/
LOCATION:SHIFT Klosterneuburg\, Rathausplatz 8\, Klosterneuburg\, Niederösterreich\, 3400\, Austria
CATEGORIES:Kurse, Seminare & Workshops,Lesung,Literatur
ATTACH;FMTTYPE=image/jpeg:https://www.stadtmarketing-klosterneuburg.at/wp-content/uploads/2026/02/Lesekreis-c-SHIFT-Klosterneuburg.jpg
END:VEVENT
END:VCALENDAR