BEGIN:VCALENDAR
VERSION:2.0
PRODID:-//Stadtmarketing Klosterneuburg - ECPv6.15.17.1//NONSGML v1.0//EN
CALSCALE:GREGORIAN
METHOD:PUBLISH
X-WR-CALNAME:Stadtmarketing Klosterneuburg
X-ORIGINAL-URL:https://www.stadtmarketing-klosterneuburg.at
X-WR-CALDESC:Veranstaltungen für Stadtmarketing Klosterneuburg
REFRESH-INTERVAL;VALUE=DURATION:PT1H
X-Robots-Tag:noindex
X-PUBLISHED-TTL:PT1H
BEGIN:VTIMEZONE
TZID:Europe/Vienna
BEGIN:DAYLIGHT
TZOFFSETFROM:+0100
TZOFFSETTO:+0200
TZNAME:CEST
DTSTART:20230326T010000
END:DAYLIGHT
BEGIN:STANDARD
TZOFFSETFROM:+0200
TZOFFSETTO:+0100
TZNAME:CET
DTSTART:20231029T010000
END:STANDARD
BEGIN:DAYLIGHT
TZOFFSETFROM:+0100
TZOFFSETTO:+0200
TZNAME:CEST
DTSTART:20240331T010000
END:DAYLIGHT
BEGIN:STANDARD
TZOFFSETFROM:+0200
TZOFFSETTO:+0100
TZNAME:CET
DTSTART:20241027T010000
END:STANDARD
BEGIN:DAYLIGHT
TZOFFSETFROM:+0100
TZOFFSETTO:+0200
TZNAME:CEST
DTSTART:20250330T010000
END:DAYLIGHT
BEGIN:STANDARD
TZOFFSETFROM:+0200
TZOFFSETTO:+0100
TZNAME:CET
DTSTART:20251026T010000
END:STANDARD
END:VTIMEZONE
BEGIN:VEVENT
DTSTART;TZID=Europe/Vienna:20240607T200000
DTEND;TZID=Europe/Vienna:20240607T210000
DTSTAMP:20260419T234704
CREATED:20240214T081512Z
LAST-MODIFIED:20240629T101101Z
UID:10034802-1717790400-1717794000@www.stadtmarketing-klosterneuburg.at
SUMMARY:Wasserball Heimspiel
DESCRIPTION:1. USCK vs. ASV Wien\nFreitag\, 7.6.2024 / Beginn: 20 Uhr \nUnterstützen Sie unsere Heim-Mannschaft durch zahlreiches Erscheinen und kräftigen Support! \nEintritt frei! 
URL:https://www.stadtmarketing-klosterneuburg.at/veranstaltung/wasserball-heimspiel-5/
LOCATION:Sport- und Freizeitzentrum Happyland\, In der Au 2\, Klosterneuburg\, 3400\, Austria
CATEGORIES:Sport & Gesundheit,Wettbewerbe
ATTACH;FMTTYPE=image/jpeg:https://www.stadtmarketing-klosterneuburg.at/wp-content/uploads/2024/02/1USCK-c-1USCK.jpg
END:VEVENT
BEGIN:VEVENT
DTSTART;TZID=Europe/Vienna:20240515T200000
DTEND;TZID=Europe/Vienna:20240515T213000
DTSTAMP:20260419T234704
CREATED:20240513T145020Z
LAST-MODIFIED:20240513T145226Z
UID:10036373-1715803200-1715808600@www.stadtmarketing-klosterneuburg.at
SUMMARY:BK IMMOUnited Dukes vs UBSC GRAZ
DESCRIPTION:Semifinale!! Heimspiel im Happyland!\nMittwoch\, 15. Mai\, Beginn: 20.15 Uhr\n\nTickets: ONLINE
URL:https://www.stadtmarketing-klosterneuburg.at/veranstaltung/bk-immounited-dukes-vs-ubsc-graz-2/
LOCATION:Sport- und Freizeitzentrum Happyland\, In der Au 2\, Klosterneuburg\, 3400\, Austria
CATEGORIES:Sport & Gesundheit,Wettbewerbe
ATTACH;FMTTYPE=image/jpeg:https://www.stadtmarketing-klosterneuburg.at/wp-content/uploads/2020/02/bk-dukes.jpg
ORGANIZER;CN="BK IMMOUnited Dukes":MAILTO:office@bk-klosterneuburg.at
END:VEVENT
BEGIN:VEVENT
DTSTART;TZID=Europe/Vienna:20240509T180000
DTEND;TZID=Europe/Vienna:20240509T193000
DTSTAMP:20260419T234704
CREATED:20240506T145030Z
LAST-MODIFIED:20240506T145035Z
UID:10036200-1715277600-1715283000@www.stadtmarketing-klosterneuburg.at
SUMMARY:BK IMMOUnited Dukes vs UBSC GRAZ
DESCRIPTION:Heimspiel im Happyland!\nDonnerstag\, 9. Mai\, Beginn: 18 Uhr\n\nTickets: ONLINE
URL:https://www.stadtmarketing-klosterneuburg.at/veranstaltung/bk-immounited-dukes-vs-ubsc-graz/
LOCATION:Sport- und Freizeitzentrum Happyland\, In der Au 2\, Klosterneuburg\, 3400\, Austria
CATEGORIES:Sport & Gesundheit,Wettbewerbe
ATTACH;FMTTYPE=image/jpeg:https://www.stadtmarketing-klosterneuburg.at/wp-content/uploads/2020/02/bk-dukes.jpg
ORGANIZER;CN="BK IMMOUnited Dukes":MAILTO:office@bk-klosterneuburg.at
END:VEVENT
BEGIN:VEVENT
DTSTART;TZID=Europe/Vienna:20240509T150000
DTEND;TZID=Europe/Vienna:20240509T163000
DTSTAMP:20260419T234704
CREATED:20240506T145404Z
LAST-MODIFIED:20240506T150527Z
UID:10034819-1715266800-1715272200@www.stadtmarketing-klosterneuburg.at
SUMMARY:Rollstuhlbasketball
DESCRIPTION:win2day RBB Bundesliga Finale Spiel 2\nColoplast Sitting Bulls  vs. 8TF FlinkStones 1\nDonnerstag\, 9.5.2024\, 15 Uhr im Happyland \nÖsterreichischer Behindertensportverband
URL:https://www.stadtmarketing-klosterneuburg.at/veranstaltung/rollstuhlbasketball-3/
LOCATION:Sport- und Freizeitzentrum Happyland\, In der Au 2\, Klosterneuburg\, 3400\, Austria
CATEGORIES:Sport & Gesundheit,Sportevents & Festivals,Wettbewerbe
ATTACH;FMTTYPE=image/jpeg:https://www.stadtmarketing-klosterneuburg.at/wp-content/uploads/2023/01/Sitting-Bulls-c-Sitting-Bulls.jpg
END:VEVENT
BEGIN:VEVENT
DTSTART;TZID=Europe/Vienna:20240503T200000
DTEND;TZID=Europe/Vienna:20240503T210000
DTSTAMP:20260419T234704
CREATED:20240427T074715Z
LAST-MODIFIED:20240427T074735Z
UID:10036022-1714766400-1714770000@www.stadtmarketing-klosterneuburg.at
SUMMARY:Wasserball Heimspiel
DESCRIPTION:1. USCK vs. LSK Linz\nFreitag\, 3.5.2024 / Beginn: 20 Uhr \nUnterstützen Sie unsere Heim-Mannschaft durch zahlreiches Erscheinen und kräftigen Support! \nEintritt frei! 
URL:https://www.stadtmarketing-klosterneuburg.at/veranstaltung/wasserball-heimspiel-6/
LOCATION:Sport- und Freizeitzentrum Happyland\, In der Au 2\, Klosterneuburg\, 3400\, Austria
CATEGORIES:Sport & Gesundheit,Wettbewerbe
ATTACH;FMTTYPE=image/jpeg:https://www.stadtmarketing-klosterneuburg.at/wp-content/uploads/2024/02/1USCK-c-1USCK.jpg
END:VEVENT
BEGIN:VEVENT
DTSTART;TZID=Europe/Vienna:20240426T200000
DTEND;TZID=Europe/Vienna:20240426T210000
DTSTAMP:20260419T234704
CREATED:20240214T081431Z
LAST-MODIFIED:20240427T074546Z
UID:10034801-1714161600-1714165200@www.stadtmarketing-klosterneuburg.at
SUMMARY:Wasserball Heimspiel
DESCRIPTION:1. USCK vs. LSK Linz\nFreitag\, 26.4.2024 / Beginn: 20 Uhr \nUnterstützen Sie unsere Heim-Mannschaft durch zahlreiches Erscheinen und kräftigen Support! \nEintritt frei!  \nVerschoben auf Freitag\, 3.5.2024 !!!\n 
URL:https://www.stadtmarketing-klosterneuburg.at/veranstaltung/wasserball-heimspiel-4/
LOCATION:Sport- und Freizeitzentrum Happyland\, In der Au 2\, Klosterneuburg\, 3400\, Austria
CATEGORIES:Sport & Gesundheit,Wettbewerbe
ATTACH;FMTTYPE=image/jpeg:https://www.stadtmarketing-klosterneuburg.at/wp-content/uploads/2024/02/1USCK-c-1USCK.jpg
END:VEVENT
BEGIN:VEVENT
DTSTART;TZID=Europe/Vienna:20240425T190000
DTEND;TZID=Europe/Vienna:20240425T203000
DTSTAMP:20260419T234704
CREATED:20240421T092327Z
LAST-MODIFIED:20240421T092806Z
UID:10035994-1714071600-1714077000@www.stadtmarketing-klosterneuburg.at
SUMMARY:BK IMMOUnited Dukes vs Kapfenberg Bulls
DESCRIPTION:Heimspiel im Happyland!\nDonnerstag\, 25. April\, Beginn: 19 Uhr\n\nTickets: ONLINE
URL:https://www.stadtmarketing-klosterneuburg.at/veranstaltung/bk-immounited-dukes-vs-kapfenberg-bulls-2/
LOCATION:Sport- und Freizeitzentrum Happyland\, In der Au 2\, Klosterneuburg\, 3400\, Austria
CATEGORIES:Sport & Gesundheit,Wettbewerbe
ATTACH;FMTTYPE=image/jpeg:https://www.stadtmarketing-klosterneuburg.at/wp-content/uploads/2020/02/bk-dukes.jpg
ORGANIZER;CN="BK IMMOUnited Dukes":MAILTO:office@bk-klosterneuburg.at
END:VEVENT
BEGIN:VEVENT
DTSTART;TZID=Europe/Vienna:20240420T173000
DTEND;TZID=Europe/Vienna:20240420T190000
DTSTAMP:20260419T234704
CREATED:20240416T084202Z
LAST-MODIFIED:20240421T092153Z
UID:10035959-1713634200-1713639600@www.stadtmarketing-klosterneuburg.at
SUMMARY:BK IMMOUnited Dukes vs Kapfenberg Bulls
DESCRIPTION:Heimspiel im Happyland!\nSamstag\, 20. April\, Beginn: 17.30 Uhr\n\nTickets: ONLINE
URL:https://www.stadtmarketing-klosterneuburg.at/veranstaltung/bk-immounited-dukes-vs-kapfenberg-bulls/
LOCATION:Sport- und Freizeitzentrum Happyland\, In der Au 2\, Klosterneuburg\, 3400\, Austria
CATEGORIES:Sport & Gesundheit,Wettbewerbe
ATTACH;FMTTYPE=image/jpeg:https://www.stadtmarketing-klosterneuburg.at/wp-content/uploads/2020/02/bk-dukes.jpg
ORGANIZER;CN="BK IMMOUnited Dukes":MAILTO:office@bk-klosterneuburg.at
END:VEVENT
BEGIN:VEVENT
DTSTART;TZID=Europe/Vienna:20240419T190000
DTEND;TZID=Europe/Vienna:20240419T200000
DTSTAMP:20260419T234704
CREATED:20240226T090127Z
LAST-MODIFIED:20240226T091250Z
UID:10034965-1713553200-1713556800@www.stadtmarketing-klosterneuburg.at
SUMMARY:Tanzkurs "Dance Your Fire"
DESCRIPTION:Für alle Frauen – auch ohne Vorkenntnisse! Einstieg jederzeit möglich! \nab Freitag\, 1.März 2024 / 8 mal / immer Freitag 19 – 20 Uhr \nPreise:\n\n8er Block: € 129\nEinzelstunde: € 20\nSchnupperstunde: € 18\n\nOrt: Happyland \nKontakt Frau Anjeza Cikopano\n\nanjezadance@gmail.com\n+43/ (0)650/ 63 77 287\nONLINE
URL:https://www.stadtmarketing-klosterneuburg.at/veranstaltung/tanzkurs-dance-your-fire/2024-04-19/
LOCATION:Sport- und Freizeitzentrum Happyland\, In der Au 2\, Klosterneuburg\, 3400\, Austria
CATEGORIES:Fitnesskurse & Workshops,Kurse, Seminare & Workshops,Sport & Gesundheit
ATTACH;FMTTYPE=image/jpeg:https://www.stadtmarketing-klosterneuburg.at/wp-content/uploads/2024/02/Tanzkurs-c-Anjeza-Cikopano.jpg
END:VEVENT
BEGIN:VEVENT
DTSTART;TZID=Europe/Vienna:20240413T180000
DTEND;TZID=Europe/Vienna:20240413T193000
DTSTAMP:20260419T234704
CREATED:20240410T105558Z
LAST-MODIFIED:20240416T084344Z
UID:10035894-1713031200-1713036600@www.stadtmarketing-klosterneuburg.at
SUMMARY:BK IMMOUnited Dukes vs Gmunden Swans
DESCRIPTION:Heimspiel im Happyland!\nSamstag\, 13. April\, Beginn: 18 Uhr\n\nTickets: ONLINE
URL:https://www.stadtmarketing-klosterneuburg.at/veranstaltung/bk-immounited-dukes-vs-gmunden-swans/
LOCATION:Sport- und Freizeitzentrum Happyland\, In der Au 2\, Klosterneuburg\, 3400\, Austria
CATEGORIES:Sport & Gesundheit,Wettbewerbe
ATTACH;FMTTYPE=image/jpeg:https://www.stadtmarketing-klosterneuburg.at/wp-content/uploads/2020/02/bk-dukes.jpg
ORGANIZER;CN="BK IMMOUnited Dukes":MAILTO:office@bk-klosterneuburg.at
END:VEVENT
BEGIN:VEVENT
DTSTART;TZID=Europe/Vienna:20240412T200000
DTEND;TZID=Europe/Vienna:20240412T210000
DTSTAMP:20260419T234704
CREATED:20240214T081342Z
LAST-MODIFIED:20240214T153110Z
UID:10034800-1712952000-1712955600@www.stadtmarketing-klosterneuburg.at
SUMMARY:Wasserball Heimspiel
DESCRIPTION:1. USCK vs. IWV Wien\nFreitag\, 12.4.2024 / Beginn: 20 Uhr \nUnterstützen Sie unsere Heim-Mannschaft durch zahlreiches Erscheinen und kräftigen Support! \nEintritt frei! 
URL:https://www.stadtmarketing-klosterneuburg.at/veranstaltung/wasserball-heimspiel-3/
LOCATION:Sport- und Freizeitzentrum Happyland\, In der Au 2\, Klosterneuburg\, 3400\, Austria
CATEGORIES:Sport & Gesundheit,Wettbewerbe
ATTACH;FMTTYPE=image/jpeg:https://www.stadtmarketing-klosterneuburg.at/wp-content/uploads/2024/02/1USCK-c-1USCK.jpg
END:VEVENT
BEGIN:VEVENT
DTSTART;TZID=Europe/Vienna:20240412T190000
DTEND;TZID=Europe/Vienna:20240412T200000
DTSTAMP:20260419T234704
CREATED:20240226T090127Z
LAST-MODIFIED:20240226T091250Z
UID:10034964-1712948400-1712952000@www.stadtmarketing-klosterneuburg.at
SUMMARY:Tanzkurs "Dance Your Fire"
DESCRIPTION:Für alle Frauen – auch ohne Vorkenntnisse! Einstieg jederzeit möglich! \nab Freitag\, 1.März 2024 / 8 mal / immer Freitag 19 – 20 Uhr \nPreise:\n\n8er Block: € 129\nEinzelstunde: € 20\nSchnupperstunde: € 18\n\nOrt: Happyland \nKontakt Frau Anjeza Cikopano\n\nanjezadance@gmail.com\n+43/ (0)650/ 63 77 287\nONLINE
URL:https://www.stadtmarketing-klosterneuburg.at/veranstaltung/tanzkurs-dance-your-fire/2024-04-12/
LOCATION:Sport- und Freizeitzentrum Happyland\, In der Au 2\, Klosterneuburg\, 3400\, Austria
CATEGORIES:Fitnesskurse & Workshops,Kurse, Seminare & Workshops,Sport & Gesundheit
ATTACH;FMTTYPE=image/jpeg:https://www.stadtmarketing-klosterneuburg.at/wp-content/uploads/2024/02/Tanzkurs-c-Anjeza-Cikopano.jpg
END:VEVENT
BEGIN:VEVENT
DTSTART;TZID=Europe/Vienna:20240405T200000
DTEND;TZID=Europe/Vienna:20240405T210000
DTSTAMP:20260419T234704
CREATED:20240214T081154Z
LAST-MODIFIED:20240214T153151Z
UID:10034798-1712347200-1712350800@www.stadtmarketing-klosterneuburg.at
SUMMARY:Wasserball Heimspiel
DESCRIPTION:LSK Linz vs. 1. USCK\nFreitag\, 5.4.2024 / Beginn: 20 Uhr \nUnterstützen Sie unsere Heim-Mannschaft durch zahlreiches Erscheinen und kräftigen Support! \nEintritt frei! 
URL:https://www.stadtmarketing-klosterneuburg.at/veranstaltung/wasserball-heimspiel-2/
LOCATION:Sport- und Freizeitzentrum Happyland\, In der Au 2\, Klosterneuburg\, 3400\, Austria
CATEGORIES:Sport & Gesundheit,Wettbewerbe
ATTACH;FMTTYPE=image/jpeg:https://www.stadtmarketing-klosterneuburg.at/wp-content/uploads/2024/02/1USCK-c-1USCK.jpg
END:VEVENT
BEGIN:VEVENT
DTSTART;TZID=Europe/Vienna:20240405T190000
DTEND;TZID=Europe/Vienna:20240405T200000
DTSTAMP:20260419T234704
CREATED:20240226T090127Z
LAST-MODIFIED:20240226T091250Z
UID:10034963-1712343600-1712347200@www.stadtmarketing-klosterneuburg.at
SUMMARY:Tanzkurs "Dance Your Fire"
DESCRIPTION:Für alle Frauen – auch ohne Vorkenntnisse! Einstieg jederzeit möglich! \nab Freitag\, 1.März 2024 / 8 mal / immer Freitag 19 – 20 Uhr \nPreise:\n\n8er Block: € 129\nEinzelstunde: € 20\nSchnupperstunde: € 18\n\nOrt: Happyland \nKontakt Frau Anjeza Cikopano\n\nanjezadance@gmail.com\n+43/ (0)650/ 63 77 287\nONLINE
URL:https://www.stadtmarketing-klosterneuburg.at/veranstaltung/tanzkurs-dance-your-fire/2024-04-05/
LOCATION:Sport- und Freizeitzentrum Happyland\, In der Au 2\, Klosterneuburg\, 3400\, Austria
CATEGORIES:Fitnesskurse & Workshops,Kurse, Seminare & Workshops,Sport & Gesundheit
ATTACH;FMTTYPE=image/jpeg:https://www.stadtmarketing-klosterneuburg.at/wp-content/uploads/2024/02/Tanzkurs-c-Anjeza-Cikopano.jpg
END:VEVENT
BEGIN:VEVENT
DTSTART;TZID=Europe/Vienna:20240401T153000
DTEND;TZID=Europe/Vienna:20240401T170000
DTSTAMP:20260419T234704
CREATED:20240325T110649Z
LAST-MODIFIED:20240325T110759Z
UID:10035697-1711985400-1711990800@www.stadtmarketing-klosterneuburg.at
SUMMARY:BK IMMOUnited Dukes vs UBSC Raiffeisen Graz
DESCRIPTION:Heimspiel im Happyland!\nOstermontag\, 1. April\, Beginn: 15.30 Uhr\n\nTickets: ONLINE
URL:https://www.stadtmarketing-klosterneuburg.at/veranstaltung/bk-immounited-dukes-vs-raiffeisen-flyers-wels/
LOCATION:Sport- und Freizeitzentrum Happyland\, In der Au 2\, Klosterneuburg\, 3400\, Austria
CATEGORIES:Sport & Gesundheit,Wettbewerbe
ATTACH;FMTTYPE=image/jpeg:https://www.stadtmarketing-klosterneuburg.at/wp-content/uploads/2020/02/bk-dukes.jpg
ORGANIZER;CN="BK IMMOUnited Dukes":MAILTO:office@bk-klosterneuburg.at
END:VEVENT
BEGIN:VEVENT
DTSTART;TZID=Europe/Vienna:20240329T190000
DTEND;TZID=Europe/Vienna:20240329T203000
DTSTAMP:20260419T234704
CREATED:20240321T124215Z
LAST-MODIFIED:20240325T115715Z
UID:10035379-1711738800-1711744200@www.stadtmarketing-klosterneuburg.at
SUMMARY:BK IMMOUnited Dukes vs Raiffeisen Flyers Wels
DESCRIPTION:Heimspiel im Happyland!\nFreitag\, 29. März\, Beginn: 19 Uhr\n\nTickets: ONLINE
URL:https://www.stadtmarketing-klosterneuburg.at/veranstaltung/bk-immounited-dukes-vs-skn-st-poelten/
LOCATION:Sport- und Freizeitzentrum Happyland\, In der Au 2\, Klosterneuburg\, 3400\, Austria
CATEGORIES:Sport & Gesundheit,Wettbewerbe
ATTACH;FMTTYPE=image/jpeg:https://www.stadtmarketing-klosterneuburg.at/wp-content/uploads/2020/02/bk-dukes.jpg
ORGANIZER;CN="BK IMMOUnited Dukes":MAILTO:office@bk-klosterneuburg.at
END:VEVENT
BEGIN:VEVENT
DTSTART;TZID=Europe/Vienna:20240329T190000
DTEND;TZID=Europe/Vienna:20240329T200000
DTSTAMP:20260419T234704
CREATED:20240226T090127Z
LAST-MODIFIED:20240226T091250Z
UID:10034962-1711738800-1711742400@www.stadtmarketing-klosterneuburg.at
SUMMARY:Tanzkurs "Dance Your Fire"
DESCRIPTION:Für alle Frauen – auch ohne Vorkenntnisse! Einstieg jederzeit möglich! \nab Freitag\, 1.März 2024 / 8 mal / immer Freitag 19 – 20 Uhr \nPreise:\n\n8er Block: € 129\nEinzelstunde: € 20\nSchnupperstunde: € 18\n\nOrt: Happyland \nKontakt Frau Anjeza Cikopano\n\nanjezadance@gmail.com\n+43/ (0)650/ 63 77 287\nONLINE
URL:https://www.stadtmarketing-klosterneuburg.at/veranstaltung/tanzkurs-dance-your-fire/2024-03-29/
LOCATION:Sport- und Freizeitzentrum Happyland\, In der Au 2\, Klosterneuburg\, 3400\, Austria
CATEGORIES:Fitnesskurse & Workshops,Kurse, Seminare & Workshops,Sport & Gesundheit
ATTACH;FMTTYPE=image/jpeg:https://www.stadtmarketing-klosterneuburg.at/wp-content/uploads/2024/02/Tanzkurs-c-Anjeza-Cikopano.jpg
END:VEVENT
BEGIN:VEVENT
DTSTART;TZID=Europe/Vienna:20240327T200000
DTEND;TZID=Europe/Vienna:20240327T220000
DTSTAMP:20260419T234704
CREATED:20240325T110356Z
LAST-MODIFIED:20240325T110420Z
UID:10035696-1711569600-1711576800@www.stadtmarketing-klosterneuburg.at
SUMMARY:BK Raiffeisen Duchess vs. UBI Holding Graz
DESCRIPTION:Heimspiel im Happyland\nMittwoch\, 27. März\, Beginn: 20.15 Uhr\n\nTickets: ONLINE
URL:https://www.stadtmarketing-klosterneuburg.at/veranstaltung/bk-raiffeisen-duchess-vs-ubi-holding-graz-3/
LOCATION:Sport- und Freizeitzentrum Happyland\, In der Au 2\, Klosterneuburg\, 3400\, Austria
CATEGORIES:Sport & Gesundheit,Wettbewerbe
ATTACH;FMTTYPE=image/jpeg:https://www.stadtmarketing-klosterneuburg.at/wp-content/uploads/2020/10/unnamed.jpg
END:VEVENT
BEGIN:VEVENT
DTSTART;TZID=Europe/Vienna:20240324T173000
DTEND;TZID=Europe/Vienna:20240324T190000
DTSTAMP:20260419T234704
CREATED:20240325T111017Z
LAST-MODIFIED:20240325T122332Z
UID:10035698-1711301400-1711306800@www.stadtmarketing-klosterneuburg.at
SUMMARY:BK IMMOUnited Dukes vs SKN St. Pölten
DESCRIPTION:Heimspiel im Happyland!\nSonntag\, 24. März\, Beginn: 17.30 Uhr\n\nTickets: ONLINE
URL:https://www.stadtmarketing-klosterneuburg.at/veranstaltung/bk-immounited-dukes-vs-skn-st-poelten-2/
LOCATION:Sport- und Freizeitzentrum Happyland\, In der Au 2\, Klosterneuburg\, 3400\, Austria
CATEGORIES:Sport & Gesundheit,Wettbewerbe
ATTACH;FMTTYPE=image/jpeg:https://www.stadtmarketing-klosterneuburg.at/wp-content/uploads/2020/02/bk-dukes.jpg
ORGANIZER;CN="BK IMMOUnited Dukes":MAILTO:office@bk-klosterneuburg.at
END:VEVENT
BEGIN:VEVENT
DTSTART;TZID=Europe/Vienna:20240322T190000
DTEND;TZID=Europe/Vienna:20240322T200000
DTSTAMP:20260419T234704
CREATED:20240226T090127Z
LAST-MODIFIED:20240226T091250Z
UID:10034961-1711134000-1711137600@www.stadtmarketing-klosterneuburg.at
SUMMARY:Tanzkurs "Dance Your Fire"
DESCRIPTION:Für alle Frauen – auch ohne Vorkenntnisse! Einstieg jederzeit möglich! \nab Freitag\, 1.März 2024 / 8 mal / immer Freitag 19 – 20 Uhr \nPreise:\n\n8er Block: € 129\nEinzelstunde: € 20\nSchnupperstunde: € 18\n\nOrt: Happyland \nKontakt Frau Anjeza Cikopano\n\nanjezadance@gmail.com\n+43/ (0)650/ 63 77 287\nONLINE
URL:https://www.stadtmarketing-klosterneuburg.at/veranstaltung/tanzkurs-dance-your-fire/2024-03-22/
LOCATION:Sport- und Freizeitzentrum Happyland\, In der Au 2\, Klosterneuburg\, 3400\, Austria
CATEGORIES:Fitnesskurse & Workshops,Kurse, Seminare & Workshops,Sport & Gesundheit
ATTACH;FMTTYPE=image/jpeg:https://www.stadtmarketing-klosterneuburg.at/wp-content/uploads/2024/02/Tanzkurs-c-Anjeza-Cikopano.jpg
END:VEVENT
BEGIN:VEVENT
DTSTART;TZID=Europe/Vienna:20240321T193000
DTEND;TZID=Europe/Vienna:20240321T210000
DTSTAMP:20260419T234704
CREATED:20240321T124503Z
LAST-MODIFIED:20240321T124659Z
UID:10035380-1711049400-1711054800@www.stadtmarketing-klosterneuburg.at
SUMMARY:BK Raiffeisen Duchess vs. UBI Holding Graz
DESCRIPTION:Heimspiel im Happyland\nDonnerstag\, 21. März\, Beginn: 19.30 Uhr\n\nTickets: ONLINE
URL:https://www.stadtmarketing-klosterneuburg.at/veranstaltung/bk-raiffeisen-duchess-vs-ubi-holding-graz-2/
LOCATION:Sport- und Freizeitzentrum Happyland\, In der Au 2\, Klosterneuburg\, 3400\, Austria
CATEGORIES:Sport & Gesundheit,Wettbewerbe
ATTACH;FMTTYPE=image/jpeg:https://www.stadtmarketing-klosterneuburg.at/wp-content/uploads/2020/10/unnamed.jpg
END:VEVENT
BEGIN:VEVENT
DTSTART;TZID=Europe/Vienna:20240315T190000
DTEND;TZID=Europe/Vienna:20240315T200000
DTSTAMP:20260419T234704
CREATED:20240226T090127Z
LAST-MODIFIED:20240226T091250Z
UID:10034960-1710529200-1710532800@www.stadtmarketing-klosterneuburg.at
SUMMARY:Tanzkurs "Dance Your Fire"
DESCRIPTION:Für alle Frauen – auch ohne Vorkenntnisse! Einstieg jederzeit möglich! \nab Freitag\, 1.März 2024 / 8 mal / immer Freitag 19 – 20 Uhr \nPreise:\n\n8er Block: € 129\nEinzelstunde: € 20\nSchnupperstunde: € 18\n\nOrt: Happyland \nKontakt Frau Anjeza Cikopano\n\nanjezadance@gmail.com\n+43/ (0)650/ 63 77 287\nONLINE
URL:https://www.stadtmarketing-klosterneuburg.at/veranstaltung/tanzkurs-dance-your-fire/2024-03-15/
LOCATION:Sport- und Freizeitzentrum Happyland\, In der Au 2\, Klosterneuburg\, 3400\, Austria
CATEGORIES:Fitnesskurse & Workshops,Kurse, Seminare & Workshops,Sport & Gesundheit
ATTACH;FMTTYPE=image/jpeg:https://www.stadtmarketing-klosterneuburg.at/wp-content/uploads/2024/02/Tanzkurs-c-Anjeza-Cikopano.jpg
END:VEVENT
BEGIN:VEVENT
DTSTART;TZID=Europe/Vienna:20240308T190000
DTEND;TZID=Europe/Vienna:20240308T203000
DTSTAMP:20260419T234704
CREATED:20240301T152942Z
LAST-MODIFIED:20240301T153039Z
UID:10035010-1709924400-1709929800@www.stadtmarketing-klosterneuburg.at
SUMMARY:BK IMMOUnited Dukes vs Traiskirchen Lions
DESCRIPTION:Heimspiel im Happyland!\nFreitag\, 8. März\, Beginn: 19 Uhr\n\nTickets: ONLINE
URL:https://www.stadtmarketing-klosterneuburg.at/veranstaltung/bk-immounited-dukes-vs-traiskirchen-lions/
LOCATION:Sport- und Freizeitzentrum Happyland\, In der Au 2\, Klosterneuburg\, 3400\, Austria
CATEGORIES:Sport & Gesundheit,Wettbewerbe
ATTACH;FMTTYPE=image/jpeg:https://www.stadtmarketing-klosterneuburg.at/wp-content/uploads/2020/02/bk-dukes.jpg
ORGANIZER;CN="BK IMMOUnited Dukes":MAILTO:office@bk-klosterneuburg.at
END:VEVENT
BEGIN:VEVENT
DTSTART;TZID=Europe/Vienna:20240308T190000
DTEND;TZID=Europe/Vienna:20240308T200000
DTSTAMP:20260419T234704
CREATED:20240226T090127Z
LAST-MODIFIED:20240226T091250Z
UID:10034959-1709924400-1709928000@www.stadtmarketing-klosterneuburg.at
SUMMARY:Tanzkurs "Dance Your Fire"
DESCRIPTION:Für alle Frauen – auch ohne Vorkenntnisse! Einstieg jederzeit möglich! \nab Freitag\, 1.März 2024 / 8 mal / immer Freitag 19 – 20 Uhr \nPreise:\n\n8er Block: € 129\nEinzelstunde: € 20\nSchnupperstunde: € 18\n\nOrt: Happyland \nKontakt Frau Anjeza Cikopano\n\nanjezadance@gmail.com\n+43/ (0)650/ 63 77 287\nONLINE
URL:https://www.stadtmarketing-klosterneuburg.at/veranstaltung/tanzkurs-dance-your-fire/2024-03-08/
LOCATION:Sport- und Freizeitzentrum Happyland\, In der Au 2\, Klosterneuburg\, 3400\, Austria
CATEGORIES:Fitnesskurse & Workshops,Kurse, Seminare & Workshops,Sport & Gesundheit
ATTACH;FMTTYPE=image/jpeg:https://www.stadtmarketing-klosterneuburg.at/wp-content/uploads/2024/02/Tanzkurs-c-Anjeza-Cikopano.jpg
END:VEVENT
BEGIN:VEVENT
DTSTART;TZID=Europe/Vienna:20240301T190000
DTEND;TZID=Europe/Vienna:20240301T200000
DTSTAMP:20260419T234704
CREATED:20240226T090127Z
LAST-MODIFIED:20240226T091250Z
UID:10034958-1709319600-1709323200@www.stadtmarketing-klosterneuburg.at
SUMMARY:Tanzkurs "Dance Your Fire"
DESCRIPTION:Für alle Frauen – auch ohne Vorkenntnisse! Einstieg jederzeit möglich! \nab Freitag\, 1.März 2024 / 8 mal / immer Freitag 19 – 20 Uhr \nPreise:\n\n8er Block: € 129\nEinzelstunde: € 20\nSchnupperstunde: € 18\n\nOrt: Happyland \nKontakt Frau Anjeza Cikopano\n\nanjezadance@gmail.com\n+43/ (0)650/ 63 77 287\nONLINE
URL:https://www.stadtmarketing-klosterneuburg.at/veranstaltung/tanzkurs-dance-your-fire/2024-03-01/
LOCATION:Sport- und Freizeitzentrum Happyland\, In der Au 2\, Klosterneuburg\, 3400\, Austria
CATEGORIES:Fitnesskurse & Workshops,Kurse, Seminare & Workshops,Sport & Gesundheit
ATTACH;FMTTYPE=image/jpeg:https://www.stadtmarketing-klosterneuburg.at/wp-content/uploads/2024/02/Tanzkurs-c-Anjeza-Cikopano.jpg
END:VEVENT
BEGIN:VEVENT
DTSTART;TZID=Europe/Vienna:20240217T173000
DTEND;TZID=Europe/Vienna:20240217T193000
DTSTAMP:20260419T234704
CREATED:20240201T100217Z
LAST-MODIFIED:20240213T102533Z
UID:10034621-1708191000-1708198200@www.stadtmarketing-klosterneuburg.at
SUMMARY:BK-Doppelpack Duchess / Dukes
DESCRIPTION:Doppelpack-Heimspiel am Samstag\, 17. Februar 2024 im Happyland \n\n14.30 Uhr BK Raiffeisen Duchess vs Basket Flames Women\n17.30 Uhr BK IMMOunited Dukes vs Arkadia Traiskirchen Lions\n\n\n\nTickets: ONLINE
URL:https://www.stadtmarketing-klosterneuburg.at/veranstaltung/bk-immounited-dukes-vs-arkadia-traiskirchen-lions/2024-02-17/2/
LOCATION:Sport- und Freizeitzentrum Happyland\, In der Au 2\, Klosterneuburg\, 3400\, Austria
CATEGORIES:Sport & Gesundheit,Wettbewerbe
ATTACH;FMTTYPE=image/jpeg:https://www.stadtmarketing-klosterneuburg.at/wp-content/uploads/2020/02/bk-dukes.jpg
ORGANIZER;CN="BK IMMOUnited Dukes":MAILTO:office@bk-klosterneuburg.at
END:VEVENT
BEGIN:VEVENT
DTSTART;TZID=Europe/Vienna:20240217T143000
DTEND;TZID=Europe/Vienna:20240217T163000
DTSTAMP:20260419T234704
CREATED:20240201T100217Z
LAST-MODIFIED:20240213T102533Z
UID:10034791-1708180200-1708187400@www.stadtmarketing-klosterneuburg.at
SUMMARY:BK-Doppelpack Duchess / Dukes
DESCRIPTION:Doppelpack-Heimspiel am Samstag\, 17. Februar 2024 im Happyland \n\n14.30 Uhr BK Raiffeisen Duchess vs Basket Flames Women\n17.30 Uhr BK IMMOunited Dukes vs Arkadia Traiskirchen Lions\n\n\n\nTickets: ONLINE
URL:https://www.stadtmarketing-klosterneuburg.at/veranstaltung/bk-immounited-dukes-vs-arkadia-traiskirchen-lions/2024-02-17/1/
LOCATION:Sport- und Freizeitzentrum Happyland\, In der Au 2\, Klosterneuburg\, 3400\, Austria
CATEGORIES:Sport & Gesundheit,Wettbewerbe
ATTACH;FMTTYPE=image/jpeg:https://www.stadtmarketing-klosterneuburg.at/wp-content/uploads/2020/02/bk-dukes.jpg
ORGANIZER;CN="BK IMMOUnited Dukes":MAILTO:office@bk-klosterneuburg.at
END:VEVENT
BEGIN:VEVENT
DTSTART;TZID=Europe/Vienna:20240216T200000
DTEND;TZID=Europe/Vienna:20240216T210000
DTSTAMP:20260419T234704
CREATED:20240213T164237Z
LAST-MODIFIED:20240214T153225Z
UID:10034796-1708113600-1708117200@www.stadtmarketing-klosterneuburg.at
SUMMARY:Wasserball Heimspiel
DESCRIPTION:1. USCK vs. BAC Baden\nFreitag\, 16.2.2024 / Beginn: 20 Uhr \nUnterstützen Sie unsere Heim-Mannschaft durch zahlreiches Erscheinen und kräftigen Support! \nEintritt frei! 
URL:https://www.stadtmarketing-klosterneuburg.at/veranstaltung/wasserball-heimspiel/
LOCATION:Sport- und Freizeitzentrum Happyland\, In der Au 2\, Klosterneuburg\, 3400\, Austria
CATEGORIES:Sport & Gesundheit,Wettbewerbe
ATTACH;FMTTYPE=image/jpeg:https://www.stadtmarketing-klosterneuburg.at/wp-content/uploads/2024/02/1USCK-c-1USCK.jpg
END:VEVENT
BEGIN:VEVENT
DTSTART;TZID=Europe/Vienna:20240211T160000
DTEND;TZID=Europe/Vienna:20240211T183000
DTSTAMP:20260419T234704
CREATED:20240201T095624Z
LAST-MODIFIED:20240201T095714Z
UID:10034620-1707667200-1707676200@www.stadtmarketing-klosterneuburg.at
SUMMARY:BK Raiffeisen DUCHESS vs. UBSC-DBBC GRAZ
DESCRIPTION:Heimspiel im Happyland\nSonntag\, 11. Februar\, Beginn: 16.15 Uhr\n  \nInformationen: ONLINE
URL:https://www.stadtmarketing-klosterneuburg.at/veranstaltung/bk-raiffeisen-duchess-vs-ubsc-dbbc-graz/
LOCATION:Sport- und Freizeitzentrum Happyland\, In der Au 2\, Klosterneuburg\, 3400\, Austria
CATEGORIES:Sport & Gesundheit,Wettbewerbe
ATTACH;FMTTYPE=image/jpeg:https://www.stadtmarketing-klosterneuburg.at/wp-content/uploads/2020/10/unnamed.jpg
END:VEVENT
BEGIN:VEVENT
DTSTART;TZID=Europe/Vienna:20240205T140000
DTEND;TZID=Europe/Vienna:20240205T160000
DTSTAMP:20260419T234704
CREATED:20240130T195755Z
LAST-MODIFIED:20240130T195825Z
UID:10034535-1707141600-1707148800@www.stadtmarketing-klosterneuburg.at
SUMMARY:Semesterferienspiel 2024
DESCRIPTION:ÖTK – „Indoor Klettern“ (ab 10 Jahren!)\nTreffpunkt: Kletterei im Happyland \nAnmeldung erforderlich (begrenzte Teilnehmerzahl!)\n\n+43/ (0)2243/ 444 222\njugendreferat@klosterneuburg.at
URL:https://www.stadtmarketing-klosterneuburg.at/veranstaltung/semesterferienspiel-2023-4/
LOCATION:Sport- und Freizeitzentrum Happyland\, In der Au 2\, Klosterneuburg\, 3400\, Austria
CATEGORIES:Kinder,Kurse, Seminare & Workshops,Sport & Gesundheit
ATTACH;FMTTYPE=image/jpeg:https://www.stadtmarketing-klosterneuburg.at/wp-content/uploads/2024/01/Semesterferien24-c-Pixabay.jpg
END:VEVENT
END:VCALENDAR