BEGIN:VCALENDAR
VERSION:2.0
PRODID:-//Stadtmarketing Klosterneuburg - ECPv6.15.17.1//NONSGML v1.0//EN
CALSCALE:GREGORIAN
METHOD:PUBLISH
X-WR-CALNAME:Stadtmarketing Klosterneuburg
X-ORIGINAL-URL:https://www.stadtmarketing-klosterneuburg.at
X-WR-CALDESC:Veranstaltungen für Stadtmarketing Klosterneuburg
REFRESH-INTERVAL;VALUE=DURATION:PT1H
X-Robots-Tag:noindex
X-PUBLISHED-TTL:PT1H
BEGIN:VTIMEZONE
TZID:Europe/Vienna
BEGIN:DAYLIGHT
TZOFFSETFROM:+0100
TZOFFSETTO:+0200
TZNAME:CEST
DTSTART:20230326T010000
END:DAYLIGHT
BEGIN:STANDARD
TZOFFSETFROM:+0200
TZOFFSETTO:+0100
TZNAME:CET
DTSTART:20231029T010000
END:STANDARD
BEGIN:DAYLIGHT
TZOFFSETFROM:+0100
TZOFFSETTO:+0200
TZNAME:CEST
DTSTART:20240331T010000
END:DAYLIGHT
BEGIN:STANDARD
TZOFFSETFROM:+0200
TZOFFSETTO:+0100
TZNAME:CET
DTSTART:20241027T010000
END:STANDARD
BEGIN:DAYLIGHT
TZOFFSETFROM:+0100
TZOFFSETTO:+0200
TZNAME:CEST
DTSTART:20250330T010000
END:DAYLIGHT
BEGIN:STANDARD
TZOFFSETFROM:+0200
TZOFFSETTO:+0100
TZNAME:CET
DTSTART:20251026T010000
END:STANDARD
BEGIN:DAYLIGHT
TZOFFSETFROM:+0100
TZOFFSETTO:+0200
TZNAME:CEST
DTSTART:20260329T010000
END:DAYLIGHT
BEGIN:STANDARD
TZOFFSETFROM:+0200
TZOFFSETTO:+0100
TZNAME:CET
DTSTART:20261025T010000
END:STANDARD
END:VTIMEZONE
BEGIN:VEVENT
DTSTART;TZID=Europe/Vienna:20250126T143000
DTEND;TZID=Europe/Vienna:20250126T153000
DTSTAMP:20260419T184004
CREATED:20250107T163326Z
LAST-MODIFIED:20250108T075647Z
UID:10039238-1737901800-1737905400@www.stadtmarketing-klosterneuburg.at
SUMMARY:ÖSA Schwimmprüfungen
DESCRIPTION:Die nächsten öffentliche Termine zum Ablegen der Schwimmprüfung für eines der Schwimmabzeichen Frühschwimmer\, Freischwimmer\, Fahrtenschwimmer oder Allroundschwimmer stehen fest: \n\nSamstag\, 26.1.2025 um 14.30 Uhr im Freizeitzentrum Happyland\nSamstag\, 26.4.2025 um 14.30 Uhr im Freizeitzentrum Happyland\n\nTreffpunkt: beim Sportbecken im Happyland\nKosten: € 20\,- inkl. Ausweis / Stoffabzeichen optional € 2\,50 \nAnmeldung unter:\n www.wasserrettung-tulln.at \nBei Fragen kontaktieren Sie bitte Frau Strehl von der Schwimmschule Nautilus:\nruth.strehl@wasser-rettung.at \n 
URL:https://www.stadtmarketing-klosterneuburg.at/veranstaltung/oesa-schwimmpruefungen/2025-01-26/
LOCATION:Sport- und Freizeitzentrum Happyland\, In der Au 2\, Klosterneuburg\, 3400\, Austria
CATEGORIES:Sport & Gesundheit
ATTACH;FMTTYPE=image/jpeg:https://www.stadtmarketing-klosterneuburg.at/wp-content/uploads/2025/01/Schwimmabzeichen-c-Schwimmschule-Nautilus.jpg
END:VEVENT
BEGIN:VEVENT
DTSTART;TZID=Europe/Vienna:20250125T173000
DTEND;TZID=Europe/Vienna:20250125T190000
DTSTAMP:20260419T184004
CREATED:20250108T114441Z
LAST-MODIFIED:20250108T114445Z
UID:10039243-1737826200-1737831600@www.stadtmarketing-klosterneuburg.at
SUMMARY:BK IMMOUnited Dukes vs SKN St. Pölten
DESCRIPTION:Basketball Superliga Herren / Heimspiel im Happyland!\nSamstag\, 25. Jänner 2025\, Beginn: 17.30 Uhr\n\nInfos & Tickets: ONLINE
URL:https://www.stadtmarketing-klosterneuburg.at/veranstaltung/bk-immounited-dukes-vs-skn-st-poelten-3/
LOCATION:Sport- und Freizeitzentrum Happyland\, In der Au 2\, Klosterneuburg\, 3400\, Austria
CATEGORIES:Sport & Gesundheit,Wettbewerbe
ATTACH;FMTTYPE=image/jpeg:https://www.stadtmarketing-klosterneuburg.at/wp-content/uploads/2020/02/bk-dukes.jpg
END:VEVENT
BEGIN:VEVENT
DTSTART;TZID=Europe/Vienna:20250125T143000
DTEND;TZID=Europe/Vienna:20250125T160000
DTSTAMP:20260419T184004
CREATED:20250108T110527Z
LAST-MODIFIED:20250120T085801Z
UID:10039242-1737815400-1737820800@www.stadtmarketing-klosterneuburg.at
SUMMARY:BK Raiffeisen Duchess vs. DBB Wels
DESCRIPTION:Basketball Damen Superliga / Heimspiel im Happyland\nSamstag\, 25. Jänner 2025\, Beginn: 14.30 Uhr\n\nInfos & Tickets: ONLINE
URL:https://www.stadtmarketing-klosterneuburg.at/veranstaltung/bk-raiffeisen-duchess-vs-dbb-wels/
LOCATION:Sport- und Freizeitzentrum Happyland\, In der Au 2\, Klosterneuburg\, 3400\, Austria
CATEGORIES:Sport & Gesundheit,Wettbewerbe
ATTACH;FMTTYPE=image/jpeg:https://www.stadtmarketing-klosterneuburg.at/wp-content/uploads/2020/10/unnamed.jpg
END:VEVENT
BEGIN:VEVENT
DTSTART;TZID=Europe/Vienna:20241226T173000
DTEND;TZID=Europe/Vienna:20241226T190000
DTSTAMP:20260419T184004
CREATED:20241212T085042Z
LAST-MODIFIED:20241212T085146Z
UID:10038847-1735234200-1735239600@www.stadtmarketing-klosterneuburg.at
SUMMARY:BK IMMOUnited Dukes vs BBC Nord Dragonz
DESCRIPTION:Heimspiel im Happyland!\nDonnerstag\, 26. Dezember\, Beginn: 17.30 Uhr\n\nInfos & Tickets: ONLINE
URL:https://www.stadtmarketing-klosterneuburg.at/veranstaltung/bk-immounited-dukes-vs-bbc-nord-dragonz-2/
LOCATION:Sport- und Freizeitzentrum Happyland\, In der Au 2\, Klosterneuburg\, 3400\, Austria
CATEGORIES:Sport & Gesundheit,Wettbewerbe
ATTACH;FMTTYPE=image/jpeg:https://www.stadtmarketing-klosterneuburg.at/wp-content/uploads/2020/02/bk-dukes.jpg
END:VEVENT
BEGIN:VEVENT
DTSTART;TZID=Europe/Vienna:20241222T173000
DTEND;TZID=Europe/Vienna:20241222T190000
DTSTAMP:20260419T184004
CREATED:20241212T084609Z
LAST-MODIFIED:20241212T085301Z
UID:10038846-1734888600-1734894000@www.stadtmarketing-klosterneuburg.at
SUMMARY:BK Raiffeisen Duchess vs. Vienna United
DESCRIPTION:Heimspiel im Happyland\nSonntag\, 22. Dezember\, Beginn: 17.30 Uhr\n\nInfos & Tickets: ONLINE
URL:https://www.stadtmarketing-klosterneuburg.at/veranstaltung/bk-raiffeisen-duchess-vs-vienna-united/
LOCATION:Sport- und Freizeitzentrum Happyland\, In der Au 2\, Klosterneuburg\, 3400\, Austria
CATEGORIES:Sport & Gesundheit,Wettbewerbe
ATTACH;FMTTYPE=image/jpeg:https://www.stadtmarketing-klosterneuburg.at/wp-content/uploads/2020/10/unnamed.jpg
END:VEVENT
BEGIN:VEVENT
DTSTART;TZID=Europe/Vienna:20241208T090000
DTEND;TZID=Europe/Vienna:20241208T100000
DTSTAMP:20260419T184004
CREATED:20241202T101002Z
LAST-MODIFIED:20241202T102627Z
UID:10038689-1733648400-1733652000@www.stadtmarketing-klosterneuburg.at
SUMMARY:Österreichische Wasserball Liga U16 2024/2025
DESCRIPTION:Heimspiele im Happyland: \n1. USCK vs. PL Salzburg\nSamstag\, 7.12.2024 / Beginn: 17.30Uhr \n1. USCK vs. WBC Tirol\nSonntag\, 8.12.2024 / Beginn: 9 Uhr \nUnterstützen Sie unsere Heim-Mannschaft durch zahlreiches Erscheinen und kräftigen Support! \nEintritt frei!  \nDetails: 1. USC Raiffeisen Klosterneuburg \n 
URL:https://www.stadtmarketing-klosterneuburg.at/veranstaltung/oesterreichische-wasserball-liga-u16-2024-2025/2024-12-08/
LOCATION:Sport- und Freizeitzentrum Happyland\, In der Au 2\, Klosterneuburg\, 3400\, Austria
CATEGORIES:Sport & Gesundheit,Wettbewerbe
ATTACH;FMTTYPE=image/jpeg:https://www.stadtmarketing-klosterneuburg.at/wp-content/uploads/2024/01/Wasserball-U12-c-der_stefan_aus_wien.jpg
END:VEVENT
BEGIN:VEVENT
DTSTART;TZID=Europe/Vienna:20241208T080000
DTEND;TZID=Europe/Vienna:20241208T170000
DTSTAMP:20260419T184004
CREATED:20240624T131447Z
LAST-MODIFIED:20240624T152242Z
UID:10036999-1733644800-1733677200@www.stadtmarketing-klosterneuburg.at
SUMMARY:26. Adventlauf in Klosterneuburg
DESCRIPTION:Start/Ziel beim Happyland Klosterneuburg \nVeranstalter: ULC Klosterneuburg \nVeranstaltungsleiter: Dr. Roland Weissenbök\, +43/ (0)699/ 1073 7010 \nOnline-Voranmeldung bis 5.12.2024  24 Uhr möglich: ONLINE\n\nNachmeldung am Veranstaltungstag direkt vor Ort möglich! \nAlle Infos:\nULC Klosterneuburg \n 
URL:https://www.stadtmarketing-klosterneuburg.at/veranstaltung/26-adventlauf-in-klosterneuburg/
LOCATION:Sport- und Freizeitzentrum Happyland\, In der Au 2\, Klosterneuburg\, 3400\, Austria
CATEGORIES:Advent,Outdoorsport,Sport & Gesundheit,Sportevents & Festivals
ATTACH;FMTTYPE=image/jpeg:https://www.stadtmarketing-klosterneuburg.at/wp-content/uploads/2024/06/Adventlauf-2024-c-ULC-Klbg.jpg
END:VEVENT
BEGIN:VEVENT
DTSTART;TZID=Europe/Vienna:20241207T173000
DTEND;TZID=Europe/Vienna:20241207T193000
DTSTAMP:20260419T184004
CREATED:20241126T114445Z
LAST-MODIFIED:20241126T114805Z
UID:10038624-1733592600-1733599800@www.stadtmarketing-klosterneuburg.at
SUMMARY:BK-Doppelpack Duchess / Dukes
DESCRIPTION:Doppelpack-Heimspiel am Samstag\, 7. Dezember 2024 im Happyland \n14.30 Uhr BK Raiffeisen Duchess vs. DBB Wels\n17.30 Uhr BK IMMOUnited Dukes vs. Flyers Wels\n  \nTickets:\nONLINE
URL:https://www.stadtmarketing-klosterneuburg.at/veranstaltung/bk-doppelpack-duchess-dukes-4/2024-12-07/2/
LOCATION:Sport- und Freizeitzentrum Happyland\, In der Au 2\, Klosterneuburg\, 3400\, Austria
CATEGORIES:Sport & Gesundheit,Sportevents & Festivals,Wettbewerbe
ATTACH;FMTTYPE=image/jpeg:https://www.stadtmarketing-klosterneuburg.at/wp-content/uploads/2020/02/bk-dukes.jpg
END:VEVENT
BEGIN:VEVENT
DTSTART;TZID=Europe/Vienna:20241207T173000
DTEND;TZID=Europe/Vienna:20241207T183000
DTSTAMP:20260419T184004
CREATED:20241202T101002Z
LAST-MODIFIED:20241202T102627Z
UID:10038688-1733592600-1733596200@www.stadtmarketing-klosterneuburg.at
SUMMARY:Österreichische Wasserball Liga U16 2024/2025
DESCRIPTION:Heimspiele im Happyland: \n1. USCK vs. PL Salzburg\nSamstag\, 7.12.2024 / Beginn: 17.30Uhr \n1. USCK vs. WBC Tirol\nSonntag\, 8.12.2024 / Beginn: 9 Uhr \nUnterstützen Sie unsere Heim-Mannschaft durch zahlreiches Erscheinen und kräftigen Support! \nEintritt frei!  \nDetails: 1. USC Raiffeisen Klosterneuburg \n 
URL:https://www.stadtmarketing-klosterneuburg.at/veranstaltung/oesterreichische-wasserball-liga-u16-2024-2025/2024-12-07/
LOCATION:Sport- und Freizeitzentrum Happyland\, In der Au 2\, Klosterneuburg\, 3400\, Austria
CATEGORIES:Sport & Gesundheit,Wettbewerbe
ATTACH;FMTTYPE=image/jpeg:https://www.stadtmarketing-klosterneuburg.at/wp-content/uploads/2024/01/Wasserball-U12-c-der_stefan_aus_wien.jpg
END:VEVENT
BEGIN:VEVENT
DTSTART;TZID=Europe/Vienna:20241207T143000
DTEND;TZID=Europe/Vienna:20241207T163000
DTSTAMP:20260419T184004
CREATED:20241126T114445Z
LAST-MODIFIED:20241126T114805Z
UID:10038623-1733581800-1733589000@www.stadtmarketing-klosterneuburg.at
SUMMARY:BK-Doppelpack Duchess / Dukes
DESCRIPTION:Doppelpack-Heimspiel am Samstag\, 7. Dezember 2024 im Happyland \n14.30 Uhr BK Raiffeisen Duchess vs. DBB Wels\n17.30 Uhr BK IMMOUnited Dukes vs. Flyers Wels\n  \nTickets:\nONLINE
URL:https://www.stadtmarketing-klosterneuburg.at/veranstaltung/bk-doppelpack-duchess-dukes-4/2024-12-07/1/
LOCATION:Sport- und Freizeitzentrum Happyland\, In der Au 2\, Klosterneuburg\, 3400\, Austria
CATEGORIES:Sport & Gesundheit,Sportevents & Festivals,Wettbewerbe
ATTACH;FMTTYPE=image/jpeg:https://www.stadtmarketing-klosterneuburg.at/wp-content/uploads/2020/02/bk-dukes.jpg
END:VEVENT
BEGIN:VEVENT
DTSTART;TZID=Europe/Vienna:20241206T190000
DTEND;TZID=Europe/Vienna:20241206T210000
DTSTAMP:20260419T184004
CREATED:20241202T103638Z
LAST-MODIFIED:20241202T103741Z
UID:10038690-1733511600-1733518800@www.stadtmarketing-klosterneuburg.at
SUMMARY:GEH.BEAT ON ICE
DESCRIPTION:Gratis Eintritt bei GEH.BEAT on ICE!\nAm Freitag\, 6. Dezember übernimmt GEH.BEAT wieder mit Jugendlichen die Eis-Disco.  \nAb 19 Uhr sorgen junge DJs und ebenso von Jugendlichen fabrizierte farbenfrohe Live-Visuals für ausgelassene Stimmung auf dem Eislaufplatz beim Happyland.  \nAb sofort gibt es exklusive limitierte GRATIS-Eintrittsbänder für diese Veranstaltung im GEH.BEAT Jugendtreff am Bahnhof Klosterneuburg-Kierling zum Abholen\, damit möglichst viele Jugendliche bei diesem Spektakel dabei sein können! \nInfos & Kontakt:\nPRO JUVENTUTE\nGEH.BEAT Mobile Jugendarbeit Klosterneuburg \n3400 Klosterneuburg\, Niedermarkt 4 (Bahnhof Klosterneuburg-Kierling/Seite Niedermarkt) \n\nTel +43 (0)699/15502469\nralf.mueller@projuventute.at\nwww.projuventute.at/gehbeat
URL:https://www.stadtmarketing-klosterneuburg.at/veranstaltung/geh-beat-on-ice/
LOCATION:Sport- und Freizeitzentrum Happyland\, In der Au 2\, Klosterneuburg\, 3400\, Austria
CATEGORIES:Clubbings & Parties,Kunst & Kultur,Musik & Konzerte,Outdoorsport,Sport & Gesundheit,Sportevents & Festivals
ATTACH;FMTTYPE=image/jpeg:https://www.stadtmarketing-klosterneuburg.at/wp-content/uploads/2024/12/Gehbeat-on-Ice-c-Gehbeat.jpg
END:VEVENT
BEGIN:VEVENT
DTSTART;TZID=Europe/Vienna:20241130T100000
DTEND;TZID=Europe/Vienna:20241130T200000
DTSTAMP:20260419T184004
CREATED:20241118T081149Z
LAST-MODIFIED:20241118T081316Z
UID:10038546-1732960800-1732996800@www.stadtmarketing-klosterneuburg.at
SUMMARY:Rollstuhlbasketball Bundesliga
DESCRIPTION:5. Runde Win2day Rollstuhl Basketball Bundesliga 2024/25\nSamstag\, 30.11.2024 / im Happyland \n\n10 Uhr Rebound Warriors – Sitting Bulls 2\n12 Uhr Sitting Bulls 1 – Dolphins Wien 1\n14 Uhr FlinkStones 1 – Sitting Bulls 2\n16 Uhr Rebound Warriors – Dolphins Wien 1\n18 Uhr Sitting Bulls 1 – FlinkStones 1\n\nAlle Infos:\nSITTING BULLS
URL:https://www.stadtmarketing-klosterneuburg.at/veranstaltung/rollstuhlbasketball-bundesliga/
LOCATION:Sport- und Freizeitzentrum Happyland\, In der Au 2\, Klosterneuburg\, 3400\, Austria
CATEGORIES:Sport & Gesundheit,Sportevents & Festivals,Wettbewerbe
ATTACH;FMTTYPE=image/jpeg:https://www.stadtmarketing-klosterneuburg.at/wp-content/uploads/2023/01/Sitting-Bulls-c-Sitting-Bulls.jpg
END:VEVENT
BEGIN:VEVENT
DTSTART;TZID=Europe/Vienna:20241116T173000
DTEND;TZID=Europe/Vienna:20241116T193000
DTSTAMP:20260419T184004
CREATED:20241115T100212Z
LAST-MODIFIED:20241126T141449Z
UID:10038539-1731778200-1731785400@www.stadtmarketing-klosterneuburg.at
SUMMARY:BK-Doppelpack Duchess / Dukes
DESCRIPTION:Doppelpack-Heimspiel am Samstag\, 16. November 2024 im Happyland \n14.30 Uhr BK Raiffeisen Duchess vs. Vienna Timberwolves\n17.30 Uhr BK IMMOUnited Dukes vs. Kapfenberg Bulls\n  \nTickets:\nONLINE
URL:https://www.stadtmarketing-klosterneuburg.at/veranstaltung/bk-doppelpack-duchess-dukes-3/2024-11-16/2/
LOCATION:Sport- und Freizeitzentrum Happyland\, In der Au 2\, Klosterneuburg\, 3400\, Austria
CATEGORIES:Sport & Gesundheit,Sportevents & Festivals,Wettbewerbe
ATTACH;FMTTYPE=image/jpeg:https://www.stadtmarketing-klosterneuburg.at/wp-content/uploads/2020/02/bk-dukes.jpg
END:VEVENT
BEGIN:VEVENT
DTSTART;TZID=Europe/Vienna:20241116T143000
DTEND;TZID=Europe/Vienna:20241116T163000
DTSTAMP:20260419T184004
CREATED:20241115T100212Z
LAST-MODIFIED:20241126T141449Z
UID:10038538-1731767400-1731774600@www.stadtmarketing-klosterneuburg.at
SUMMARY:BK-Doppelpack Duchess / Dukes
DESCRIPTION:Doppelpack-Heimspiel am Samstag\, 16. November 2024 im Happyland \n14.30 Uhr BK Raiffeisen Duchess vs. Vienna Timberwolves\n17.30 Uhr BK IMMOUnited Dukes vs. Kapfenberg Bulls\n  \nTickets:\nONLINE
URL:https://www.stadtmarketing-klosterneuburg.at/veranstaltung/bk-doppelpack-duchess-dukes-3/2024-11-16/1/
LOCATION:Sport- und Freizeitzentrum Happyland\, In der Au 2\, Klosterneuburg\, 3400\, Austria
CATEGORIES:Sport & Gesundheit,Sportevents & Festivals,Wettbewerbe
ATTACH;FMTTYPE=image/jpeg:https://www.stadtmarketing-klosterneuburg.at/wp-content/uploads/2020/02/bk-dukes.jpg
END:VEVENT
BEGIN:VEVENT
DTSTART;TZID=Europe/Vienna:20240928T100000
DTEND;TZID=Europe/Vienna:20240928T220000
DTSTAMP:20260419T184004
CREATED:20240825T090958Z
LAST-MODIFIED:20240825T091044Z
UID:10037560-1727517600-1727560800@www.stadtmarketing-klosterneuburg.at
SUMMARY:BK Zelt-Festival
DESCRIPTION:Am 28. September beginnt für die BK IMMOunited Dukes mit dem Heimspiel gegen Fürstenfeld die neue Saison der win2day Basketball Superliga.\nAus diesem Anlass feiert der Klosterneuburger Basketballverein den Auftakt mit dem ersten „BK Zelt-Festival“. \nSamstag\, 28. September 2024\, ab 12 Uhr im Festzelt am Happyland-Eislaufplatz \nProgrammhighlights:\n\nKinderprogramm in der Basketballhalle 10 – 13 Uhr\nEröffnung Festzelt um 12 Uhr\nSpiel der BK IMMOunited Dukes um 15.30 Uhr\nAutogrammstunde 18-30 – 19.30 Uhr\nLiveauftritt Leopoldi Groove Society ab 20 Uhr\nDJ Hitch (all-day)\nWeber Grillstation\, Getränkebar\, Gin-Bar\nBasketballkorb und Hüpfburg für Kinder\n\nUnd das Besondere: Der Eintritt zum Zelt-Festival und zum Spiel der Dukes sind frei!\nAnreise mit öffentlichen Verkehrsmitteln wird empfohlen! \nAlle Infos:\nwww.bk-klosterneuburg.at
URL:https://www.stadtmarketing-klosterneuburg.at/veranstaltung/bk-zelt-festival/
LOCATION:Sport- und Freizeitzentrum Happyland\, In der Au 2\, Klosterneuburg\, 3400\, Austria
CATEGORIES:Clubbings & Parties,Sport & Gesundheit,Wettbewerbe
ATTACH;FMTTYPE=image/jpeg:https://www.stadtmarketing-klosterneuburg.at/wp-content/uploads/2024/08/BK-Zeltfest-2024-c-BK-Klbg.jpg
END:VEVENT
BEGIN:VEVENT
DTSTART;TZID=Europe/Vienna:20240913T193000
DTEND;TZID=Europe/Vienna:20240913T213000
DTSTAMP:20260419T184004
CREATED:20240907T075308Z
LAST-MODIFIED:20240907T082550Z
UID:10037625-1726255800-1726263000@www.stadtmarketing-klosterneuburg.at
SUMMARY:FC Klosterneuburg vs SV Horn II
DESCRIPTION:2. Landesliga Ost\, 6. Runde\nHeimspiel in der IMMOunited Arena im Happyland!\n\nFreitag\, 13. September\, Beginn: 19.30 Uhr\n\nInfos: ONLINE
URL:https://www.stadtmarketing-klosterneuburg.at/veranstaltung/fc-klosterneuburg-vs-sv-horn-ii/
LOCATION:Sport- und Freizeitzentrum Happyland\, In der Au 2\, Klosterneuburg\, 3400\, Austria
CATEGORIES:Sport & Gesundheit,Wettbewerbe
ATTACH;FMTTYPE=image/jpeg:https://www.stadtmarketing-klosterneuburg.at/wp-content/uploads/2024/09/FC-Klbg-Landesliga6-c-FC-Klosterneuburg.jpg
END:VEVENT
BEGIN:VEVENT
DTSTART;TZID=Europe/Vienna:20240830T193000
DTEND;TZID=Europe/Vienna:20240830T213000
DTSTAMP:20260419T184004
CREATED:20240825T084157Z
LAST-MODIFIED:20240826T072501Z
UID:10037559-1725046200-1725053400@www.stadtmarketing-klosterneuburg.at
SUMMARY:FC Klosterneuburg vs SV Langenlebarn
DESCRIPTION:2. Landesliga Ost\, 4. Runde\nHeimspiel in der IMMOunited Arena im Happyland!\n\nFreitag\, 30. August\, Beginn: 19.30 Uhr\n\nInfos: ONLINE
URL:https://www.stadtmarketing-klosterneuburg.at/veranstaltung/fc-klosterneuburg-vs-vs-langenlebarn-2/
LOCATION:Sport- und Freizeitzentrum Happyland\, In der Au 2\, Klosterneuburg\, 3400\, Austria
CATEGORIES:Sport & Gesundheit,Wettbewerbe
ATTACH;FMTTYPE=image/jpeg:https://www.stadtmarketing-klosterneuburg.at/wp-content/uploads/2024/08/FC-Klbg-Landesliga-c-FC-Klosterneuburg.jpg
END:VEVENT
BEGIN:VEVENT
DTSTART;TZID=Europe/Vienna:20240701T200000
DTEND;TZID=Europe/Vienna:20240701T210000
DTSTAMP:20260419T184004
CREATED:20240629T101104Z
LAST-MODIFIED:20240629T101935Z
UID:10037061-1719864000-1719867600@www.stadtmarketing-klosterneuburg.at
SUMMARY:Wasserball Heimspiel
DESCRIPTION:Saisonabschluss! Letztes Saison/Heimspiel \n1. USCK vs. ASV Wien\nMontag\, 1.7.2024 / Beginn: 20 Uhr \nUnterstützen Sie unsere Heim-Mannschaft durch zahlreiches Erscheinen und kräftigen Support! \nEintritt frei! 
URL:https://www.stadtmarketing-klosterneuburg.at/veranstaltung/wasserball-heimspiel-7/
LOCATION:Sport- und Freizeitzentrum Happyland\, In der Au 2\, Klosterneuburg\, 3400\, Austria
CATEGORIES:Sport & Gesundheit,Wettbewerbe
ATTACH;FMTTYPE=image/jpeg:https://www.stadtmarketing-klosterneuburg.at/wp-content/uploads/2024/02/1USCK-c-1USCK.jpg
END:VEVENT
BEGIN:VEVENT
DTSTART;TZID=Europe/Vienna:20240616T100000
DTEND;TZID=Europe/Vienna:20240616T180000
DTSTAMP:20260419T184004
CREATED:20240426T154519Z
LAST-MODIFIED:20240609T095355Z
UID:10036020-1718532000-1718560800@www.stadtmarketing-klosterneuburg.at
SUMMARY:HAPPY SHARK-DAY
DESCRIPTION:Das Familienevent im Happyland!\n\nRätsel- & Spielestationen\nActionparcours\nSharkeis & Glücksrad\nLive-Verlosung um 17 Uhr\nSchwimmsharks im Pool\ntolle Preise zu gewinnen\n\n  \nMehr dazu:\nwww.happyland.cc \n 
URL:https://www.stadtmarketing-klosterneuburg.at/veranstaltung/happy-shark-nachmittag-3/
LOCATION:Sport- und Freizeitzentrum Happyland\, In der Au 2\, Klosterneuburg\, 3400\, Austria
CATEGORIES:Familien,Kinder,Sport & Gesundheit,Sportevents & Festivals
ATTACH;FMTTYPE=image/jpeg:https://www.stadtmarketing-klosterneuburg.at/wp-content/uploads/2023/05/Happy-Shark-c-Happyland.jpg
END:VEVENT
BEGIN:VEVENT
DTSTART;TZID=Europe/Vienna:20240614T150000
DTEND;TZID=Europe/Vienna:20240614T220000
DTSTAMP:20260419T184004
CREATED:20240609T081919Z
LAST-MODIFIED:20240609T082028Z
UID:10036764-1718377200-1718402400@www.stadtmarketing-klosterneuburg.at
SUMMARY:BK Summer Beats
DESCRIPTION:Basketball Klosterneuburg will es vor den Sommerferien noch einmal richtig krachen lassen!\nFreitag\, 14. Juni 2024\, ab 15 Uhr im Festzelt am Happyland-Eislaufplatz \n\nSpecials: BBQ\, Welcome Shot\nEintritt frei!\nDie Veranstaltung findet bei jedem Wetter statt!\n\nAlle Infos:\nwww.bk-klosterneuburg.at
URL:https://www.stadtmarketing-klosterneuburg.at/veranstaltung/bk-summer-beats/
LOCATION:Sport- und Freizeitzentrum Happyland\, In der Au 2\, Klosterneuburg\, 3400\, Austria
CATEGORIES:Clubbings & Parties,Sport & Gesundheit
ATTACH;FMTTYPE=image/jpeg:https://www.stadtmarketing-klosterneuburg.at/wp-content/uploads/2024/06/BK-Summer-Beats-2024-c-BK.jpg
END:VEVENT
BEGIN:VEVENT
DTSTART;TZID=Europe/Vienna:20240607T200000
DTEND;TZID=Europe/Vienna:20240607T210000
DTSTAMP:20260419T184004
CREATED:20240214T081512Z
LAST-MODIFIED:20240629T101101Z
UID:10034802-1717790400-1717794000@www.stadtmarketing-klosterneuburg.at
SUMMARY:Wasserball Heimspiel
DESCRIPTION:1. USCK vs. ASV Wien\nFreitag\, 7.6.2024 / Beginn: 20 Uhr \nUnterstützen Sie unsere Heim-Mannschaft durch zahlreiches Erscheinen und kräftigen Support! \nEintritt frei! 
URL:https://www.stadtmarketing-klosterneuburg.at/veranstaltung/wasserball-heimspiel-5/
LOCATION:Sport- und Freizeitzentrum Happyland\, In der Au 2\, Klosterneuburg\, 3400\, Austria
CATEGORIES:Sport & Gesundheit,Wettbewerbe
ATTACH;FMTTYPE=image/jpeg:https://www.stadtmarketing-klosterneuburg.at/wp-content/uploads/2024/02/1USCK-c-1USCK.jpg
END:VEVENT
BEGIN:VEVENT
DTSTART;TZID=Europe/Vienna:20240515T200000
DTEND;TZID=Europe/Vienna:20240515T213000
DTSTAMP:20260419T184004
CREATED:20240513T145020Z
LAST-MODIFIED:20240513T145226Z
UID:10036373-1715803200-1715808600@www.stadtmarketing-klosterneuburg.at
SUMMARY:BK IMMOUnited Dukes vs UBSC GRAZ
DESCRIPTION:Semifinale!! Heimspiel im Happyland!\nMittwoch\, 15. Mai\, Beginn: 20.15 Uhr\n\nTickets: ONLINE
URL:https://www.stadtmarketing-klosterneuburg.at/veranstaltung/bk-immounited-dukes-vs-ubsc-graz-2/
LOCATION:Sport- und Freizeitzentrum Happyland\, In der Au 2\, Klosterneuburg\, 3400\, Austria
CATEGORIES:Sport & Gesundheit,Wettbewerbe
ATTACH;FMTTYPE=image/jpeg:https://www.stadtmarketing-klosterneuburg.at/wp-content/uploads/2020/02/bk-dukes.jpg
ORGANIZER;CN="BK IMMOUnited Dukes":MAILTO:office@bk-klosterneuburg.at
END:VEVENT
BEGIN:VEVENT
DTSTART;TZID=Europe/Vienna:20240509T180000
DTEND;TZID=Europe/Vienna:20240509T193000
DTSTAMP:20260419T184004
CREATED:20240506T145030Z
LAST-MODIFIED:20240506T145035Z
UID:10036200-1715277600-1715283000@www.stadtmarketing-klosterneuburg.at
SUMMARY:BK IMMOUnited Dukes vs UBSC GRAZ
DESCRIPTION:Heimspiel im Happyland!\nDonnerstag\, 9. Mai\, Beginn: 18 Uhr\n\nTickets: ONLINE
URL:https://www.stadtmarketing-klosterneuburg.at/veranstaltung/bk-immounited-dukes-vs-ubsc-graz/
LOCATION:Sport- und Freizeitzentrum Happyland\, In der Au 2\, Klosterneuburg\, 3400\, Austria
CATEGORIES:Sport & Gesundheit,Wettbewerbe
ATTACH;FMTTYPE=image/jpeg:https://www.stadtmarketing-klosterneuburg.at/wp-content/uploads/2020/02/bk-dukes.jpg
ORGANIZER;CN="BK IMMOUnited Dukes":MAILTO:office@bk-klosterneuburg.at
END:VEVENT
BEGIN:VEVENT
DTSTART;TZID=Europe/Vienna:20240509T150000
DTEND;TZID=Europe/Vienna:20240509T163000
DTSTAMP:20260419T184004
CREATED:20240506T145404Z
LAST-MODIFIED:20240506T150527Z
UID:10034819-1715266800-1715272200@www.stadtmarketing-klosterneuburg.at
SUMMARY:Rollstuhlbasketball
DESCRIPTION:win2day RBB Bundesliga Finale Spiel 2\nColoplast Sitting Bulls  vs. 8TF FlinkStones 1\nDonnerstag\, 9.5.2024\, 15 Uhr im Happyland \nÖsterreichischer Behindertensportverband
URL:https://www.stadtmarketing-klosterneuburg.at/veranstaltung/rollstuhlbasketball-3/
LOCATION:Sport- und Freizeitzentrum Happyland\, In der Au 2\, Klosterneuburg\, 3400\, Austria
CATEGORIES:Sport & Gesundheit,Sportevents & Festivals,Wettbewerbe
ATTACH;FMTTYPE=image/jpeg:https://www.stadtmarketing-klosterneuburg.at/wp-content/uploads/2023/01/Sitting-Bulls-c-Sitting-Bulls.jpg
END:VEVENT
BEGIN:VEVENT
DTSTART;TZID=Europe/Vienna:20240503T200000
DTEND;TZID=Europe/Vienna:20240503T210000
DTSTAMP:20260419T184004
CREATED:20240427T074715Z
LAST-MODIFIED:20240427T074735Z
UID:10036022-1714766400-1714770000@www.stadtmarketing-klosterneuburg.at
SUMMARY:Wasserball Heimspiel
DESCRIPTION:1. USCK vs. LSK Linz\nFreitag\, 3.5.2024 / Beginn: 20 Uhr \nUnterstützen Sie unsere Heim-Mannschaft durch zahlreiches Erscheinen und kräftigen Support! \nEintritt frei! 
URL:https://www.stadtmarketing-klosterneuburg.at/veranstaltung/wasserball-heimspiel-6/
LOCATION:Sport- und Freizeitzentrum Happyland\, In der Au 2\, Klosterneuburg\, 3400\, Austria
CATEGORIES:Sport & Gesundheit,Wettbewerbe
ATTACH;FMTTYPE=image/jpeg:https://www.stadtmarketing-klosterneuburg.at/wp-content/uploads/2024/02/1USCK-c-1USCK.jpg
END:VEVENT
BEGIN:VEVENT
DTSTART;TZID=Europe/Vienna:20240426T200000
DTEND;TZID=Europe/Vienna:20240426T210000
DTSTAMP:20260419T184004
CREATED:20240214T081431Z
LAST-MODIFIED:20240427T074546Z
UID:10034801-1714161600-1714165200@www.stadtmarketing-klosterneuburg.at
SUMMARY:Wasserball Heimspiel
DESCRIPTION:1. USCK vs. LSK Linz\nFreitag\, 26.4.2024 / Beginn: 20 Uhr \nUnterstützen Sie unsere Heim-Mannschaft durch zahlreiches Erscheinen und kräftigen Support! \nEintritt frei!  \nVerschoben auf Freitag\, 3.5.2024 !!!\n 
URL:https://www.stadtmarketing-klosterneuburg.at/veranstaltung/wasserball-heimspiel-4/
LOCATION:Sport- und Freizeitzentrum Happyland\, In der Au 2\, Klosterneuburg\, 3400\, Austria
CATEGORIES:Sport & Gesundheit,Wettbewerbe
ATTACH;FMTTYPE=image/jpeg:https://www.stadtmarketing-klosterneuburg.at/wp-content/uploads/2024/02/1USCK-c-1USCK.jpg
END:VEVENT
BEGIN:VEVENT
DTSTART;TZID=Europe/Vienna:20240425T190000
DTEND;TZID=Europe/Vienna:20240425T203000
DTSTAMP:20260419T184004
CREATED:20240421T092327Z
LAST-MODIFIED:20240421T092806Z
UID:10035994-1714071600-1714077000@www.stadtmarketing-klosterneuburg.at
SUMMARY:BK IMMOUnited Dukes vs Kapfenberg Bulls
DESCRIPTION:Heimspiel im Happyland!\nDonnerstag\, 25. April\, Beginn: 19 Uhr\n\nTickets: ONLINE
URL:https://www.stadtmarketing-klosterneuburg.at/veranstaltung/bk-immounited-dukes-vs-kapfenberg-bulls-2/
LOCATION:Sport- und Freizeitzentrum Happyland\, In der Au 2\, Klosterneuburg\, 3400\, Austria
CATEGORIES:Sport & Gesundheit,Wettbewerbe
ATTACH;FMTTYPE=image/jpeg:https://www.stadtmarketing-klosterneuburg.at/wp-content/uploads/2020/02/bk-dukes.jpg
ORGANIZER;CN="BK IMMOUnited Dukes":MAILTO:office@bk-klosterneuburg.at
END:VEVENT
BEGIN:VEVENT
DTSTART;TZID=Europe/Vienna:20240420T173000
DTEND;TZID=Europe/Vienna:20240420T190000
DTSTAMP:20260419T184004
CREATED:20240416T084202Z
LAST-MODIFIED:20240421T092153Z
UID:10035959-1713634200-1713639600@www.stadtmarketing-klosterneuburg.at
SUMMARY:BK IMMOUnited Dukes vs Kapfenberg Bulls
DESCRIPTION:Heimspiel im Happyland!\nSamstag\, 20. April\, Beginn: 17.30 Uhr\n\nTickets: ONLINE
URL:https://www.stadtmarketing-klosterneuburg.at/veranstaltung/bk-immounited-dukes-vs-kapfenberg-bulls/
LOCATION:Sport- und Freizeitzentrum Happyland\, In der Au 2\, Klosterneuburg\, 3400\, Austria
CATEGORIES:Sport & Gesundheit,Wettbewerbe
ATTACH;FMTTYPE=image/jpeg:https://www.stadtmarketing-klosterneuburg.at/wp-content/uploads/2020/02/bk-dukes.jpg
ORGANIZER;CN="BK IMMOUnited Dukes":MAILTO:office@bk-klosterneuburg.at
END:VEVENT
BEGIN:VEVENT
DTSTART;TZID=Europe/Vienna:20240419T190000
DTEND;TZID=Europe/Vienna:20240419T200000
DTSTAMP:20260419T184004
CREATED:20240226T090127Z
LAST-MODIFIED:20240226T091250Z
UID:10034965-1713553200-1713556800@www.stadtmarketing-klosterneuburg.at
SUMMARY:Tanzkurs "Dance Your Fire"
DESCRIPTION:Für alle Frauen – auch ohne Vorkenntnisse! Einstieg jederzeit möglich! \nab Freitag\, 1.März 2024 / 8 mal / immer Freitag 19 – 20 Uhr \nPreise:\n\n8er Block: € 129\nEinzelstunde: € 20\nSchnupperstunde: € 18\n\nOrt: Happyland \nKontakt Frau Anjeza Cikopano\n\nanjezadance@gmail.com\n+43/ (0)650/ 63 77 287\nONLINE
URL:https://www.stadtmarketing-klosterneuburg.at/veranstaltung/tanzkurs-dance-your-fire/2024-04-19/
LOCATION:Sport- und Freizeitzentrum Happyland\, In der Au 2\, Klosterneuburg\, 3400\, Austria
CATEGORIES:Fitnesskurse & Workshops,Kurse, Seminare & Workshops,Sport & Gesundheit
ATTACH;FMTTYPE=image/jpeg:https://www.stadtmarketing-klosterneuburg.at/wp-content/uploads/2024/02/Tanzkurs-c-Anjeza-Cikopano.jpg
END:VEVENT
BEGIN:VEVENT
DTSTART;TZID=Europe/Vienna:20240413T180000
DTEND;TZID=Europe/Vienna:20240413T193000
DTSTAMP:20260419T184004
CREATED:20240410T105558Z
LAST-MODIFIED:20240416T084344Z
UID:10035894-1713031200-1713036600@www.stadtmarketing-klosterneuburg.at
SUMMARY:BK IMMOUnited Dukes vs Gmunden Swans
DESCRIPTION:Heimspiel im Happyland!\nSamstag\, 13. April\, Beginn: 18 Uhr\n\nTickets: ONLINE
URL:https://www.stadtmarketing-klosterneuburg.at/veranstaltung/bk-immounited-dukes-vs-gmunden-swans/
LOCATION:Sport- und Freizeitzentrum Happyland\, In der Au 2\, Klosterneuburg\, 3400\, Austria
CATEGORIES:Sport & Gesundheit,Wettbewerbe
ATTACH;FMTTYPE=image/jpeg:https://www.stadtmarketing-klosterneuburg.at/wp-content/uploads/2020/02/bk-dukes.jpg
ORGANIZER;CN="BK IMMOUnited Dukes":MAILTO:office@bk-klosterneuburg.at
END:VEVENT
END:VCALENDAR