BEGIN:VCALENDAR
VERSION:2.0
PRODID:-//Stadtmarketing Klosterneuburg - ECPv6.15.20//NONSGML v1.0//EN
CALSCALE:GREGORIAN
METHOD:PUBLISH
X-WR-CALNAME:Stadtmarketing Klosterneuburg
X-ORIGINAL-URL:https://www.stadtmarketing-klosterneuburg.at
X-WR-CALDESC:Veranstaltungen für Stadtmarketing Klosterneuburg
REFRESH-INTERVAL;VALUE=DURATION:PT1H
X-Robots-Tag:noindex
X-PUBLISHED-TTL:PT1H
BEGIN:VTIMEZONE
TZID:Europe/Vienna
BEGIN:DAYLIGHT
TZOFFSETFROM:+0100
TZOFFSETTO:+0200
TZNAME:CEST
DTSTART:20250330T010000
END:DAYLIGHT
BEGIN:STANDARD
TZOFFSETFROM:+0200
TZOFFSETTO:+0100
TZNAME:CET
DTSTART:20251026T010000
END:STANDARD
BEGIN:DAYLIGHT
TZOFFSETFROM:+0100
TZOFFSETTO:+0200
TZNAME:CEST
DTSTART:20260329T010000
END:DAYLIGHT
BEGIN:STANDARD
TZOFFSETFROM:+0200
TZOFFSETTO:+0100
TZNAME:CET
DTSTART:20261025T010000
END:STANDARD
BEGIN:DAYLIGHT
TZOFFSETFROM:+0100
TZOFFSETTO:+0200
TZNAME:CEST
DTSTART:20270328T010000
END:DAYLIGHT
BEGIN:STANDARD
TZOFFSETFROM:+0200
TZOFFSETTO:+0100
TZNAME:CET
DTSTART:20271031T010000
END:STANDARD
END:VTIMEZONE
BEGIN:VEVENT
DTSTART;TZID=Europe/Vienna:20260426T173000
DTEND;TZID=Europe/Vienna:20260426T190000
DTSTAMP:20260421T223938
CREATED:20260421T073426Z
LAST-MODIFIED:20260421T092648Z
UID:10046163-1777224600-1777230000@www.stadtmarketing-klosterneuburg.at
SUMMARY:Zumba Event
DESCRIPTION:mit Isabella & Mila\nAm Sonntag\, 26. April 2026 im Tanzstudio isi Moves \n\nSpaß & super Workout!\nTanzen & die Musik genießen!\n\nPreis: € 20 \n  \nKontakt & Anmeldung:\n\nisi-moves.com\nMila: 0699/105 229 58\nIsi: 0660/896 34 08
URL:https://www.stadtmarketing-klosterneuburg.at/veranstaltung/zumba-event/
LOCATION:Tanzstudio isi Moves\, Kierlinger Straße 13\, Klosterneuburg\, Niederösterreich\, 3400\, Austria
CATEGORIES:Fitnesskurse & Workshops,Kurse, Seminare & Workshops,Sport & Gesundheit
ATTACH;FMTTYPE=image/jpeg:https://www.stadtmarketing-klosterneuburg.at/wp-content/uploads/2026/04/Zumba-Event-c-Tanzstudio-isi-Moves.jpg
END:VEVENT
END:VCALENDAR