BEGIN:VCALENDAR
VERSION:2.0
PRODID:-//Stadtmarketing Klosterneuburg - ECPv6.15.20//NONSGML v1.0//EN
CALSCALE:GREGORIAN
METHOD:PUBLISH
X-ORIGINAL-URL:https://www.stadtmarketing-klosterneuburg.at
X-WR-CALDESC:Veranstaltungen für Stadtmarketing Klosterneuburg
REFRESH-INTERVAL;VALUE=DURATION:PT1H
X-Robots-Tag:noindex
X-PUBLISHED-TTL:PT1H
BEGIN:VTIMEZONE
TZID:Europe/Vienna
BEGIN:DAYLIGHT
TZOFFSETFROM:+0100
TZOFFSETTO:+0200
TZNAME:CEST
DTSTART:20220327T010000
END:DAYLIGHT
BEGIN:STANDARD
TZOFFSETFROM:+0200
TZOFFSETTO:+0100
TZNAME:CET
DTSTART:20221030T010000
END:STANDARD
BEGIN:DAYLIGHT
TZOFFSETFROM:+0100
TZOFFSETTO:+0200
TZNAME:CEST
DTSTART:20230326T010000
END:DAYLIGHT
BEGIN:STANDARD
TZOFFSETFROM:+0200
TZOFFSETTO:+0100
TZNAME:CET
DTSTART:20231029T010000
END:STANDARD
BEGIN:DAYLIGHT
TZOFFSETFROM:+0100
TZOFFSETTO:+0200
TZNAME:CEST
DTSTART:20240331T010000
END:DAYLIGHT
BEGIN:STANDARD
TZOFFSETFROM:+0200
TZOFFSETTO:+0100
TZNAME:CET
DTSTART:20241027T010000
END:STANDARD
BEGIN:DAYLIGHT
TZOFFSETFROM:+0100
TZOFFSETTO:+0200
TZNAME:CEST
DTSTART:20250330T010000
END:DAYLIGHT
BEGIN:STANDARD
TZOFFSETFROM:+0200
TZOFFSETTO:+0100
TZNAME:CET
DTSTART:20251026T010000
END:STANDARD
END:VTIMEZONE
BEGIN:VEVENT
DTSTART;TZID=Europe/Vienna:20240517T140000
DTEND;TZID=Europe/Vienna:20240517T233000
DTSTAMP:20260422T112657
CREATED:20240512T074905Z
LAST-MODIFIED:20240512T075005Z
UID:10036293-1715954400-1715988600@www.stadtmarketing-klosterneuburg.at
SUMMARY:Weekend @Uferhaus
DESCRIPTION:Details noch nicht bekannt!\nab 14 Uhr geht es los…
URL:https://www.stadtmarketing-klosterneuburg.at/veranstaltung/weekend-uferhaus-21/2024-05-17/
LOCATION:Uferhaus\, Rollfährestraße 200\, Klosterneuburg\, 3400\, Austria
CATEGORIES:Clubbings & Parties,Kulinarik & Wein,Kunst & Kultur,Musik & Konzerte
ATTACH;FMTTYPE=image/jpeg:https://www.stadtmarketing-klosterneuburg.at/wp-content/uploads/2022/04/Uferhaus-c-Uferhaus.jpg
END:VEVENT
BEGIN:VEVENT
DTSTART;TZID=Europe/Vienna:20240512T140000
DTEND;TZID=Europe/Vienna:20240512T233000
DTSTAMP:20260422T112657
CREATED:20240506T144524Z
LAST-MODIFIED:20240506T144809Z
UID:10036199-1715522400-1715556600@www.stadtmarketing-klosterneuburg.at
SUMMARY:Weekend @Uferhaus
DESCRIPTION:ab 14 Uhr geht es los!\nNur bei Schönwetter!
URL:https://www.stadtmarketing-klosterneuburg.at/veranstaltung/weekend-uferhaus-20/2024-05-12/
LOCATION:Uferhaus\, Rollfährestraße 200\, Klosterneuburg\, 3400\, Austria
CATEGORIES:Clubbings & Parties,Kulinarik & Wein,Kunst & Kultur,Musik & Konzerte
ATTACH;FMTTYPE=image/jpeg:https://www.stadtmarketing-klosterneuburg.at/wp-content/uploads/2022/04/Uferhaus-c-Uferhaus.jpg
END:VEVENT
BEGIN:VEVENT
DTSTART;TZID=Europe/Vienna:20240511T140000
DTEND;TZID=Europe/Vienna:20240511T233000
DTSTAMP:20260422T112657
CREATED:20240506T144524Z
LAST-MODIFIED:20240506T144809Z
UID:10036198-1715436000-1715470200@www.stadtmarketing-klosterneuburg.at
SUMMARY:Weekend @Uferhaus
DESCRIPTION:ab 14 Uhr geht es los!\nNur bei Schönwetter!
URL:https://www.stadtmarketing-klosterneuburg.at/veranstaltung/weekend-uferhaus-20/2024-05-11/
LOCATION:Uferhaus\, Rollfährestraße 200\, Klosterneuburg\, 3400\, Austria
CATEGORIES:Clubbings & Parties,Kulinarik & Wein,Kunst & Kultur,Musik & Konzerte
ATTACH;FMTTYPE=image/jpeg:https://www.stadtmarketing-klosterneuburg.at/wp-content/uploads/2022/04/Uferhaus-c-Uferhaus.jpg
END:VEVENT
BEGIN:VEVENT
DTSTART;TZID=Europe/Vienna:20240510T140000
DTEND;TZID=Europe/Vienna:20240510T233000
DTSTAMP:20260422T112657
CREATED:20240506T144524Z
LAST-MODIFIED:20240506T144809Z
UID:10036197-1715349600-1715383800@www.stadtmarketing-klosterneuburg.at
SUMMARY:Weekend @Uferhaus
DESCRIPTION:ab 14 Uhr geht es los!\nNur bei Schönwetter!
URL:https://www.stadtmarketing-klosterneuburg.at/veranstaltung/weekend-uferhaus-20/2024-05-10/
LOCATION:Uferhaus\, Rollfährestraße 200\, Klosterneuburg\, 3400\, Austria
CATEGORIES:Clubbings & Parties,Kulinarik & Wein,Kunst & Kultur,Musik & Konzerte
ATTACH;FMTTYPE=image/jpeg:https://www.stadtmarketing-klosterneuburg.at/wp-content/uploads/2022/04/Uferhaus-c-Uferhaus.jpg
END:VEVENT
BEGIN:VEVENT
DTSTART;TZID=Europe/Vienna:20240505T140000
DTEND;TZID=Europe/Vienna:20240505T233000
DTSTAMP:20260422T112657
CREATED:20240428T091325Z
LAST-MODIFIED:20240428T091345Z
UID:10036027-1714917600-1714951800@www.stadtmarketing-klosterneuburg.at
SUMMARY:Music-Weekend @Uferhaus
DESCRIPTION:mit DJ Eisbær\nab 14 Uhr geht es los…
URL:https://www.stadtmarketing-klosterneuburg.at/veranstaltung/music-weekend-uferhaus/2024-05-05/
LOCATION:Uferhaus\, Rollfährestraße 200\, Klosterneuburg\, 3400\, Austria
CATEGORIES:Clubbings & Parties,Kulinarik & Wein,Kunst & Kultur,Musik & Konzerte
ATTACH;FMTTYPE=image/jpeg:https://www.stadtmarketing-klosterneuburg.at/wp-content/uploads/2022/04/Uferhaus-c-Uferhaus.jpg
END:VEVENT
BEGIN:VEVENT
DTSTART;TZID=Europe/Vienna:20240504T140000
DTEND;TZID=Europe/Vienna:20240504T233000
DTSTAMP:20260422T112657
CREATED:20240428T091325Z
LAST-MODIFIED:20240428T091345Z
UID:10036026-1714831200-1714865400@www.stadtmarketing-klosterneuburg.at
SUMMARY:Music-Weekend @Uferhaus
DESCRIPTION:mit DJ Eisbær\nab 14 Uhr geht es los…
URL:https://www.stadtmarketing-klosterneuburg.at/veranstaltung/music-weekend-uferhaus/2024-05-04/
LOCATION:Uferhaus\, Rollfährestraße 200\, Klosterneuburg\, 3400\, Austria
CATEGORIES:Clubbings & Parties,Kulinarik & Wein,Kunst & Kultur,Musik & Konzerte
ATTACH;FMTTYPE=image/jpeg:https://www.stadtmarketing-klosterneuburg.at/wp-content/uploads/2022/04/Uferhaus-c-Uferhaus.jpg
END:VEVENT
BEGIN:VEVENT
DTSTART;TZID=Europe/Vienna:20240503T140000
DTEND;TZID=Europe/Vienna:20240503T233000
DTSTAMP:20260422T112657
CREATED:20240428T091325Z
LAST-MODIFIED:20240428T091345Z
UID:10036025-1714744800-1714779000@www.stadtmarketing-klosterneuburg.at
SUMMARY:Music-Weekend @Uferhaus
DESCRIPTION:mit DJ Eisbær\nab 14 Uhr geht es los…
URL:https://www.stadtmarketing-klosterneuburg.at/veranstaltung/music-weekend-uferhaus/2024-05-03/
LOCATION:Uferhaus\, Rollfährestraße 200\, Klosterneuburg\, 3400\, Austria
CATEGORIES:Clubbings & Parties,Kulinarik & Wein,Kunst & Kultur,Musik & Konzerte
ATTACH;FMTTYPE=image/jpeg:https://www.stadtmarketing-klosterneuburg.at/wp-content/uploads/2022/04/Uferhaus-c-Uferhaus.jpg
END:VEVENT
BEGIN:VEVENT
DTSTART;TZID=Europe/Vienna:20240428T140000
DTEND;TZID=Europe/Vienna:20240428T233000
DTSTAMP:20260422T112657
CREATED:20240422T070429Z
LAST-MODIFIED:20240422T075147Z
UID:10035999-1714312800-1714347000@www.stadtmarketing-klosterneuburg.at
SUMMARY:Weekend @Uferhaus
DESCRIPTION:Samstag\, 27.4. / DJ Eisbær – One Hit Wonders\nSonntag 28.4. / DJ Eisbær- Chillout\n\nab 14 Uhr geht es los… NUR BEI SCHÖNWETTER!
URL:https://www.stadtmarketing-klosterneuburg.at/veranstaltung/weekend-uferhaus-19/2024-04-28/
LOCATION:Uferhaus\, Rollfährestraße 200\, Klosterneuburg\, 3400\, Austria
CATEGORIES:Clubbings & Parties,Kulinarik & Wein,Kunst & Kultur,Musik & Konzerte
ATTACH;FMTTYPE=image/jpeg:https://www.stadtmarketing-klosterneuburg.at/wp-content/uploads/2022/04/Uferhaus-c-Uferhaus.jpg
END:VEVENT
BEGIN:VEVENT
DTSTART;TZID=Europe/Vienna:20240427T140000
DTEND;TZID=Europe/Vienna:20240427T233000
DTSTAMP:20260422T112657
CREATED:20240422T070429Z
LAST-MODIFIED:20240422T075147Z
UID:10035998-1714226400-1714260600@www.stadtmarketing-klosterneuburg.at
SUMMARY:Weekend @Uferhaus
DESCRIPTION:Samstag\, 27.4. / DJ Eisbær – One Hit Wonders\nSonntag 28.4. / DJ Eisbær- Chillout\n\nab 14 Uhr geht es los… NUR BEI SCHÖNWETTER!
URL:https://www.stadtmarketing-klosterneuburg.at/veranstaltung/weekend-uferhaus-19/2024-04-27/
LOCATION:Uferhaus\, Rollfährestraße 200\, Klosterneuburg\, 3400\, Austria
CATEGORIES:Clubbings & Parties,Kulinarik & Wein,Kunst & Kultur,Musik & Konzerte
ATTACH;FMTTYPE=image/jpeg:https://www.stadtmarketing-klosterneuburg.at/wp-content/uploads/2022/04/Uferhaus-c-Uferhaus.jpg
END:VEVENT
BEGIN:VEVENT
DTSTART;TZID=Europe/Vienna:20240421T140000
DTEND;TZID=Europe/Vienna:20240421T233000
DTSTAMP:20260422T112657
CREATED:20240418T074832Z
LAST-MODIFIED:20240420T084614Z
UID:10035970-1713708000-1713742200@www.stadtmarketing-klosterneuburg.at
SUMMARY:Weekend @Uferhaus
DESCRIPTION:Freitag\, 19.4. / DJ Eisbær – 70er & 80er\nSamstag\, 20.4. / DJ Eisbær – One Hit Wonders\nSonntag 21.4. / DJ Eisbær- 50er & 60er\n\nab 14 Uhr geht es los… NUR BEI SCHÖNWETTER!
URL:https://www.stadtmarketing-klosterneuburg.at/veranstaltung/weekend-uferhaus-vorlage/2024-04-21/
LOCATION:Uferhaus\, Rollfährestraße 200\, Klosterneuburg\, 3400\, Austria
CATEGORIES:Clubbings & Parties,Kulinarik & Wein,Kunst & Kultur,Musik & Konzerte
ATTACH;FMTTYPE=image/jpeg:https://www.stadtmarketing-klosterneuburg.at/wp-content/uploads/2022/04/Uferhaus-c-Uferhaus.jpg
END:VEVENT
BEGIN:VEVENT
DTSTART;TZID=Europe/Vienna:20240420T140000
DTEND;TZID=Europe/Vienna:20240420T233000
DTSTAMP:20260422T112657
CREATED:20240418T074832Z
LAST-MODIFIED:20240420T084614Z
UID:10035969-1713621600-1713655800@www.stadtmarketing-klosterneuburg.at
SUMMARY:Weekend @Uferhaus
DESCRIPTION:Freitag\, 19.4. / DJ Eisbær – 70er & 80er\nSamstag\, 20.4. / DJ Eisbær – One Hit Wonders\nSonntag 21.4. / DJ Eisbær- 50er & 60er\n\nab 14 Uhr geht es los… NUR BEI SCHÖNWETTER!
URL:https://www.stadtmarketing-klosterneuburg.at/veranstaltung/weekend-uferhaus-vorlage/2024-04-20/
LOCATION:Uferhaus\, Rollfährestraße 200\, Klosterneuburg\, 3400\, Austria
CATEGORIES:Clubbings & Parties,Kulinarik & Wein,Kunst & Kultur,Musik & Konzerte
ATTACH;FMTTYPE=image/jpeg:https://www.stadtmarketing-klosterneuburg.at/wp-content/uploads/2022/04/Uferhaus-c-Uferhaus.jpg
END:VEVENT
BEGIN:VEVENT
DTSTART;TZID=Europe/Vienna:20240419T140000
DTEND;TZID=Europe/Vienna:20240419T233000
DTSTAMP:20260422T112657
CREATED:20240418T074832Z
LAST-MODIFIED:20240420T084614Z
UID:10035968-1713535200-1713569400@www.stadtmarketing-klosterneuburg.at
SUMMARY:Weekend @Uferhaus
DESCRIPTION:Freitag\, 19.4. / DJ Eisbær – 70er & 80er\nSamstag\, 20.4. / DJ Eisbær – One Hit Wonders\nSonntag 21.4. / DJ Eisbær- 50er & 60er\n\nab 14 Uhr geht es los… NUR BEI SCHÖNWETTER!
URL:https://www.stadtmarketing-klosterneuburg.at/veranstaltung/weekend-uferhaus-vorlage/2024-04-19/
LOCATION:Uferhaus\, Rollfährestraße 200\, Klosterneuburg\, 3400\, Austria
CATEGORIES:Clubbings & Parties,Kulinarik & Wein,Kunst & Kultur,Musik & Konzerte
ATTACH;FMTTYPE=image/jpeg:https://www.stadtmarketing-klosterneuburg.at/wp-content/uploads/2022/04/Uferhaus-c-Uferhaus.jpg
END:VEVENT
BEGIN:VEVENT
DTSTART;TZID=Europe/Vienna:20240414T140000
DTEND;TZID=Europe/Vienna:20240414T233000
DTSTAMP:20260422T112657
CREATED:20240410T131228Z
LAST-MODIFIED:20240420T093226Z
UID:10035897-1713103200-1713137400@www.stadtmarketing-klosterneuburg.at
SUMMARY:Weekend @Uferhaus
DESCRIPTION:Freitag\, 12.4. / 14 Uhr / DJ Eisbær – Afterworks\nSamstag\, 13.4. / 15 Uhr / Simon Krauter – House\nSonntag\, 14.4. / 14 Uhr / DJ Eisbær – Chillout
URL:https://www.stadtmarketing-klosterneuburg.at/veranstaltung/weekend-uferhaus-18/2024-04-14/
LOCATION:Uferhaus\, Rollfährestraße 200\, Klosterneuburg\, 3400\, Austria
CATEGORIES:Clubbings & Parties,Kulinarik & Wein,Kunst & Kultur,Musik & Konzerte
ATTACH;FMTTYPE=image/jpeg:https://www.stadtmarketing-klosterneuburg.at/wp-content/uploads/2022/04/Uferhaus-c-Uferhaus.jpg
END:VEVENT
BEGIN:VEVENT
DTSTART;TZID=Europe/Vienna:20240413T150000
DTEND;TZID=Europe/Vienna:20240413T233000
DTSTAMP:20260422T112657
CREATED:20240410T131228Z
LAST-MODIFIED:20240420T093226Z
UID:10035896-1713020400-1713051000@www.stadtmarketing-klosterneuburg.at
SUMMARY:Weekend @Uferhaus
DESCRIPTION:Freitag\, 12.4. / 14 Uhr / DJ Eisbær – Afterworks\nSamstag\, 13.4. / 15 Uhr / Simon Krauter – House\nSonntag\, 14.4. / 14 Uhr / DJ Eisbær – Chillout
URL:https://www.stadtmarketing-klosterneuburg.at/veranstaltung/weekend-uferhaus-18/2024-04-13/
LOCATION:Uferhaus\, Rollfährestraße 200\, Klosterneuburg\, 3400\, Austria
CATEGORIES:Clubbings & Parties,Kulinarik & Wein,Kunst & Kultur,Musik & Konzerte
ATTACH;FMTTYPE=image/jpeg:https://www.stadtmarketing-klosterneuburg.at/wp-content/uploads/2022/04/Uferhaus-c-Uferhaus.jpg
END:VEVENT
BEGIN:VEVENT
DTSTART;TZID=Europe/Vienna:20240412T140000
DTEND;TZID=Europe/Vienna:20240412T233000
DTSTAMP:20260422T112657
CREATED:20240410T131228Z
LAST-MODIFIED:20240420T093226Z
UID:10035895-1712930400-1712964600@www.stadtmarketing-klosterneuburg.at
SUMMARY:Weekend @Uferhaus
DESCRIPTION:Freitag\, 12.4. / 14 Uhr / DJ Eisbær – Afterworks\nSamstag\, 13.4. / 15 Uhr / Simon Krauter – House\nSonntag\, 14.4. / 14 Uhr / DJ Eisbær – Chillout
URL:https://www.stadtmarketing-klosterneuburg.at/veranstaltung/weekend-uferhaus-18/2024-04-12/
LOCATION:Uferhaus\, Rollfährestraße 200\, Klosterneuburg\, 3400\, Austria
CATEGORIES:Clubbings & Parties,Kulinarik & Wein,Kunst & Kultur,Musik & Konzerte
ATTACH;FMTTYPE=image/jpeg:https://www.stadtmarketing-klosterneuburg.at/wp-content/uploads/2022/04/Uferhaus-c-Uferhaus.jpg
END:VEVENT
BEGIN:VEVENT
DTSTART;TZID=Europe/Vienna:20231104T130000
DTEND;TZID=Europe/Vienna:20231104T233000
DTSTAMP:20260422T112657
CREATED:20231102T085727Z
LAST-MODIFIED:20231102T090127Z
UID:10029279-1699102800-1699140600@www.stadtmarketing-klosterneuburg.at
SUMMARY:Abschlussfeuer @Uferhaus
DESCRIPTION:13 Uhr DJ Eisbær – Best of Uferhausmusik\n17 Uhr Abschlussfeuer
URL:https://www.stadtmarketing-klosterneuburg.at/veranstaltung/abschlussfeuer-uferhaus/
LOCATION:Uferhaus\, Rollfährestraße 200\, Klosterneuburg\, 3400\, Austria
CATEGORIES:Clubbings & Parties,Kulinarik & Wein,Kunst & Kultur,Musik & Konzerte
ATTACH;FMTTYPE=image/jpeg:https://www.stadtmarketing-klosterneuburg.at/wp-content/uploads/2023/04/Walpurgisfeier-c-Uferhaus.jpg
END:VEVENT
BEGIN:VEVENT
DTSTART;TZID=Europe/Vienna:20231031T180000
DTEND;TZID=Europe/Vienna:20231031T233000
DTSTAMP:20260422T112657
CREATED:20231016T144053Z
LAST-MODIFIED:20231031T130425Z
UID:10029111-1698775200-1698795000@www.stadtmarketing-klosterneuburg.at
SUMMARY:Halloweenparty @Uferhaus
DESCRIPTION:Dienstag\, 31.10.2023\n\nab 13 Uhr Halloweenparty\nab 18 Uhr DJ Simon Krauter plus Feuer
URL:https://www.stadtmarketing-klosterneuburg.at/veranstaltung/halloweenparty-uferhaus/
LOCATION:Uferhaus\, Rollfährestraße 200\, Klosterneuburg\, 3400\, Austria
CATEGORIES:Clubbings & Parties,Halloween,Kulinarik & Wein,Kunst & Kultur,Musik & Konzerte
ATTACH;FMTTYPE=image/jpeg:https://www.stadtmarketing-klosterneuburg.at/wp-content/uploads/2020/09/Events_Halloweenfeuer.jpg
END:VEVENT
BEGIN:VEVENT
DTSTART;TZID=Europe/Vienna:20231029T130000
DTEND;TZID=Europe/Vienna:20231029T233000
DTSTAMP:20260422T112657
CREATED:20231016T073449Z
LAST-MODIFIED:20231016T073534Z
UID:10028996-1698584400-1698622200@www.stadtmarketing-klosterneuburg.at
SUMMARY:Saisonabschluss @Uferhaus
DESCRIPTION:mit DJ Eisbær\n\n\n\n\nDo 26.10. / ab 13 Uhr Austropop zum Nationalfeiertag\nFr 27.10. / ab 13 Uhr Rocktober\nSa 28.10. / ab 13 Uhr Deep House\nSo 29.10. / ab 13 Uhr Chill House
URL:https://www.stadtmarketing-klosterneuburg.at/veranstaltung/saisonabschluss-uferhaus/2023-10-29/
LOCATION:Uferhaus\, Rollfährestraße 200\, Klosterneuburg\, 3400\, Austria
CATEGORIES:Clubbings & Parties,Kulinarik & Wein,Kunst & Kultur,Musik & Konzerte
ATTACH;FMTTYPE=image/jpeg:https://www.stadtmarketing-klosterneuburg.at/wp-content/uploads/2022/04/Uferhaus-c-Uferhaus.jpg
END:VEVENT
BEGIN:VEVENT
DTSTART;TZID=Europe/Vienna:20231028T130000
DTEND;TZID=Europe/Vienna:20231028T233000
DTSTAMP:20260422T112657
CREATED:20231016T073449Z
LAST-MODIFIED:20231016T073534Z
UID:10028995-1698498000-1698535800@www.stadtmarketing-klosterneuburg.at
SUMMARY:Saisonabschluss @Uferhaus
DESCRIPTION:mit DJ Eisbær\n\n\n\n\nDo 26.10. / ab 13 Uhr Austropop zum Nationalfeiertag\nFr 27.10. / ab 13 Uhr Rocktober\nSa 28.10. / ab 13 Uhr Deep House\nSo 29.10. / ab 13 Uhr Chill House
URL:https://www.stadtmarketing-klosterneuburg.at/veranstaltung/saisonabschluss-uferhaus/2023-10-28/
LOCATION:Uferhaus\, Rollfährestraße 200\, Klosterneuburg\, 3400\, Austria
CATEGORIES:Clubbings & Parties,Kulinarik & Wein,Kunst & Kultur,Musik & Konzerte
ATTACH;FMTTYPE=image/jpeg:https://www.stadtmarketing-klosterneuburg.at/wp-content/uploads/2022/04/Uferhaus-c-Uferhaus.jpg
END:VEVENT
BEGIN:VEVENT
DTSTART;TZID=Europe/Vienna:20231027T130000
DTEND;TZID=Europe/Vienna:20231027T233000
DTSTAMP:20260422T112657
CREATED:20231016T073449Z
LAST-MODIFIED:20231016T073534Z
UID:10028994-1698411600-1698449400@www.stadtmarketing-klosterneuburg.at
SUMMARY:Saisonabschluss @Uferhaus
DESCRIPTION:mit DJ Eisbær\n\n\n\n\nDo 26.10. / ab 13 Uhr Austropop zum Nationalfeiertag\nFr 27.10. / ab 13 Uhr Rocktober\nSa 28.10. / ab 13 Uhr Deep House\nSo 29.10. / ab 13 Uhr Chill House
URL:https://www.stadtmarketing-klosterneuburg.at/veranstaltung/saisonabschluss-uferhaus/2023-10-27/
LOCATION:Uferhaus\, Rollfährestraße 200\, Klosterneuburg\, 3400\, Austria
CATEGORIES:Clubbings & Parties,Kulinarik & Wein,Kunst & Kultur,Musik & Konzerte
ATTACH;FMTTYPE=image/jpeg:https://www.stadtmarketing-klosterneuburg.at/wp-content/uploads/2022/04/Uferhaus-c-Uferhaus.jpg
END:VEVENT
BEGIN:VEVENT
DTSTART;TZID=Europe/Vienna:20231026T130000
DTEND;TZID=Europe/Vienna:20231026T233000
DTSTAMP:20260422T112657
CREATED:20231016T073449Z
LAST-MODIFIED:20231016T073534Z
UID:10028993-1698325200-1698363000@www.stadtmarketing-klosterneuburg.at
SUMMARY:Saisonabschluss @Uferhaus
DESCRIPTION:mit DJ Eisbær\n\n\n\n\nDo 26.10. / ab 13 Uhr Austropop zum Nationalfeiertag\nFr 27.10. / ab 13 Uhr Rocktober\nSa 28.10. / ab 13 Uhr Deep House\nSo 29.10. / ab 13 Uhr Chill House
URL:https://www.stadtmarketing-klosterneuburg.at/veranstaltung/saisonabschluss-uferhaus/2023-10-26/
LOCATION:Uferhaus\, Rollfährestraße 200\, Klosterneuburg\, 3400\, Austria
CATEGORIES:Clubbings & Parties,Kulinarik & Wein,Kunst & Kultur,Musik & Konzerte
ATTACH;FMTTYPE=image/jpeg:https://www.stadtmarketing-klosterneuburg.at/wp-content/uploads/2022/04/Uferhaus-c-Uferhaus.jpg
END:VEVENT
BEGIN:VEVENT
DTSTART;TZID=Europe/Vienna:20231015T140000
DTEND;TZID=Europe/Vienna:20231015T233000
DTSTAMP:20260422T112657
CREATED:20231009T070708Z
LAST-MODIFIED:20231011T134202Z
UID:10028914-1697378400-1697412600@www.stadtmarketing-klosterneuburg.at
SUMMARY:Weekend @Uferhaus
DESCRIPTION:Samstag\, 14.10. / 14 Uhr / DJ Eisbær – House\nSonntag\, 15.10. / 14 Uhr / DJ Eisbær – Rocktober
URL:https://www.stadtmarketing-klosterneuburg.at/veranstaltung/weekend-uferhaus-17/2023-10-15/
LOCATION:Uferhaus\, Rollfährestraße 200\, Klosterneuburg\, 3400\, Austria
CATEGORIES:Clubbings & Parties,Kulinarik & Wein,Kunst & Kultur,Musik & Konzerte
ATTACH;FMTTYPE=image/jpeg:https://www.stadtmarketing-klosterneuburg.at/wp-content/uploads/2022/04/Uferhaus-c-Uferhaus.jpg
END:VEVENT
BEGIN:VEVENT
DTSTART;TZID=Europe/Vienna:20231014T140000
DTEND;TZID=Europe/Vienna:20231014T233000
DTSTAMP:20260422T112657
CREATED:20231009T070708Z
LAST-MODIFIED:20231011T134202Z
UID:10028913-1697292000-1697326200@www.stadtmarketing-klosterneuburg.at
SUMMARY:Weekend @Uferhaus
DESCRIPTION:Samstag\, 14.10. / 14 Uhr / DJ Eisbær – House\nSonntag\, 15.10. / 14 Uhr / DJ Eisbær – Rocktober
URL:https://www.stadtmarketing-klosterneuburg.at/veranstaltung/weekend-uferhaus-17/2023-10-14/
LOCATION:Uferhaus\, Rollfährestraße 200\, Klosterneuburg\, 3400\, Austria
CATEGORIES:Clubbings & Parties,Kulinarik & Wein,Kunst & Kultur,Musik & Konzerte
ATTACH;FMTTYPE=image/jpeg:https://www.stadtmarketing-klosterneuburg.at/wp-content/uploads/2022/04/Uferhaus-c-Uferhaus.jpg
END:VEVENT
BEGIN:VEVENT
DTSTART;TZID=Europe/Vienna:20231008T140000
DTEND;TZID=Europe/Vienna:20231008T233000
DTSTAMP:20260422T112657
CREATED:20231002T073927Z
LAST-MODIFIED:20231002T153637Z
UID:10027960-1696773600-1696807800@www.stadtmarketing-klosterneuburg.at
SUMMARY:Weekend @Uferhaus
DESCRIPTION:Freitag\, 6.10. / 14 Uhr / DJ Eisbær – Afterworks\nSamstag\, 7.10. / 14 Uhr / DJ Eisbær – Oktoberfest mit Feuer\nSonntag\, 8.10. / 14 Uhr / DJ Eisbær – Chill House
URL:https://www.stadtmarketing-klosterneuburg.at/veranstaltung/weekend-uferhaus-16/2023-10-08/
LOCATION:Uferhaus\, Rollfährestraße 200\, Klosterneuburg\, 3400\, Austria
CATEGORIES:Clubbings & Parties,Kulinarik & Wein,Kunst & Kultur,Musik & Konzerte
ATTACH;FMTTYPE=image/jpeg:https://www.stadtmarketing-klosterneuburg.at/wp-content/uploads/2022/04/Uferhaus-c-Uferhaus.jpg
END:VEVENT
BEGIN:VEVENT
DTSTART;TZID=Europe/Vienna:20231007T140000
DTEND;TZID=Europe/Vienna:20231007T233000
DTSTAMP:20260422T112657
CREATED:20230912T075200Z
LAST-MODIFIED:20230925T072528Z
UID:10027740-1696687200-1696721400@www.stadtmarketing-klosterneuburg.at
SUMMARY:Oktoberfest @Uferhaus
DESCRIPTION:Mit DJ Eisbær & DJ Xenon\n\nVerschoben von 29.9. auf 7.10.!
URL:https://www.stadtmarketing-klosterneuburg.at/veranstaltung/oktoberfest-uferhaus/
LOCATION:Uferhaus\, Rollfährestraße 200\, Klosterneuburg\, 3400\, Austria
CATEGORIES:Clubbings & Parties,Kulinarik & Wein,Kunst & Kultur,Musik & Konzerte
ATTACH;FMTTYPE=image/jpeg:https://www.stadtmarketing-klosterneuburg.at/wp-content/uploads/2022/04/Uferhaus-c-Uferhaus.jpg
END:VEVENT
BEGIN:VEVENT
DTSTART;TZID=Europe/Vienna:20231006T140000
DTEND;TZID=Europe/Vienna:20231006T233000
DTSTAMP:20260422T112657
CREATED:20231002T073927Z
LAST-MODIFIED:20231002T153637Z
UID:10027958-1696600800-1696635000@www.stadtmarketing-klosterneuburg.at
SUMMARY:Weekend @Uferhaus
DESCRIPTION:Freitag\, 6.10. / 14 Uhr / DJ Eisbær – Afterworks\nSamstag\, 7.10. / 14 Uhr / DJ Eisbær – Oktoberfest mit Feuer\nSonntag\, 8.10. / 14 Uhr / DJ Eisbær – Chill House
URL:https://www.stadtmarketing-klosterneuburg.at/veranstaltung/weekend-uferhaus-16/2023-10-06/
LOCATION:Uferhaus\, Rollfährestraße 200\, Klosterneuburg\, 3400\, Austria
CATEGORIES:Clubbings & Parties,Kulinarik & Wein,Kunst & Kultur,Musik & Konzerte
ATTACH;FMTTYPE=image/jpeg:https://www.stadtmarketing-klosterneuburg.at/wp-content/uploads/2022/04/Uferhaus-c-Uferhaus.jpg
END:VEVENT
BEGIN:VEVENT
DTSTART;TZID=Europe/Vienna:20231001T140000
DTEND;TZID=Europe/Vienna:20231001T233000
DTSTAMP:20260422T112657
CREATED:20230925T082141Z
LAST-MODIFIED:20230925T082255Z
UID:10027915-1696168800-1696203000@www.stadtmarketing-klosterneuburg.at
SUMMARY:Weekend @Uferhaus
DESCRIPTION:Freitag\, 29.9. / 14 Uhr / DJ Eisbær – Afterworks Music\nSamstag\, 30.9. / 14 Uhr / DJ Eisbær – When September ends *Alternative Rock\nSonntag\, 1.10. / 14 Uhr / DJ Eisbær – Rocktober *Classic Rock
URL:https://www.stadtmarketing-klosterneuburg.at/veranstaltung/weekend-uferhaus-15/2023-10-01/
LOCATION:Uferhaus\, Rollfährestraße 200\, Klosterneuburg\, 3400\, Austria
CATEGORIES:Clubbings & Parties,Kulinarik & Wein,Kunst & Kultur,Musik & Konzerte
ATTACH;FMTTYPE=image/jpeg:https://www.stadtmarketing-klosterneuburg.at/wp-content/uploads/2022/04/Uferhaus-c-Uferhaus.jpg
END:VEVENT
BEGIN:VEVENT
DTSTART;TZID=Europe/Vienna:20230930T140000
DTEND;TZID=Europe/Vienna:20230930T233000
DTSTAMP:20260422T112657
CREATED:20230925T082141Z
LAST-MODIFIED:20230925T082255Z
UID:10027914-1696082400-1696116600@www.stadtmarketing-klosterneuburg.at
SUMMARY:Weekend @Uferhaus
DESCRIPTION:Freitag\, 29.9. / 14 Uhr / DJ Eisbær – Afterworks Music\nSamstag\, 30.9. / 14 Uhr / DJ Eisbær – When September ends *Alternative Rock\nSonntag\, 1.10. / 14 Uhr / DJ Eisbær – Rocktober *Classic Rock
URL:https://www.stadtmarketing-klosterneuburg.at/veranstaltung/weekend-uferhaus-15/2023-09-30/
LOCATION:Uferhaus\, Rollfährestraße 200\, Klosterneuburg\, 3400\, Austria
CATEGORIES:Clubbings & Parties,Kulinarik & Wein,Kunst & Kultur,Musik & Konzerte
ATTACH;FMTTYPE=image/jpeg:https://www.stadtmarketing-klosterneuburg.at/wp-content/uploads/2022/04/Uferhaus-c-Uferhaus.jpg
END:VEVENT
BEGIN:VEVENT
DTSTART;TZID=Europe/Vienna:20230929T140000
DTEND;TZID=Europe/Vienna:20230929T233000
DTSTAMP:20260422T112657
CREATED:20230925T082141Z
LAST-MODIFIED:20230925T082255Z
UID:10027913-1695996000-1696030200@www.stadtmarketing-klosterneuburg.at
SUMMARY:Weekend @Uferhaus
DESCRIPTION:Freitag\, 29.9. / 14 Uhr / DJ Eisbær – Afterworks Music\nSamstag\, 30.9. / 14 Uhr / DJ Eisbær – When September ends *Alternative Rock\nSonntag\, 1.10. / 14 Uhr / DJ Eisbær – Rocktober *Classic Rock
URL:https://www.stadtmarketing-klosterneuburg.at/veranstaltung/weekend-uferhaus-15/2023-09-29/
LOCATION:Uferhaus\, Rollfährestraße 200\, Klosterneuburg\, 3400\, Austria
CATEGORIES:Clubbings & Parties,Kulinarik & Wein,Kunst & Kultur,Musik & Konzerte
ATTACH;FMTTYPE=image/jpeg:https://www.stadtmarketing-klosterneuburg.at/wp-content/uploads/2022/04/Uferhaus-c-Uferhaus.jpg
END:VEVENT
BEGIN:VEVENT
DTSTART;TZID=Europe/Vienna:20230924T140000
DTEND;TZID=Europe/Vienna:20230924T233000
DTSTAMP:20260422T112657
CREATED:20230917T090325Z
LAST-MODIFIED:20230917T090402Z
UID:10027779-1695564000-1695598200@www.stadtmarketing-klosterneuburg.at
SUMMARY:Chill House @Uferhaus
DESCRIPTION:Chill House  mit DJ Fahrstuhlmusik\nab 14 Uhr geht es los…
URL:https://www.stadtmarketing-klosterneuburg.at/veranstaltung/chill-house-uferhaus-2/
LOCATION:Uferhaus\, Rollfährestraße 200\, Klosterneuburg\, 3400\, Austria
CATEGORIES:Clubbings & Parties,Kulinarik & Wein,Kunst & Kultur,Musik & Konzerte
ATTACH;FMTTYPE=image/jpeg:https://www.stadtmarketing-klosterneuburg.at/wp-content/uploads/2022/04/Uferhaus-c-Uferhaus.jpg
END:VEVENT
END:VCALENDAR