BEGIN:VCALENDAR
VERSION:2.0
PRODID:-//Stadtmarketing Klosterneuburg - ECPv6.15.20//NONSGML v1.0//EN
CALSCALE:GREGORIAN
METHOD:PUBLISH
X-WR-CALNAME:Stadtmarketing Klosterneuburg
X-ORIGINAL-URL:https://www.stadtmarketing-klosterneuburg.at
X-WR-CALDESC:Veranstaltungen für Stadtmarketing Klosterneuburg
REFRESH-INTERVAL;VALUE=DURATION:PT1H
X-Robots-Tag:noindex
X-PUBLISHED-TTL:PT1H
BEGIN:VTIMEZONE
TZID:Europe/Vienna
BEGIN:DAYLIGHT
TZOFFSETFROM:+0100
TZOFFSETTO:+0200
TZNAME:CEST
DTSTART:20220327T010000
END:DAYLIGHT
BEGIN:STANDARD
TZOFFSETFROM:+0200
TZOFFSETTO:+0100
TZNAME:CET
DTSTART:20221030T010000
END:STANDARD
BEGIN:DAYLIGHT
TZOFFSETFROM:+0100
TZOFFSETTO:+0200
TZNAME:CEST
DTSTART:20230326T010000
END:DAYLIGHT
BEGIN:STANDARD
TZOFFSETFROM:+0200
TZOFFSETTO:+0100
TZNAME:CET
DTSTART:20231029T010000
END:STANDARD
BEGIN:DAYLIGHT
TZOFFSETFROM:+0100
TZOFFSETTO:+0200
TZNAME:CEST
DTSTART:20240331T010000
END:DAYLIGHT
BEGIN:STANDARD
TZOFFSETFROM:+0200
TZOFFSETTO:+0100
TZNAME:CET
DTSTART:20241027T010000
END:STANDARD
END:VTIMEZONE
BEGIN:VEVENT
DTSTART;TZID=Europe/Vienna:20231026T130000
DTEND;TZID=Europe/Vienna:20231026T233000
DTSTAMP:20260422T161502
CREATED:20231016T073449Z
LAST-MODIFIED:20231016T073534Z
UID:10028993-1698325200-1698363000@www.stadtmarketing-klosterneuburg.at
SUMMARY:Saisonabschluss @Uferhaus
DESCRIPTION:mit DJ Eisbær\n\n\n\n\nDo 26.10. / ab 13 Uhr Austropop zum Nationalfeiertag\nFr 27.10. / ab 13 Uhr Rocktober\nSa 28.10. / ab 13 Uhr Deep House\nSo 29.10. / ab 13 Uhr Chill House
URL:https://www.stadtmarketing-klosterneuburg.at/veranstaltung/saisonabschluss-uferhaus/2023-10-26/
LOCATION:Uferhaus\, Rollfährestraße 200\, Klosterneuburg\, 3400\, Austria
CATEGORIES:Clubbings & Parties,Kulinarik & Wein,Kunst & Kultur,Musik & Konzerte
ATTACH;FMTTYPE=image/jpeg:https://www.stadtmarketing-klosterneuburg.at/wp-content/uploads/2022/04/Uferhaus-c-Uferhaus.jpg
END:VEVENT
BEGIN:VEVENT
DTSTART;TZID=Europe/Vienna:20231015T140000
DTEND;TZID=Europe/Vienna:20231015T233000
DTSTAMP:20260422T161502
CREATED:20231009T070708Z
LAST-MODIFIED:20231011T134202Z
UID:10028914-1697378400-1697412600@www.stadtmarketing-klosterneuburg.at
SUMMARY:Weekend @Uferhaus
DESCRIPTION:Samstag\, 14.10. / 14 Uhr / DJ Eisbær – House\nSonntag\, 15.10. / 14 Uhr / DJ Eisbær – Rocktober
URL:https://www.stadtmarketing-klosterneuburg.at/veranstaltung/weekend-uferhaus-17/2023-10-15/
LOCATION:Uferhaus\, Rollfährestraße 200\, Klosterneuburg\, 3400\, Austria
CATEGORIES:Clubbings & Parties,Kulinarik & Wein,Kunst & Kultur,Musik & Konzerte
ATTACH;FMTTYPE=image/jpeg:https://www.stadtmarketing-klosterneuburg.at/wp-content/uploads/2022/04/Uferhaus-c-Uferhaus.jpg
END:VEVENT
BEGIN:VEVENT
DTSTART;TZID=Europe/Vienna:20231014T140000
DTEND;TZID=Europe/Vienna:20231014T233000
DTSTAMP:20260422T161502
CREATED:20231009T070708Z
LAST-MODIFIED:20231011T134202Z
UID:10028913-1697292000-1697326200@www.stadtmarketing-klosterneuburg.at
SUMMARY:Weekend @Uferhaus
DESCRIPTION:Samstag\, 14.10. / 14 Uhr / DJ Eisbær – House\nSonntag\, 15.10. / 14 Uhr / DJ Eisbær – Rocktober
URL:https://www.stadtmarketing-klosterneuburg.at/veranstaltung/weekend-uferhaus-17/2023-10-14/
LOCATION:Uferhaus\, Rollfährestraße 200\, Klosterneuburg\, 3400\, Austria
CATEGORIES:Clubbings & Parties,Kulinarik & Wein,Kunst & Kultur,Musik & Konzerte
ATTACH;FMTTYPE=image/jpeg:https://www.stadtmarketing-klosterneuburg.at/wp-content/uploads/2022/04/Uferhaus-c-Uferhaus.jpg
END:VEVENT
BEGIN:VEVENT
DTSTART;TZID=Europe/Vienna:20231008T140000
DTEND;TZID=Europe/Vienna:20231008T233000
DTSTAMP:20260422T161502
CREATED:20231002T073927Z
LAST-MODIFIED:20231002T153637Z
UID:10027960-1696773600-1696807800@www.stadtmarketing-klosterneuburg.at
SUMMARY:Weekend @Uferhaus
DESCRIPTION:Freitag\, 6.10. / 14 Uhr / DJ Eisbær – Afterworks\nSamstag\, 7.10. / 14 Uhr / DJ Eisbær – Oktoberfest mit Feuer\nSonntag\, 8.10. / 14 Uhr / DJ Eisbær – Chill House
URL:https://www.stadtmarketing-klosterneuburg.at/veranstaltung/weekend-uferhaus-16/2023-10-08/
LOCATION:Uferhaus\, Rollfährestraße 200\, Klosterneuburg\, 3400\, Austria
CATEGORIES:Clubbings & Parties,Kulinarik & Wein,Kunst & Kultur,Musik & Konzerte
ATTACH;FMTTYPE=image/jpeg:https://www.stadtmarketing-klosterneuburg.at/wp-content/uploads/2022/04/Uferhaus-c-Uferhaus.jpg
END:VEVENT
BEGIN:VEVENT
DTSTART;TZID=Europe/Vienna:20231007T140000
DTEND;TZID=Europe/Vienna:20231007T233000
DTSTAMP:20260422T161502
CREATED:20230912T075200Z
LAST-MODIFIED:20230925T072528Z
UID:10027740-1696687200-1696721400@www.stadtmarketing-klosterneuburg.at
SUMMARY:Oktoberfest @Uferhaus
DESCRIPTION:Mit DJ Eisbær & DJ Xenon\n\nVerschoben von 29.9. auf 7.10.!
URL:https://www.stadtmarketing-klosterneuburg.at/veranstaltung/oktoberfest-uferhaus/
LOCATION:Uferhaus\, Rollfährestraße 200\, Klosterneuburg\, 3400\, Austria
CATEGORIES:Clubbings & Parties,Kulinarik & Wein,Kunst & Kultur,Musik & Konzerte
ATTACH;FMTTYPE=image/jpeg:https://www.stadtmarketing-klosterneuburg.at/wp-content/uploads/2022/04/Uferhaus-c-Uferhaus.jpg
END:VEVENT
BEGIN:VEVENT
DTSTART;TZID=Europe/Vienna:20231006T140000
DTEND;TZID=Europe/Vienna:20231006T233000
DTSTAMP:20260422T161502
CREATED:20231002T073927Z
LAST-MODIFIED:20231002T153637Z
UID:10027958-1696600800-1696635000@www.stadtmarketing-klosterneuburg.at
SUMMARY:Weekend @Uferhaus
DESCRIPTION:Freitag\, 6.10. / 14 Uhr / DJ Eisbær – Afterworks\nSamstag\, 7.10. / 14 Uhr / DJ Eisbær – Oktoberfest mit Feuer\nSonntag\, 8.10. / 14 Uhr / DJ Eisbær – Chill House
URL:https://www.stadtmarketing-klosterneuburg.at/veranstaltung/weekend-uferhaus-16/2023-10-06/
LOCATION:Uferhaus\, Rollfährestraße 200\, Klosterneuburg\, 3400\, Austria
CATEGORIES:Clubbings & Parties,Kulinarik & Wein,Kunst & Kultur,Musik & Konzerte
ATTACH;FMTTYPE=image/jpeg:https://www.stadtmarketing-klosterneuburg.at/wp-content/uploads/2022/04/Uferhaus-c-Uferhaus.jpg
END:VEVENT
BEGIN:VEVENT
DTSTART;TZID=Europe/Vienna:20231001T140000
DTEND;TZID=Europe/Vienna:20231001T233000
DTSTAMP:20260422T161502
CREATED:20230925T082141Z
LAST-MODIFIED:20230925T082255Z
UID:10027915-1696168800-1696203000@www.stadtmarketing-klosterneuburg.at
SUMMARY:Weekend @Uferhaus
DESCRIPTION:Freitag\, 29.9. / 14 Uhr / DJ Eisbær – Afterworks Music\nSamstag\, 30.9. / 14 Uhr / DJ Eisbær – When September ends *Alternative Rock\nSonntag\, 1.10. / 14 Uhr / DJ Eisbær – Rocktober *Classic Rock
URL:https://www.stadtmarketing-klosterneuburg.at/veranstaltung/weekend-uferhaus-15/2023-10-01/
LOCATION:Uferhaus\, Rollfährestraße 200\, Klosterneuburg\, 3400\, Austria
CATEGORIES:Clubbings & Parties,Kulinarik & Wein,Kunst & Kultur,Musik & Konzerte
ATTACH;FMTTYPE=image/jpeg:https://www.stadtmarketing-klosterneuburg.at/wp-content/uploads/2022/04/Uferhaus-c-Uferhaus.jpg
END:VEVENT
BEGIN:VEVENT
DTSTART;TZID=Europe/Vienna:20230930T140000
DTEND;TZID=Europe/Vienna:20230930T233000
DTSTAMP:20260422T161502
CREATED:20230925T082141Z
LAST-MODIFIED:20230925T082255Z
UID:10027914-1696082400-1696116600@www.stadtmarketing-klosterneuburg.at
SUMMARY:Weekend @Uferhaus
DESCRIPTION:Freitag\, 29.9. / 14 Uhr / DJ Eisbær – Afterworks Music\nSamstag\, 30.9. / 14 Uhr / DJ Eisbær – When September ends *Alternative Rock\nSonntag\, 1.10. / 14 Uhr / DJ Eisbær – Rocktober *Classic Rock
URL:https://www.stadtmarketing-klosterneuburg.at/veranstaltung/weekend-uferhaus-15/2023-09-30/
LOCATION:Uferhaus\, Rollfährestraße 200\, Klosterneuburg\, 3400\, Austria
CATEGORIES:Clubbings & Parties,Kulinarik & Wein,Kunst & Kultur,Musik & Konzerte
ATTACH;FMTTYPE=image/jpeg:https://www.stadtmarketing-klosterneuburg.at/wp-content/uploads/2022/04/Uferhaus-c-Uferhaus.jpg
END:VEVENT
BEGIN:VEVENT
DTSTART;TZID=Europe/Vienna:20230929T140000
DTEND;TZID=Europe/Vienna:20230929T233000
DTSTAMP:20260422T161502
CREATED:20230925T082141Z
LAST-MODIFIED:20230925T082255Z
UID:10027913-1695996000-1696030200@www.stadtmarketing-klosterneuburg.at
SUMMARY:Weekend @Uferhaus
DESCRIPTION:Freitag\, 29.9. / 14 Uhr / DJ Eisbær – Afterworks Music\nSamstag\, 30.9. / 14 Uhr / DJ Eisbær – When September ends *Alternative Rock\nSonntag\, 1.10. / 14 Uhr / DJ Eisbær – Rocktober *Classic Rock
URL:https://www.stadtmarketing-klosterneuburg.at/veranstaltung/weekend-uferhaus-15/2023-09-29/
LOCATION:Uferhaus\, Rollfährestraße 200\, Klosterneuburg\, 3400\, Austria
CATEGORIES:Clubbings & Parties,Kulinarik & Wein,Kunst & Kultur,Musik & Konzerte
ATTACH;FMTTYPE=image/jpeg:https://www.stadtmarketing-klosterneuburg.at/wp-content/uploads/2022/04/Uferhaus-c-Uferhaus.jpg
END:VEVENT
BEGIN:VEVENT
DTSTART;TZID=Europe/Vienna:20230924T140000
DTEND;TZID=Europe/Vienna:20230924T233000
DTSTAMP:20260422T161502
CREATED:20230917T090325Z
LAST-MODIFIED:20230917T090402Z
UID:10027779-1695564000-1695598200@www.stadtmarketing-klosterneuburg.at
SUMMARY:Chill House @Uferhaus
DESCRIPTION:Chill House  mit DJ Fahrstuhlmusik\nab 14 Uhr geht es los…
URL:https://www.stadtmarketing-klosterneuburg.at/veranstaltung/chill-house-uferhaus-2/
LOCATION:Uferhaus\, Rollfährestraße 200\, Klosterneuburg\, 3400\, Austria
CATEGORIES:Clubbings & Parties,Kulinarik & Wein,Kunst & Kultur,Musik & Konzerte
ATTACH;FMTTYPE=image/jpeg:https://www.stadtmarketing-klosterneuburg.at/wp-content/uploads/2022/04/Uferhaus-c-Uferhaus.jpg
END:VEVENT
BEGIN:VEVENT
DTSTART;TZID=Europe/Vienna:20230923T140000
DTEND;TZID=Europe/Vienna:20230923T233000
DTSTAMP:20260422T161502
CREATED:20230917T090214Z
LAST-MODIFIED:20230917T090214Z
UID:10027778-1695477600-1695511800@www.stadtmarketing-klosterneuburg.at
SUMMARY:Latin House @Uferhaus
DESCRIPTION:Latin House  mit DJ Enrique Martinez\nab 14 Uhr geht es los…
URL:https://www.stadtmarketing-klosterneuburg.at/veranstaltung/latin-house-uferhaus/
LOCATION:Uferhaus\, Rollfährestraße 200\, Klosterneuburg\, 3400\, Austria
CATEGORIES:Clubbings & Parties,Kulinarik & Wein,Kunst & Kultur,Musik & Konzerte
ATTACH;FMTTYPE=image/jpeg:https://www.stadtmarketing-klosterneuburg.at/wp-content/uploads/2022/04/Uferhaus-c-Uferhaus.jpg
END:VEVENT
BEGIN:VEVENT
DTSTART;TZID=Europe/Vienna:20230922T140000
DTEND;TZID=Europe/Vienna:20230922T233000
DTSTAMP:20260422T161502
CREATED:20230912T074713Z
LAST-MODIFIED:20230917T090028Z
UID:10027739-1695391200-1695425400@www.stadtmarketing-klosterneuburg.at
SUMMARY:K´Burg Edition @Uferhaus
DESCRIPTION:Klosterneuburg hat nicht nur immer schon gute Weine hervorgebracht\, nein\, auch die Deejay Szene aus Klosterneuburg war stets ein Highlight für sich. Zusammen haben sie wohl jeden Club im Raum Klosterneuburg\, Wien & Tulln bespielt. An diesem einen besonderen Tag werden sie alle gemeinsam das Uferhaus Richtung Saison-Ende einstimmen und das laut & stark.\nLineUp\n\n15-16 Uhr Eisbär\n16-17 Uhr Gneist\n17-18 Uhr Liska\n18-19 Uhr Cloony\n19-20 Uhr Krauter\n20-21 Uhr Winsley\n21-22 Uhr L.P.\n22-23 Uhr Flani\n23-24 Uhr Mares\n00-01 Uhr Roy Green\n\nFreier Eintritt! Musikbeitrag € 5\nTaschenlampe nicht vergessen!\n\n\nBei Regen findet das Event ab 21 Uhr im Uptown statt!!
URL:https://www.stadtmarketing-klosterneuburg.at/veranstaltung/kburg-edition-uferhaus/
LOCATION:Uferhaus\, Rollfährestraße 200\, Klosterneuburg\, 3400\, Austria
CATEGORIES:Clubbings & Parties,Kulinarik & Wein,Kunst & Kultur,Musik & Konzerte
ATTACH;FMTTYPE=image/jpeg:https://www.stadtmarketing-klosterneuburg.at/wp-content/uploads/2023/09/KBurg-Edition-c-Uferhaus.jpg
END:VEVENT
BEGIN:VEVENT
DTSTART;TZID=Europe/Vienna:20230917T140000
DTEND;TZID=Europe/Vienna:20230917T233000
DTSTAMP:20260422T161502
CREATED:20230910T100919Z
LAST-MODIFIED:20230925T081625Z
UID:10027736-1694959200-1694993400@www.stadtmarketing-klosterneuburg.at
SUMMARY:Weekend @Uferhaus
DESCRIPTION:mit DJ Eisbær\nab 14 Uhr geht es los…
URL:https://www.stadtmarketing-klosterneuburg.at/veranstaltung/weekend-uferhaus-14/2023-09-17/
LOCATION:Uferhaus\, Rollfährestraße 200\, Klosterneuburg\, 3400\, Austria
CATEGORIES:Clubbings & Parties,Kulinarik & Wein,Kunst & Kultur,Musik & Konzerte
ATTACH;FMTTYPE=image/jpeg:https://www.stadtmarketing-klosterneuburg.at/wp-content/uploads/2022/04/Uferhaus-c-Uferhaus.jpg
END:VEVENT
BEGIN:VEVENT
DTSTART;TZID=Europe/Vienna:20230916T140000
DTEND;TZID=Europe/Vienna:20230916T233000
DTSTAMP:20260422T161502
CREATED:20230910T100919Z
LAST-MODIFIED:20230925T081625Z
UID:10027735-1694872800-1694907000@www.stadtmarketing-klosterneuburg.at
SUMMARY:Weekend @Uferhaus
DESCRIPTION:mit DJ Eisbær\nab 14 Uhr geht es los…
URL:https://www.stadtmarketing-klosterneuburg.at/veranstaltung/weekend-uferhaus-14/2023-09-16/
LOCATION:Uferhaus\, Rollfährestraße 200\, Klosterneuburg\, 3400\, Austria
CATEGORIES:Clubbings & Parties,Kulinarik & Wein,Kunst & Kultur,Musik & Konzerte
ATTACH;FMTTYPE=image/jpeg:https://www.stadtmarketing-klosterneuburg.at/wp-content/uploads/2022/04/Uferhaus-c-Uferhaus.jpg
END:VEVENT
BEGIN:VEVENT
DTSTART;TZID=Europe/Vienna:20230915T140000
DTEND;TZID=Europe/Vienna:20230915T233000
DTSTAMP:20260422T161502
CREATED:20230910T100919Z
LAST-MODIFIED:20230925T081625Z
UID:10027734-1694786400-1694820600@www.stadtmarketing-klosterneuburg.at
SUMMARY:Weekend @Uferhaus
DESCRIPTION:mit DJ Eisbær\nab 14 Uhr geht es los…
URL:https://www.stadtmarketing-klosterneuburg.at/veranstaltung/weekend-uferhaus-14/2023-09-15/
LOCATION:Uferhaus\, Rollfährestraße 200\, Klosterneuburg\, 3400\, Austria
CATEGORIES:Clubbings & Parties,Kulinarik & Wein,Kunst & Kultur,Musik & Konzerte
ATTACH;FMTTYPE=image/jpeg:https://www.stadtmarketing-klosterneuburg.at/wp-content/uploads/2022/04/Uferhaus-c-Uferhaus.jpg
END:VEVENT
BEGIN:VEVENT
DTSTART;TZID=Europe/Vienna:20230904T140000
DTEND;TZID=Europe/Vienna:20230904T233000
DTSTAMP:20260422T161502
CREATED:20230903T075724Z
LAST-MODIFIED:20230903T075738Z
UID:10027569-1693836000-1693870200@www.stadtmarketing-klosterneuburg.at
SUMMARY:Back to school @Uferhaus
DESCRIPTION:DJ Eisbær\nab 14 Uhr geht es los…
URL:https://www.stadtmarketing-klosterneuburg.at/veranstaltung/back-to-school-uferhaus/
LOCATION:Uferhaus\, Rollfährestraße 200\, Klosterneuburg\, 3400\, Austria
CATEGORIES:Clubbings & Parties,Kulinarik & Wein,Kunst & Kultur,Musik & Konzerte
ATTACH;FMTTYPE=image/jpeg:https://www.stadtmarketing-klosterneuburg.at/wp-content/uploads/2022/04/Uferhaus-c-Uferhaus.jpg
END:VEVENT
BEGIN:VEVENT
DTSTART;TZID=Europe/Vienna:20230903T140000
DTEND;TZID=Europe/Vienna:20230903T233000
DTSTAMP:20260422T161502
CREATED:20230825T092938Z
LAST-MODIFIED:20230825T092938Z
UID:10027506-1693749600-1693783800@www.stadtmarketing-klosterneuburg.at
SUMMARY:Weekend @Uferhaus
DESCRIPTION:Freitag\, 1.9. / 14 Uhr / DJ Simon Krauter\nSamstag\, 2.9. / 14 Uhr / DJane Pia\nSonntag\, 3.9. / 14 Uhr / DJ Eisbær
URL:https://www.stadtmarketing-klosterneuburg.at/veranstaltung/weekend-uferhaus-12/2023-09-03/
LOCATION:Uferhaus\, Rollfährestraße 200\, Klosterneuburg\, 3400\, Austria
CATEGORIES:Clubbings & Parties,Kulinarik & Wein,Kunst & Kultur,Musik & Konzerte
ATTACH;FMTTYPE=image/jpeg:https://www.stadtmarketing-klosterneuburg.at/wp-content/uploads/2022/04/Uferhaus-c-Uferhaus.jpg
END:VEVENT
BEGIN:VEVENT
DTSTART;TZID=Europe/Vienna:20230902T140000
DTEND;TZID=Europe/Vienna:20230902T233000
DTSTAMP:20260422T161502
CREATED:20230825T092938Z
LAST-MODIFIED:20230825T092938Z
UID:10027505-1693663200-1693697400@www.stadtmarketing-klosterneuburg.at
SUMMARY:Weekend @Uferhaus
DESCRIPTION:Freitag\, 1.9. / 14 Uhr / DJ Simon Krauter\nSamstag\, 2.9. / 14 Uhr / DJane Pia\nSonntag\, 3.9. / 14 Uhr / DJ Eisbær
URL:https://www.stadtmarketing-klosterneuburg.at/veranstaltung/weekend-uferhaus-12/2023-09-02/
LOCATION:Uferhaus\, Rollfährestraße 200\, Klosterneuburg\, 3400\, Austria
CATEGORIES:Clubbings & Parties,Kulinarik & Wein,Kunst & Kultur,Musik & Konzerte
ATTACH;FMTTYPE=image/jpeg:https://www.stadtmarketing-klosterneuburg.at/wp-content/uploads/2022/04/Uferhaus-c-Uferhaus.jpg
END:VEVENT
BEGIN:VEVENT
DTSTART;TZID=Europe/Vienna:20230901T163000
DTEND;TZID=Europe/Vienna:20230901T220000
DTSTAMP:20260422T161502
CREATED:20230808T151621Z
LAST-MODIFIED:20230901T135052Z
UID:10027438-1693585800-1693605600@www.stadtmarketing-klosterneuburg.at
SUMMARY:Beer Pong Turnier
DESCRIPTION:Teilnahme:\n\nTeampartner wählen\nTeamname aussuchen\n\nAnmeldung über Social Media Uferhaus!
URL:https://www.stadtmarketing-klosterneuburg.at/veranstaltung/beer-pong-turnier/
LOCATION:Uferhaus\, Rollfährestraße 200\, Klosterneuburg\, 3400\, Austria
CATEGORIES:Clubbings & Parties,Kulinarik & Wein,Wettbewerbe
ATTACH;FMTTYPE=image/jpeg:https://www.stadtmarketing-klosterneuburg.at/wp-content/uploads/2023/08/Beer-Pong-c-Uferhaus.jpg
END:VEVENT
BEGIN:VEVENT
DTSTART;TZID=Europe/Vienna:20230901T140000
DTEND;TZID=Europe/Vienna:20230901T233000
DTSTAMP:20260422T161502
CREATED:20230825T092938Z
LAST-MODIFIED:20230825T092938Z
UID:10027504-1693576800-1693611000@www.stadtmarketing-klosterneuburg.at
SUMMARY:Weekend @Uferhaus
DESCRIPTION:Freitag\, 1.9. / 14 Uhr / DJ Simon Krauter\nSamstag\, 2.9. / 14 Uhr / DJane Pia\nSonntag\, 3.9. / 14 Uhr / DJ Eisbær
URL:https://www.stadtmarketing-klosterneuburg.at/veranstaltung/weekend-uferhaus-12/2023-09-01/
LOCATION:Uferhaus\, Rollfährestraße 200\, Klosterneuburg\, 3400\, Austria
CATEGORIES:Clubbings & Parties,Kulinarik & Wein,Kunst & Kultur,Musik & Konzerte
ATTACH;FMTTYPE=image/jpeg:https://www.stadtmarketing-klosterneuburg.at/wp-content/uploads/2022/04/Uferhaus-c-Uferhaus.jpg
END:VEVENT
BEGIN:VEVENT
DTSTART;TZID=Europe/Vienna:20230827T140000
DTEND;TZID=Europe/Vienna:20230827T233000
DTSTAMP:20260422T161502
CREATED:20230822T072813Z
LAST-MODIFIED:20230822T072827Z
UID:10027480-1693144800-1693179000@www.stadtmarketing-klosterneuburg.at
SUMMARY:Weekend @Uferhaus
DESCRIPTION:Freitag\, 25.8. / 14 Uhr / DJ Dan The Head\nSamstag\, 26.8. / 14 Uhr / DJ Ebijay\nSonntag\, 27.8. / 14 Uhr / DJ Eisbær
URL:https://www.stadtmarketing-klosterneuburg.at/veranstaltung/weekend-uferhaus-11/2023-08-27/
LOCATION:Uferhaus\, Rollfährestraße 200\, Klosterneuburg\, 3400\, Austria
CATEGORIES:Clubbings & Parties,Kulinarik & Wein,Kunst & Kultur,Musik & Konzerte
ATTACH;FMTTYPE=image/jpeg:https://www.stadtmarketing-klosterneuburg.at/wp-content/uploads/2022/04/Uferhaus-c-Uferhaus.jpg
END:VEVENT
BEGIN:VEVENT
DTSTART;TZID=Europe/Vienna:20230826T140000
DTEND;TZID=Europe/Vienna:20230826T233000
DTSTAMP:20260422T161502
CREATED:20230822T072813Z
LAST-MODIFIED:20230822T072827Z
UID:10027479-1693058400-1693092600@www.stadtmarketing-klosterneuburg.at
SUMMARY:Weekend @Uferhaus
DESCRIPTION:Freitag\, 25.8. / 14 Uhr / DJ Dan The Head\nSamstag\, 26.8. / 14 Uhr / DJ Ebijay\nSonntag\, 27.8. / 14 Uhr / DJ Eisbær
URL:https://www.stadtmarketing-klosterneuburg.at/veranstaltung/weekend-uferhaus-11/2023-08-26/
LOCATION:Uferhaus\, Rollfährestraße 200\, Klosterneuburg\, 3400\, Austria
CATEGORIES:Clubbings & Parties,Kulinarik & Wein,Kunst & Kultur,Musik & Konzerte
ATTACH;FMTTYPE=image/jpeg:https://www.stadtmarketing-klosterneuburg.at/wp-content/uploads/2022/04/Uferhaus-c-Uferhaus.jpg
END:VEVENT
BEGIN:VEVENT
DTSTART;TZID=Europe/Vienna:20230825T140000
DTEND;TZID=Europe/Vienna:20230825T233000
DTSTAMP:20260422T161502
CREATED:20230822T072813Z
LAST-MODIFIED:20230822T072827Z
UID:10027478-1692972000-1693006200@www.stadtmarketing-klosterneuburg.at
SUMMARY:Weekend @Uferhaus
DESCRIPTION:Freitag\, 25.8. / 14 Uhr / DJ Dan The Head\nSamstag\, 26.8. / 14 Uhr / DJ Ebijay\nSonntag\, 27.8. / 14 Uhr / DJ Eisbær
URL:https://www.stadtmarketing-klosterneuburg.at/veranstaltung/weekend-uferhaus-11/2023-08-25/
LOCATION:Uferhaus\, Rollfährestraße 200\, Klosterneuburg\, 3400\, Austria
CATEGORIES:Clubbings & Parties,Kulinarik & Wein,Kunst & Kultur,Musik & Konzerte
ATTACH;FMTTYPE=image/jpeg:https://www.stadtmarketing-klosterneuburg.at/wp-content/uploads/2022/04/Uferhaus-c-Uferhaus.jpg
END:VEVENT
BEGIN:VEVENT
DTSTART;TZID=Europe/Vienna:20230820T140000
DTEND;TZID=Europe/Vienna:20230820T233000
DTSTAMP:20260422T161502
CREATED:20230808T133006Z
LAST-MODIFIED:20230808T152934Z
UID:10027437-1692540000-1692574200@www.stadtmarketing-klosterneuburg.at
SUMMARY:Weekend @Uferhaus
DESCRIPTION:Freitag\, 18.8. / 14 Uhr / DJ Ingo van B\nSamstag\, 19.8. / 14 Uhr / DJane Pia\nSonntag\, 20.8. / 14 Uhr / DJ Eisbær
URL:https://www.stadtmarketing-klosterneuburg.at/veranstaltung/weekend-uferhaus-10/2023-08-20/
LOCATION:Uferhaus\, Rollfährestraße 200\, Klosterneuburg\, 3400\, Austria
CATEGORIES:Clubbings & Parties,Kulinarik & Wein,Kunst & Kultur,Musik & Konzerte
ATTACH;FMTTYPE=image/jpeg:https://www.stadtmarketing-klosterneuburg.at/wp-content/uploads/2022/04/Uferhaus-c-Uferhaus.jpg
END:VEVENT
BEGIN:VEVENT
DTSTART;TZID=Europe/Vienna:20230819T140000
DTEND;TZID=Europe/Vienna:20230819T233000
DTSTAMP:20260422T161502
CREATED:20230808T133006Z
LAST-MODIFIED:20230808T152934Z
UID:10027436-1692453600-1692487800@www.stadtmarketing-klosterneuburg.at
SUMMARY:Weekend @Uferhaus
DESCRIPTION:Freitag\, 18.8. / 14 Uhr / DJ Ingo van B\nSamstag\, 19.8. / 14 Uhr / DJane Pia\nSonntag\, 20.8. / 14 Uhr / DJ Eisbær
URL:https://www.stadtmarketing-klosterneuburg.at/veranstaltung/weekend-uferhaus-10/2023-08-19/
LOCATION:Uferhaus\, Rollfährestraße 200\, Klosterneuburg\, 3400\, Austria
CATEGORIES:Clubbings & Parties,Kulinarik & Wein,Kunst & Kultur,Musik & Konzerte
ATTACH;FMTTYPE=image/jpeg:https://www.stadtmarketing-klosterneuburg.at/wp-content/uploads/2022/04/Uferhaus-c-Uferhaus.jpg
END:VEVENT
BEGIN:VEVENT
DTSTART;TZID=Europe/Vienna:20230818T140000
DTEND;TZID=Europe/Vienna:20230818T233000
DTSTAMP:20260422T161502
CREATED:20230808T133006Z
LAST-MODIFIED:20230808T152934Z
UID:10027435-1692367200-1692401400@www.stadtmarketing-klosterneuburg.at
SUMMARY:Weekend @Uferhaus
DESCRIPTION:Freitag\, 18.8. / 14 Uhr / DJ Ingo van B\nSamstag\, 19.8. / 14 Uhr / DJane Pia\nSonntag\, 20.8. / 14 Uhr / DJ Eisbær
URL:https://www.stadtmarketing-klosterneuburg.at/veranstaltung/weekend-uferhaus-10/2023-08-18/
LOCATION:Uferhaus\, Rollfährestraße 200\, Klosterneuburg\, 3400\, Austria
CATEGORIES:Clubbings & Parties,Kulinarik & Wein,Kunst & Kultur,Musik & Konzerte
ATTACH;FMTTYPE=image/jpeg:https://www.stadtmarketing-klosterneuburg.at/wp-content/uploads/2022/04/Uferhaus-c-Uferhaus.jpg
END:VEVENT
BEGIN:VEVENT
DTSTART;TZID=Europe/Vienna:20230815T140000
DTEND;TZID=Europe/Vienna:20230815T233000
DTSTAMP:20260422T161503
CREATED:20230808T153452Z
LAST-MODIFIED:20230808T153511Z
UID:10027439-1692108000-1692142200@www.stadtmarketing-klosterneuburg.at
SUMMARY:DJ Eisbär @Uferhaus
DESCRIPTION:ab 14 Uhr geht es los…
URL:https://www.stadtmarketing-klosterneuburg.at/veranstaltung/dj-eisbaer-uferhaus-2/
LOCATION:Uferhaus\, Rollfährestraße 200\, Klosterneuburg\, 3400\, Austria
CATEGORIES:Clubbings & Parties,Kulinarik & Wein,Kunst & Kultur,Musik & Konzerte
ATTACH;FMTTYPE=image/jpeg:https://www.stadtmarketing-klosterneuburg.at/wp-content/uploads/2022/04/Uferhaus-c-Uferhaus.jpg
END:VEVENT
BEGIN:VEVENT
DTSTART;TZID=Europe/Vienna:20230813T140000
DTEND;TZID=Europe/Vienna:20230813T233000
DTSTAMP:20260422T161503
CREATED:20230806T083045Z
LAST-MODIFIED:20230809T111256Z
UID:10027356-1691935200-1691969400@www.stadtmarketing-klosterneuburg.at
SUMMARY:Weekend @Uferhaus
DESCRIPTION:Freitag\, 11.8. / 14 Uhr / DJ Eisbær: Italo & Latino Pop\nSamstag\, 12.8. / 14 Uhr / DJ Wiz: Eis am Stiel\nSonntag\, 13.8. / 14 Uhr / DJ Eisbær
URL:https://www.stadtmarketing-klosterneuburg.at/veranstaltung/weekend-uferhaus-9/2023-08-13/
LOCATION:Uferhaus\, Rollfährestraße 200\, Klosterneuburg\, 3400\, Austria
CATEGORIES:Clubbings & Parties,Kulinarik & Wein,Kunst & Kultur,Musik & Konzerte
ATTACH;FMTTYPE=image/jpeg:https://www.stadtmarketing-klosterneuburg.at/wp-content/uploads/2022/04/Uferhaus-c-Uferhaus.jpg
END:VEVENT
BEGIN:VEVENT
DTSTART;TZID=Europe/Vienna:20230812T140000
DTEND;TZID=Europe/Vienna:20230812T233000
DTSTAMP:20260422T161503
CREATED:20230806T083045Z
LAST-MODIFIED:20230809T111256Z
UID:10027355-1691848800-1691883000@www.stadtmarketing-klosterneuburg.at
SUMMARY:Weekend @Uferhaus
DESCRIPTION:Freitag\, 11.8. / 14 Uhr / DJ Eisbær: Italo & Latino Pop\nSamstag\, 12.8. / 14 Uhr / DJ Wiz: Eis am Stiel\nSonntag\, 13.8. / 14 Uhr / DJ Eisbær
URL:https://www.stadtmarketing-klosterneuburg.at/veranstaltung/weekend-uferhaus-9/2023-08-12/
LOCATION:Uferhaus\, Rollfährestraße 200\, Klosterneuburg\, 3400\, Austria
CATEGORIES:Clubbings & Parties,Kulinarik & Wein,Kunst & Kultur,Musik & Konzerte
ATTACH;FMTTYPE=image/jpeg:https://www.stadtmarketing-klosterneuburg.at/wp-content/uploads/2022/04/Uferhaus-c-Uferhaus.jpg
END:VEVENT
BEGIN:VEVENT
DTSTART;TZID=Europe/Vienna:20230811T140000
DTEND;TZID=Europe/Vienna:20230811T233000
DTSTAMP:20260422T161503
CREATED:20230806T083045Z
LAST-MODIFIED:20230809T111256Z
UID:10027354-1691762400-1691796600@www.stadtmarketing-klosterneuburg.at
SUMMARY:Weekend @Uferhaus
DESCRIPTION:Freitag\, 11.8. / 14 Uhr / DJ Eisbær: Italo & Latino Pop\nSamstag\, 12.8. / 14 Uhr / DJ Wiz: Eis am Stiel\nSonntag\, 13.8. / 14 Uhr / DJ Eisbær
URL:https://www.stadtmarketing-klosterneuburg.at/veranstaltung/weekend-uferhaus-9/2023-08-11/
LOCATION:Uferhaus\, Rollfährestraße 200\, Klosterneuburg\, 3400\, Austria
CATEGORIES:Clubbings & Parties,Kulinarik & Wein,Kunst & Kultur,Musik & Konzerte
ATTACH;FMTTYPE=image/jpeg:https://www.stadtmarketing-klosterneuburg.at/wp-content/uploads/2022/04/Uferhaus-c-Uferhaus.jpg
END:VEVENT
END:VCALENDAR