BEGIN:VCALENDAR
VERSION:2.0
PRODID:-//Stadtmarketing Klosterneuburg - ECPv6.15.20//NONSGML v1.0//EN
CALSCALE:GREGORIAN
METHOD:PUBLISH
X-WR-CALNAME:Stadtmarketing Klosterneuburg
X-ORIGINAL-URL:https://www.stadtmarketing-klosterneuburg.at
X-WR-CALDESC:Veranstaltungen für Stadtmarketing Klosterneuburg
REFRESH-INTERVAL;VALUE=DURATION:PT1H
X-Robots-Tag:noindex
X-PUBLISHED-TTL:PT1H
BEGIN:VTIMEZONE
TZID:Europe/Vienna
BEGIN:DAYLIGHT
TZOFFSETFROM:+0100
TZOFFSETTO:+0200
TZNAME:CEST
DTSTART:20220327T010000
END:DAYLIGHT
BEGIN:STANDARD
TZOFFSETFROM:+0200
TZOFFSETTO:+0100
TZNAME:CET
DTSTART:20221030T010000
END:STANDARD
BEGIN:DAYLIGHT
TZOFFSETFROM:+0100
TZOFFSETTO:+0200
TZNAME:CEST
DTSTART:20230326T010000
END:DAYLIGHT
BEGIN:STANDARD
TZOFFSETFROM:+0200
TZOFFSETTO:+0100
TZNAME:CET
DTSTART:20231029T010000
END:STANDARD
BEGIN:DAYLIGHT
TZOFFSETFROM:+0100
TZOFFSETTO:+0200
TZNAME:CEST
DTSTART:20240331T010000
END:DAYLIGHT
BEGIN:STANDARD
TZOFFSETFROM:+0200
TZOFFSETTO:+0100
TZNAME:CET
DTSTART:20241027T010000
END:STANDARD
END:VTIMEZONE
BEGIN:VEVENT
DTSTART;TZID=Europe/Vienna:20230716T140000
DTEND;TZID=Europe/Vienna:20230716T233000
DTSTAMP:20260422T222439
CREATED:20230714T115643Z
LAST-MODIFIED:20230714T115715Z
UID:10027186-1689516000-1689550200@www.stadtmarketing-klosterneuburg.at
SUMMARY:Summerfeeling @Uferhaus
DESCRIPTION:Ferienzeit:\nMontag – Sonntag / jeweils ab 14 Uhr / Summerfeeling mit DJ Eisbær
URL:https://www.stadtmarketing-klosterneuburg.at/veranstaltung/summerfeeling-uferhaus-2/2023-07-16/
LOCATION:Uferhaus\, Rollfährestraße 200\, Klosterneuburg\, 3400\, Austria
CATEGORIES:Clubbings & Parties,Kulinarik & Wein
ATTACH;FMTTYPE=image/jpeg:https://www.stadtmarketing-klosterneuburg.at/wp-content/uploads/2022/04/Uferhaus-c-Uferhaus.jpg
END:VEVENT
BEGIN:VEVENT
DTSTART;TZID=Europe/Vienna:20230715T140000
DTEND;TZID=Europe/Vienna:20230715T233000
DTSTAMP:20260422T222439
CREATED:20230714T115643Z
LAST-MODIFIED:20230714T115715Z
UID:10027185-1689429600-1689463800@www.stadtmarketing-klosterneuburg.at
SUMMARY:Summerfeeling @Uferhaus
DESCRIPTION:Ferienzeit:\nMontag – Sonntag / jeweils ab 14 Uhr / Summerfeeling mit DJ Eisbær
URL:https://www.stadtmarketing-klosterneuburg.at/veranstaltung/summerfeeling-uferhaus-2/2023-07-15/
LOCATION:Uferhaus\, Rollfährestraße 200\, Klosterneuburg\, 3400\, Austria
CATEGORIES:Clubbings & Parties,Kulinarik & Wein
ATTACH;FMTTYPE=image/jpeg:https://www.stadtmarketing-klosterneuburg.at/wp-content/uploads/2022/04/Uferhaus-c-Uferhaus.jpg
END:VEVENT
BEGIN:VEVENT
DTSTART;TZID=Europe/Vienna:20230714T140000
DTEND;TZID=Europe/Vienna:20230714T233000
DTSTAMP:20260422T222439
CREATED:20230714T115643Z
LAST-MODIFIED:20230714T115715Z
UID:10027221-1689343200-1689377400@www.stadtmarketing-klosterneuburg.at
SUMMARY:Summerfeeling @Uferhaus
DESCRIPTION:Ferienzeit:\nMontag – Sonntag / jeweils ab 14 Uhr / Summerfeeling mit DJ Eisbær
URL:https://www.stadtmarketing-klosterneuburg.at/veranstaltung/summerfeeling-uferhaus-2/2023-07-14/
LOCATION:Uferhaus\, Rollfährestraße 200\, Klosterneuburg\, 3400\, Austria
CATEGORIES:Clubbings & Parties,Kulinarik & Wein
ATTACH;FMTTYPE=image/jpeg:https://www.stadtmarketing-klosterneuburg.at/wp-content/uploads/2022/04/Uferhaus-c-Uferhaus.jpg
END:VEVENT
BEGIN:VEVENT
DTSTART;TZID=Europe/Vienna:20230713T140000
DTEND;TZID=Europe/Vienna:20230713T233000
DTSTAMP:20260422T222439
CREATED:20230714T115643Z
LAST-MODIFIED:20230714T115715Z
UID:10027220-1689256800-1689291000@www.stadtmarketing-klosterneuburg.at
SUMMARY:Summerfeeling @Uferhaus
DESCRIPTION:Ferienzeit:\nMontag – Sonntag / jeweils ab 14 Uhr / Summerfeeling mit DJ Eisbær
URL:https://www.stadtmarketing-klosterneuburg.at/veranstaltung/summerfeeling-uferhaus-2/2023-07-13/
LOCATION:Uferhaus\, Rollfährestraße 200\, Klosterneuburg\, 3400\, Austria
CATEGORIES:Clubbings & Parties,Kulinarik & Wein
ATTACH;FMTTYPE=image/jpeg:https://www.stadtmarketing-klosterneuburg.at/wp-content/uploads/2022/04/Uferhaus-c-Uferhaus.jpg
END:VEVENT
BEGIN:VEVENT
DTSTART;TZID=Europe/Vienna:20230712T140000
DTEND;TZID=Europe/Vienna:20230712T233000
DTSTAMP:20260422T222439
CREATED:20230714T115643Z
LAST-MODIFIED:20230714T115715Z
UID:10027219-1689170400-1689204600@www.stadtmarketing-klosterneuburg.at
SUMMARY:Summerfeeling @Uferhaus
DESCRIPTION:Ferienzeit:\nMontag – Sonntag / jeweils ab 14 Uhr / Summerfeeling mit DJ Eisbær
URL:https://www.stadtmarketing-klosterneuburg.at/veranstaltung/summerfeeling-uferhaus-2/2023-07-12/
LOCATION:Uferhaus\, Rollfährestraße 200\, Klosterneuburg\, 3400\, Austria
CATEGORIES:Clubbings & Parties,Kulinarik & Wein
ATTACH;FMTTYPE=image/jpeg:https://www.stadtmarketing-klosterneuburg.at/wp-content/uploads/2022/04/Uferhaus-c-Uferhaus.jpg
END:VEVENT
BEGIN:VEVENT
DTSTART;TZID=Europe/Vienna:20230711T140000
DTEND;TZID=Europe/Vienna:20230711T233000
DTSTAMP:20260422T222439
CREATED:20230714T115643Z
LAST-MODIFIED:20230714T115715Z
UID:10027218-1689084000-1689118200@www.stadtmarketing-klosterneuburg.at
SUMMARY:Summerfeeling @Uferhaus
DESCRIPTION:Ferienzeit:\nMontag – Sonntag / jeweils ab 14 Uhr / Summerfeeling mit DJ Eisbær
URL:https://www.stadtmarketing-klosterneuburg.at/veranstaltung/summerfeeling-uferhaus-2/2023-07-11/
LOCATION:Uferhaus\, Rollfährestraße 200\, Klosterneuburg\, 3400\, Austria
CATEGORIES:Clubbings & Parties,Kulinarik & Wein
ATTACH;FMTTYPE=image/jpeg:https://www.stadtmarketing-klosterneuburg.at/wp-content/uploads/2022/04/Uferhaus-c-Uferhaus.jpg
END:VEVENT
BEGIN:VEVENT
DTSTART;TZID=Europe/Vienna:20230710T140000
DTEND;TZID=Europe/Vienna:20230710T233000
DTSTAMP:20260422T222439
CREATED:20230714T115643Z
LAST-MODIFIED:20230714T115715Z
UID:10027184-1688997600-1689031800@www.stadtmarketing-klosterneuburg.at
SUMMARY:Summerfeeling @Uferhaus
DESCRIPTION:Ferienzeit:\nMontag – Sonntag / jeweils ab 14 Uhr / Summerfeeling mit DJ Eisbær
URL:https://www.stadtmarketing-klosterneuburg.at/veranstaltung/summerfeeling-uferhaus-2/2023-07-10/
LOCATION:Uferhaus\, Rollfährestraße 200\, Klosterneuburg\, 3400\, Austria
CATEGORIES:Clubbings & Parties,Kulinarik & Wein
ATTACH;FMTTYPE=image/jpeg:https://www.stadtmarketing-klosterneuburg.at/wp-content/uploads/2022/04/Uferhaus-c-Uferhaus.jpg
END:VEVENT
BEGIN:VEVENT
DTSTART;TZID=Europe/Vienna:20230709T140000
DTEND;TZID=Europe/Vienna:20230709T233000
DTSTAMP:20260422T222439
CREATED:20230703T121015Z
LAST-MODIFIED:20230703T121015Z
UID:10027140-1688911200-1688945400@www.stadtmarketing-klosterneuburg.at
SUMMARY:Weekend @Uferhaus
DESCRIPTION:Freitag\, 7.7. / 14 Uhr / DJ Eisbær\nSamstag\, 8.7. / 14 Uhr / DJ Dan The Head\nSonntag\, 9.7. / 14 Uhr / DJ Eisbær
URL:https://www.stadtmarketing-klosterneuburg.at/veranstaltung/weekend-uferhaus-6/2023-07-09/
LOCATION:Uferhaus\, Rollfährestraße 200\, Klosterneuburg\, 3400\, Austria
CATEGORIES:Clubbings & Parties,Kulinarik & Wein,Musik & Konzerte
ATTACH;FMTTYPE=image/jpeg:https://www.stadtmarketing-klosterneuburg.at/wp-content/uploads/2022/04/Uferhaus-c-Uferhaus.jpg
END:VEVENT
BEGIN:VEVENT
DTSTART;TZID=Europe/Vienna:20230708T140000
DTEND;TZID=Europe/Vienna:20230708T233000
DTSTAMP:20260422T222439
CREATED:20230703T121015Z
LAST-MODIFIED:20230703T121015Z
UID:10027139-1688824800-1688859000@www.stadtmarketing-klosterneuburg.at
SUMMARY:Weekend @Uferhaus
DESCRIPTION:Freitag\, 7.7. / 14 Uhr / DJ Eisbær\nSamstag\, 8.7. / 14 Uhr / DJ Dan The Head\nSonntag\, 9.7. / 14 Uhr / DJ Eisbær
URL:https://www.stadtmarketing-klosterneuburg.at/veranstaltung/weekend-uferhaus-6/2023-07-08/
LOCATION:Uferhaus\, Rollfährestraße 200\, Klosterneuburg\, 3400\, Austria
CATEGORIES:Clubbings & Parties,Kulinarik & Wein,Musik & Konzerte
ATTACH;FMTTYPE=image/jpeg:https://www.stadtmarketing-klosterneuburg.at/wp-content/uploads/2022/04/Uferhaus-c-Uferhaus.jpg
END:VEVENT
BEGIN:VEVENT
DTSTART;TZID=Europe/Vienna:20230707T140000
DTEND;TZID=Europe/Vienna:20230707T233000
DTSTAMP:20260422T222439
CREATED:20230703T121015Z
LAST-MODIFIED:20230703T121015Z
UID:10027138-1688738400-1688772600@www.stadtmarketing-klosterneuburg.at
SUMMARY:Weekend @Uferhaus
DESCRIPTION:Freitag\, 7.7. / 14 Uhr / DJ Eisbær\nSamstag\, 8.7. / 14 Uhr / DJ Dan The Head\nSonntag\, 9.7. / 14 Uhr / DJ Eisbær
URL:https://www.stadtmarketing-klosterneuburg.at/veranstaltung/weekend-uferhaus-6/2023-07-07/
LOCATION:Uferhaus\, Rollfährestraße 200\, Klosterneuburg\, 3400\, Austria
CATEGORIES:Clubbings & Parties,Kulinarik & Wein,Musik & Konzerte
ATTACH;FMTTYPE=image/jpeg:https://www.stadtmarketing-klosterneuburg.at/wp-content/uploads/2022/04/Uferhaus-c-Uferhaus.jpg
END:VEVENT
BEGIN:VEVENT
DTSTART;TZID=Europe/Vienna:20230702T140000
DTEND;TZID=Europe/Vienna:20230702T233000
DTSTAMP:20260422T222439
CREATED:20230626T142147Z
LAST-MODIFIED:20230626T142147Z
UID:10027032-1688306400-1688340600@www.stadtmarketing-klosterneuburg.at
SUMMARY:Weekend @Uferhaus
DESCRIPTION:Freitag\, 30.6. / 14 Uhr / DJ Eisbær – Uferhausmusik\nFreitag\, 30.6. / 16.30 Uhr / DJ Luis – Beer Pong\nSamstag\, 1.7. / 14 Uhr / DJ Winsley – UferHouse\nSonntag\, 2.7. / 14 Uhr / DJ Eisbær – Italo
URL:https://www.stadtmarketing-klosterneuburg.at/veranstaltung/weekend-uferhaus-5/2023-07-02/
LOCATION:Uferhaus\, Rollfährestraße 200\, Klosterneuburg\, 3400\, Austria
CATEGORIES:Clubbings & Parties,Kulinarik & Wein,Musik & Konzerte
ATTACH;FMTTYPE=image/jpeg:https://www.stadtmarketing-klosterneuburg.at/wp-content/uploads/2022/04/Uferhaus-c-Uferhaus.jpg
END:VEVENT
BEGIN:VEVENT
DTSTART;TZID=Europe/Vienna:20230701T140000
DTEND;TZID=Europe/Vienna:20230701T233000
DTSTAMP:20260422T222439
CREATED:20230626T142147Z
LAST-MODIFIED:20230626T142147Z
UID:10027031-1688220000-1688254200@www.stadtmarketing-klosterneuburg.at
SUMMARY:Weekend @Uferhaus
DESCRIPTION:Freitag\, 30.6. / 14 Uhr / DJ Eisbær – Uferhausmusik\nFreitag\, 30.6. / 16.30 Uhr / DJ Luis – Beer Pong\nSamstag\, 1.7. / 14 Uhr / DJ Winsley – UferHouse\nSonntag\, 2.7. / 14 Uhr / DJ Eisbær – Italo
URL:https://www.stadtmarketing-klosterneuburg.at/veranstaltung/weekend-uferhaus-5/2023-07-01/
LOCATION:Uferhaus\, Rollfährestraße 200\, Klosterneuburg\, 3400\, Austria
CATEGORIES:Clubbings & Parties,Kulinarik & Wein,Musik & Konzerte
ATTACH;FMTTYPE=image/jpeg:https://www.stadtmarketing-klosterneuburg.at/wp-content/uploads/2022/04/Uferhaus-c-Uferhaus.jpg
END:VEVENT
BEGIN:VEVENT
DTSTART;TZID=Europe/Vienna:20230630T140000
DTEND;TZID=Europe/Vienna:20230630T233000
DTSTAMP:20260422T222439
CREATED:20230626T142147Z
LAST-MODIFIED:20230626T142147Z
UID:10027029-1688133600-1688167800@www.stadtmarketing-klosterneuburg.at
SUMMARY:Weekend @Uferhaus
DESCRIPTION:Freitag\, 30.6. / 14 Uhr / DJ Eisbær – Uferhausmusik\nFreitag\, 30.6. / 16.30 Uhr / DJ Luis – Beer Pong\nSamstag\, 1.7. / 14 Uhr / DJ Winsley – UferHouse\nSonntag\, 2.7. / 14 Uhr / DJ Eisbær – Italo
URL:https://www.stadtmarketing-klosterneuburg.at/veranstaltung/weekend-uferhaus-5/2023-06-30/
LOCATION:Uferhaus\, Rollfährestraße 200\, Klosterneuburg\, 3400\, Austria
CATEGORIES:Clubbings & Parties,Kulinarik & Wein,Musik & Konzerte
ATTACH;FMTTYPE=image/jpeg:https://www.stadtmarketing-klosterneuburg.at/wp-content/uploads/2022/04/Uferhaus-c-Uferhaus.jpg
END:VEVENT
BEGIN:VEVENT
DTSTART;TZID=Europe/Vienna:20230627T140000
DTEND;TZID=Europe/Vienna:20230627T233000
DTSTAMP:20260422T222439
CREATED:20230626T141925Z
LAST-MODIFIED:20230626T142249Z
UID:10027030-1687874400-1687908600@www.stadtmarketing-klosterneuburg.at
SUMMARY:Tuesday Session @Uferhaus
DESCRIPTION:Tuesday Session ab 14h mit DJ Eisbær
URL:https://www.stadtmarketing-klosterneuburg.at/veranstaltung/weekend-uferhaus-4/
LOCATION:Uferhaus\, Rollfährestraße 200\, Klosterneuburg\, 3400\, Austria
CATEGORIES:Clubbings & Parties,Kulinarik & Wein,Musik & Konzerte
ATTACH;FMTTYPE=image/jpeg:https://www.stadtmarketing-klosterneuburg.at/wp-content/uploads/2022/04/Uferhaus-c-Uferhaus.jpg
END:VEVENT
BEGIN:VEVENT
DTSTART;TZID=Europe/Vienna:20230625T140000
DTEND;TZID=Europe/Vienna:20230625T233000
DTSTAMP:20260422T222439
CREATED:20230620T143236Z
LAST-MODIFIED:20230624T103759Z
UID:10026972-1687701600-1687735800@www.stadtmarketing-klosterneuburg.at
SUMMARY:Weekend @Uferhaus
DESCRIPTION:…mit DJ Eisbær \n\nMittwoch\, 21.6. ab 14 Uhr / Sonnwendfeuer mit House\n\n  \n\nFreitag\, 23.6. ab 14 Uhr / Uferhaus Karaoke (Bei Schlechtwetter: Ersatztermin im September) – verschoben auf 8.9. !\nSamstag\, 24.6. ab 14 Uhr / Summer Feeling\nSonntag\, 25.6. ab 14 Uhr / Uferhaus Worldmusic\n\n 
URL:https://www.stadtmarketing-klosterneuburg.at/veranstaltung/weekend-uferhaus-3/2023-06-25/
LOCATION:Uferhaus\, Rollfährestraße 200\, Klosterneuburg\, 3400\, Austria
CATEGORIES:Clubbings & Parties,Kulinarik & Wein,Musik & Konzerte
ATTACH;FMTTYPE=image/jpeg:https://www.stadtmarketing-klosterneuburg.at/wp-content/uploads/2022/04/Uferhaus-c-Uferhaus.jpg
END:VEVENT
BEGIN:VEVENT
DTSTART;TZID=Europe/Vienna:20230624T140000
DTEND;TZID=Europe/Vienna:20230624T233000
DTSTAMP:20260422T222439
CREATED:20230620T143236Z
LAST-MODIFIED:20230624T103759Z
UID:10026971-1687615200-1687649400@www.stadtmarketing-klosterneuburg.at
SUMMARY:Weekend @Uferhaus
DESCRIPTION:…mit DJ Eisbær \n\nMittwoch\, 21.6. ab 14 Uhr / Sonnwendfeuer mit House\n\n  \n\nFreitag\, 23.6. ab 14 Uhr / Uferhaus Karaoke (Bei Schlechtwetter: Ersatztermin im September) – verschoben auf 8.9. !\nSamstag\, 24.6. ab 14 Uhr / Summer Feeling\nSonntag\, 25.6. ab 14 Uhr / Uferhaus Worldmusic\n\n 
URL:https://www.stadtmarketing-klosterneuburg.at/veranstaltung/weekend-uferhaus-3/2023-06-24/
LOCATION:Uferhaus\, Rollfährestraße 200\, Klosterneuburg\, 3400\, Austria
CATEGORIES:Clubbings & Parties,Kulinarik & Wein,Musik & Konzerte
ATTACH;FMTTYPE=image/jpeg:https://www.stadtmarketing-klosterneuburg.at/wp-content/uploads/2022/04/Uferhaus-c-Uferhaus.jpg
END:VEVENT
BEGIN:VEVENT
DTSTART;TZID=Europe/Vienna:20230623T140000
DTEND;TZID=Europe/Vienna:20230623T233000
DTSTAMP:20260422T222439
CREATED:20230620T143236Z
LAST-MODIFIED:20230624T103759Z
UID:10026970-1687528800-1687563000@www.stadtmarketing-klosterneuburg.at
SUMMARY:Weekend @Uferhaus
DESCRIPTION:…mit DJ Eisbær \n\nMittwoch\, 21.6. ab 14 Uhr / Sonnwendfeuer mit House\n\n  \n\nFreitag\, 23.6. ab 14 Uhr / Uferhaus Karaoke (Bei Schlechtwetter: Ersatztermin im September) – verschoben auf 8.9. !\nSamstag\, 24.6. ab 14 Uhr / Summer Feeling\nSonntag\, 25.6. ab 14 Uhr / Uferhaus Worldmusic\n\n 
URL:https://www.stadtmarketing-klosterneuburg.at/veranstaltung/weekend-uferhaus-3/2023-06-23/
LOCATION:Uferhaus\, Rollfährestraße 200\, Klosterneuburg\, 3400\, Austria
CATEGORIES:Clubbings & Parties,Kulinarik & Wein,Musik & Konzerte
ATTACH;FMTTYPE=image/jpeg:https://www.stadtmarketing-klosterneuburg.at/wp-content/uploads/2022/04/Uferhaus-c-Uferhaus.jpg
END:VEVENT
BEGIN:VEVENT
DTSTART;TZID=Europe/Vienna:20230621T140000
DTEND;TZID=Europe/Vienna:20230621T233000
DTSTAMP:20260422T222439
CREATED:20230620T143236Z
LAST-MODIFIED:20230624T103759Z
UID:10026898-1687356000-1687390200@www.stadtmarketing-klosterneuburg.at
SUMMARY:Weekend @Uferhaus
DESCRIPTION:…mit DJ Eisbær \n\nMittwoch\, 21.6. ab 14 Uhr / Sonnwendfeuer mit House\n\n  \n\nFreitag\, 23.6. ab 14 Uhr / Uferhaus Karaoke (Bei Schlechtwetter: Ersatztermin im September) – verschoben auf 8.9. !\nSamstag\, 24.6. ab 14 Uhr / Summer Feeling\nSonntag\, 25.6. ab 14 Uhr / Uferhaus Worldmusic\n\n 
URL:https://www.stadtmarketing-klosterneuburg.at/veranstaltung/weekend-uferhaus-3/2023-06-21/
LOCATION:Uferhaus\, Rollfährestraße 200\, Klosterneuburg\, 3400\, Austria
CATEGORIES:Clubbings & Parties,Kulinarik & Wein,Musik & Konzerte
ATTACH;FMTTYPE=image/jpeg:https://www.stadtmarketing-klosterneuburg.at/wp-content/uploads/2022/04/Uferhaus-c-Uferhaus.jpg
END:VEVENT
BEGIN:VEVENT
DTSTART;TZID=Europe/Vienna:20230618T140000
DTEND;TZID=Europe/Vienna:20230618T233000
DTSTAMP:20260422T222439
CREATED:20230612T095306Z
LAST-MODIFIED:20230612T095306Z
UID:10026900-1687096800-1687131000@www.stadtmarketing-klosterneuburg.at
SUMMARY:Weekend @Uferhaus
DESCRIPTION:Freitag\, 16.6. ab 14 Uhr / Funky Friday – Funk mit DJ Eisbær / ab 18.30 Uhr / Sundowner mit Sax N Soul & Support DJane Sarah van B\nSamstag\, 17.6. ab 14 Uhr / Back to the 80ies – 80er Hits mit DJ Eisbær\nSonntag\, 18.6. ab 14 Uhr / Flower Power – 60er & 70er Hits mit DJ Eisbær
URL:https://www.stadtmarketing-klosterneuburg.at/veranstaltung/weekend-uferhaus-2/2023-06-18/
LOCATION:Uferhaus\, Rollfährestraße 200\, Klosterneuburg\, 3400\, Austria
CATEGORIES:Clubbings & Parties,Kulinarik & Wein,Kunst & Kultur,Musik & Konzerte
ATTACH;FMTTYPE=image/jpeg:https://www.stadtmarketing-klosterneuburg.at/wp-content/uploads/2022/04/Uferhaus-c-Uferhaus.jpg
END:VEVENT
BEGIN:VEVENT
DTSTART;TZID=Europe/Vienna:20230617T140000
DTEND;TZID=Europe/Vienna:20230617T233000
DTSTAMP:20260422T222439
CREATED:20230612T095306Z
LAST-MODIFIED:20230612T095306Z
UID:10026899-1687010400-1687044600@www.stadtmarketing-klosterneuburg.at
SUMMARY:Weekend @Uferhaus
DESCRIPTION:Freitag\, 16.6. ab 14 Uhr / Funky Friday – Funk mit DJ Eisbær / ab 18.30 Uhr / Sundowner mit Sax N Soul & Support DJane Sarah van B\nSamstag\, 17.6. ab 14 Uhr / Back to the 80ies – 80er Hits mit DJ Eisbær\nSonntag\, 18.6. ab 14 Uhr / Flower Power – 60er & 70er Hits mit DJ Eisbær
URL:https://www.stadtmarketing-klosterneuburg.at/veranstaltung/weekend-uferhaus-2/2023-06-17/
LOCATION:Uferhaus\, Rollfährestraße 200\, Klosterneuburg\, 3400\, Austria
CATEGORIES:Clubbings & Parties,Kulinarik & Wein,Kunst & Kultur,Musik & Konzerte
ATTACH;FMTTYPE=image/jpeg:https://www.stadtmarketing-klosterneuburg.at/wp-content/uploads/2022/04/Uferhaus-c-Uferhaus.jpg
END:VEVENT
BEGIN:VEVENT
DTSTART;TZID=Europe/Vienna:20230616T140000
DTEND;TZID=Europe/Vienna:20230616T233000
DTSTAMP:20260422T222439
CREATED:20230612T095306Z
LAST-MODIFIED:20230612T095306Z
UID:10026897-1686924000-1686958200@www.stadtmarketing-klosterneuburg.at
SUMMARY:Weekend @Uferhaus
DESCRIPTION:Freitag\, 16.6. ab 14 Uhr / Funky Friday – Funk mit DJ Eisbær / ab 18.30 Uhr / Sundowner mit Sax N Soul & Support DJane Sarah van B\nSamstag\, 17.6. ab 14 Uhr / Back to the 80ies – 80er Hits mit DJ Eisbær\nSonntag\, 18.6. ab 14 Uhr / Flower Power – 60er & 70er Hits mit DJ Eisbær
URL:https://www.stadtmarketing-klosterneuburg.at/veranstaltung/weekend-uferhaus-2/2023-06-16/
LOCATION:Uferhaus\, Rollfährestraße 200\, Klosterneuburg\, 3400\, Austria
CATEGORIES:Clubbings & Parties,Kulinarik & Wein,Kunst & Kultur,Musik & Konzerte
ATTACH;FMTTYPE=image/jpeg:https://www.stadtmarketing-klosterneuburg.at/wp-content/uploads/2022/04/Uferhaus-c-Uferhaus.jpg
END:VEVENT
BEGIN:VEVENT
DTSTART;TZID=Europe/Vienna:20230613T140000
DTEND;TZID=Europe/Vienna:20230613T233000
DTSTAMP:20260422T222439
CREATED:20230612T104606Z
LAST-MODIFIED:20230612T104648Z
UID:10026901-1686664800-1686699000@www.stadtmarketing-klosterneuburg.at
SUMMARY:Chill House @Uferhaus
DESCRIPTION:mit DJ Eisbær\nab 14 Uhr geht es los…
URL:https://www.stadtmarketing-klosterneuburg.at/veranstaltung/chill-house-uferhaus/
LOCATION:Uferhaus\, Rollfährestraße 200\, Klosterneuburg\, 3400\, Austria
CATEGORIES:Clubbings & Parties,Kulinarik & Wein,Kunst & Kultur,Musik & Konzerte
ATTACH;FMTTYPE=image/jpeg:https://www.stadtmarketing-klosterneuburg.at/wp-content/uploads/2022/04/Uferhaus-c-Uferhaus.jpg
END:VEVENT
BEGIN:VEVENT
DTSTART;TZID=Europe/Vienna:20230611T140000
DTEND;TZID=Europe/Vienna:20230611T233000
DTSTAMP:20260422T222439
CREATED:20230606T122601Z
LAST-MODIFIED:20230606T124529Z
UID:10026800-1686492000-1686526200@www.stadtmarketing-klosterneuburg.at
SUMMARY:Weekend @Uferhaus
DESCRIPTION:Donnerstag\, 8.6. ab 14 Uhr / DJ Martino Enrico – Il Giorno Italiano\nFreitag\, 9.6. ab 14 Uhr / DJ Autan – Gels Out Music\nSamstag\, 10.6. ab 14 Uhr / DJ Eisbær & DJane Me (Ex-Stoll) – Sunny Sounds\nSonntag\, 11.6. ab 14 Uhr / DJ Enrique Martinez – Salsa Special
URL:https://www.stadtmarketing-klosterneuburg.at/veranstaltung/weekend-uferhaus/2023-06-11/
LOCATION:Uferhaus\, Rollfährestraße 200\, Klosterneuburg\, 3400\, Austria
CATEGORIES:Clubbings & Parties,Kulinarik & Wein,Musik & Konzerte
ATTACH;FMTTYPE=image/jpeg:https://www.stadtmarketing-klosterneuburg.at/wp-content/uploads/2022/04/Uferhaus-c-Uferhaus.jpg
END:VEVENT
BEGIN:VEVENT
DTSTART;TZID=Europe/Vienna:20230610T140000
DTEND;TZID=Europe/Vienna:20230610T233000
DTSTAMP:20260422T222439
CREATED:20230606T122601Z
LAST-MODIFIED:20230606T124529Z
UID:10026799-1686405600-1686439800@www.stadtmarketing-klosterneuburg.at
SUMMARY:Weekend @Uferhaus
DESCRIPTION:Donnerstag\, 8.6. ab 14 Uhr / DJ Martino Enrico – Il Giorno Italiano\nFreitag\, 9.6. ab 14 Uhr / DJ Autan – Gels Out Music\nSamstag\, 10.6. ab 14 Uhr / DJ Eisbær & DJane Me (Ex-Stoll) – Sunny Sounds\nSonntag\, 11.6. ab 14 Uhr / DJ Enrique Martinez – Salsa Special
URL:https://www.stadtmarketing-klosterneuburg.at/veranstaltung/weekend-uferhaus/2023-06-10/
LOCATION:Uferhaus\, Rollfährestraße 200\, Klosterneuburg\, 3400\, Austria
CATEGORIES:Clubbings & Parties,Kulinarik & Wein,Musik & Konzerte
ATTACH;FMTTYPE=image/jpeg:https://www.stadtmarketing-klosterneuburg.at/wp-content/uploads/2022/04/Uferhaus-c-Uferhaus.jpg
END:VEVENT
BEGIN:VEVENT
DTSTART;TZID=Europe/Vienna:20230609T140000
DTEND;TZID=Europe/Vienna:20230609T233000
DTSTAMP:20260422T222439
CREATED:20230606T122601Z
LAST-MODIFIED:20230606T124529Z
UID:10026798-1686319200-1686353400@www.stadtmarketing-klosterneuburg.at
SUMMARY:Weekend @Uferhaus
DESCRIPTION:Donnerstag\, 8.6. ab 14 Uhr / DJ Martino Enrico – Il Giorno Italiano\nFreitag\, 9.6. ab 14 Uhr / DJ Autan – Gels Out Music\nSamstag\, 10.6. ab 14 Uhr / DJ Eisbær & DJane Me (Ex-Stoll) – Sunny Sounds\nSonntag\, 11.6. ab 14 Uhr / DJ Enrique Martinez – Salsa Special
URL:https://www.stadtmarketing-klosterneuburg.at/veranstaltung/weekend-uferhaus/2023-06-09/
LOCATION:Uferhaus\, Rollfährestraße 200\, Klosterneuburg\, 3400\, Austria
CATEGORIES:Clubbings & Parties,Kulinarik & Wein,Musik & Konzerte
ATTACH;FMTTYPE=image/jpeg:https://www.stadtmarketing-klosterneuburg.at/wp-content/uploads/2022/04/Uferhaus-c-Uferhaus.jpg
END:VEVENT
BEGIN:VEVENT
DTSTART;TZID=Europe/Vienna:20230608T140000
DTEND;TZID=Europe/Vienna:20230608T233000
DTSTAMP:20260422T222439
CREATED:20230606T122601Z
LAST-MODIFIED:20230606T124529Z
UID:10026797-1686232800-1686267000@www.stadtmarketing-klosterneuburg.at
SUMMARY:Weekend @Uferhaus
DESCRIPTION:Donnerstag\, 8.6. ab 14 Uhr / DJ Martino Enrico – Il Giorno Italiano\nFreitag\, 9.6. ab 14 Uhr / DJ Autan – Gels Out Music\nSamstag\, 10.6. ab 14 Uhr / DJ Eisbær & DJane Me (Ex-Stoll) – Sunny Sounds\nSonntag\, 11.6. ab 14 Uhr / DJ Enrique Martinez – Salsa Special
URL:https://www.stadtmarketing-klosterneuburg.at/veranstaltung/weekend-uferhaus/2023-06-08/
LOCATION:Uferhaus\, Rollfährestraße 200\, Klosterneuburg\, 3400\, Austria
CATEGORIES:Clubbings & Parties,Kulinarik & Wein,Musik & Konzerte
ATTACH;FMTTYPE=image/jpeg:https://www.stadtmarketing-klosterneuburg.at/wp-content/uploads/2022/04/Uferhaus-c-Uferhaus.jpg
END:VEVENT
BEGIN:VEVENT
DTSTART;TZID=Europe/Vienna:20230529T140000
DTEND;TZID=Europe/Vienna:20230529T233000
DTSTAMP:20260422T222439
CREATED:20230525T130928Z
LAST-MODIFIED:20230528T093758Z
UID:10026694-1685368800-1685403000@www.stadtmarketing-klosterneuburg.at
SUMMARY:Pfingst-Wochenende @Uferhaus
DESCRIPTION:Donnerstag\, 25.5. ab 14 Uhr / Tina Turner Special\nFreitag\, 26.5. ab 14 Uhr / Uferhaus Funk\nSamstag\, 27.5. ab 14 Uhr / Deep House\nSonntag\, 28.5. – Feuer ab 19 Uhr !\nMontag\, 29.5. ab 14 Uhr / Chill Out\n\n\nmit DJ Eisbär
URL:https://www.stadtmarketing-klosterneuburg.at/veranstaltung/pfingst-wochenende-uferhaus/2023-05-29/
LOCATION:Uferhaus\, Rollfährestraße 200\, Klosterneuburg\, 3400\, Austria
CATEGORIES:Clubbings & Parties,Kulinarik & Wein,Musik & Konzerte
ATTACH;FMTTYPE=image/jpeg:https://www.stadtmarketing-klosterneuburg.at/wp-content/uploads/2022/04/Uferhaus-c-Uferhaus.jpg
END:VEVENT
BEGIN:VEVENT
DTSTART;TZID=Europe/Vienna:20230528T140000
DTEND;TZID=Europe/Vienna:20230528T233000
DTSTAMP:20260422T222439
CREATED:20230525T130928Z
LAST-MODIFIED:20230528T093758Z
UID:10026693-1685282400-1685316600@www.stadtmarketing-klosterneuburg.at
SUMMARY:Pfingst-Wochenende @Uferhaus
DESCRIPTION:Donnerstag\, 25.5. ab 14 Uhr / Tina Turner Special\nFreitag\, 26.5. ab 14 Uhr / Uferhaus Funk\nSamstag\, 27.5. ab 14 Uhr / Deep House\nSonntag\, 28.5. – Feuer ab 19 Uhr !\nMontag\, 29.5. ab 14 Uhr / Chill Out\n\n\nmit DJ Eisbär
URL:https://www.stadtmarketing-klosterneuburg.at/veranstaltung/pfingst-wochenende-uferhaus/2023-05-28/
LOCATION:Uferhaus\, Rollfährestraße 200\, Klosterneuburg\, 3400\, Austria
CATEGORIES:Clubbings & Parties,Kulinarik & Wein,Musik & Konzerte
ATTACH;FMTTYPE=image/jpeg:https://www.stadtmarketing-klosterneuburg.at/wp-content/uploads/2022/04/Uferhaus-c-Uferhaus.jpg
END:VEVENT
BEGIN:VEVENT
DTSTART;TZID=Europe/Vienna:20230527T140000
DTEND;TZID=Europe/Vienna:20230527T233000
DTSTAMP:20260422T222439
CREATED:20230525T130928Z
LAST-MODIFIED:20230528T093758Z
UID:10026692-1685196000-1685230200@www.stadtmarketing-klosterneuburg.at
SUMMARY:Pfingst-Wochenende @Uferhaus
DESCRIPTION:Donnerstag\, 25.5. ab 14 Uhr / Tina Turner Special\nFreitag\, 26.5. ab 14 Uhr / Uferhaus Funk\nSamstag\, 27.5. ab 14 Uhr / Deep House\nSonntag\, 28.5. – Feuer ab 19 Uhr !\nMontag\, 29.5. ab 14 Uhr / Chill Out\n\n\nmit DJ Eisbär
URL:https://www.stadtmarketing-klosterneuburg.at/veranstaltung/pfingst-wochenende-uferhaus/2023-05-27/
LOCATION:Uferhaus\, Rollfährestraße 200\, Klosterneuburg\, 3400\, Austria
CATEGORIES:Clubbings & Parties,Kulinarik & Wein,Musik & Konzerte
ATTACH;FMTTYPE=image/jpeg:https://www.stadtmarketing-klosterneuburg.at/wp-content/uploads/2022/04/Uferhaus-c-Uferhaus.jpg
END:VEVENT
BEGIN:VEVENT
DTSTART;TZID=Europe/Vienna:20230526T140000
DTEND;TZID=Europe/Vienna:20230526T233000
DTSTAMP:20260422T222439
CREATED:20230525T130928Z
LAST-MODIFIED:20230528T093758Z
UID:10026691-1685109600-1685143800@www.stadtmarketing-klosterneuburg.at
SUMMARY:Pfingst-Wochenende @Uferhaus
DESCRIPTION:Donnerstag\, 25.5. ab 14 Uhr / Tina Turner Special\nFreitag\, 26.5. ab 14 Uhr / Uferhaus Funk\nSamstag\, 27.5. ab 14 Uhr / Deep House\nSonntag\, 28.5. – Feuer ab 19 Uhr !\nMontag\, 29.5. ab 14 Uhr / Chill Out\n\n\nmit DJ Eisbär
URL:https://www.stadtmarketing-klosterneuburg.at/veranstaltung/pfingst-wochenende-uferhaus/2023-05-26/
LOCATION:Uferhaus\, Rollfährestraße 200\, Klosterneuburg\, 3400\, Austria
CATEGORIES:Clubbings & Parties,Kulinarik & Wein,Musik & Konzerte
ATTACH;FMTTYPE=image/jpeg:https://www.stadtmarketing-klosterneuburg.at/wp-content/uploads/2022/04/Uferhaus-c-Uferhaus.jpg
END:VEVENT
END:VCALENDAR