BEGIN:VCALENDAR
VERSION:2.0
PRODID:-//Stadtmarketing Klosterneuburg - ECPv6.15.20//NONSGML v1.0//EN
CALSCALE:GREGORIAN
METHOD:PUBLISH
X-ORIGINAL-URL:https://www.stadtmarketing-klosterneuburg.at
X-WR-CALDESC:Veranstaltungen für Stadtmarketing Klosterneuburg
REFRESH-INTERVAL;VALUE=DURATION:PT1H
X-Robots-Tag:noindex
X-PUBLISHED-TTL:PT1H
BEGIN:VTIMEZONE
TZID:Europe/Vienna
BEGIN:DAYLIGHT
TZOFFSETFROM:+0100
TZOFFSETTO:+0200
TZNAME:CEST
DTSTART:20240331T010000
END:DAYLIGHT
BEGIN:STANDARD
TZOFFSETFROM:+0200
TZOFFSETTO:+0100
TZNAME:CET
DTSTART:20241027T010000
END:STANDARD
BEGIN:DAYLIGHT
TZOFFSETFROM:+0100
TZOFFSETTO:+0200
TZNAME:CEST
DTSTART:20250330T010000
END:DAYLIGHT
BEGIN:STANDARD
TZOFFSETFROM:+0200
TZOFFSETTO:+0100
TZNAME:CET
DTSTART:20251026T010000
END:STANDARD
BEGIN:DAYLIGHT
TZOFFSETFROM:+0100
TZOFFSETTO:+0200
TZNAME:CEST
DTSTART:20260329T010000
END:DAYLIGHT
BEGIN:STANDARD
TZOFFSETFROM:+0200
TZOFFSETTO:+0100
TZNAME:CET
DTSTART:20261025T010000
END:STANDARD
END:VTIMEZONE
BEGIN:VEVENT
DTSTART;TZID=Europe/Vienna:20250824T140000
DTEND;TZID=Europe/Vienna:20250824T233000
DTSTAMP:20260421T113551
CREATED:20250820T135459Z
LAST-MODIFIED:20250826T153308Z
UID:10042749-1756044000-1756078200@www.stadtmarketing-klosterneuburg.at
SUMMARY:Weekend @Uferhaus
DESCRIPTION:Freitag\, 22.8. 14 Uhr | DJ Eisbær – Best of Rock\nSamstag\, 23.8. 14 Uhr | DJs Andy & Scott – Afro tribal house\nSonntag 24.8. 14 Uhr | DJ Eisbær – Blues & Jazz
URL:https://www.stadtmarketing-klosterneuburg.at/veranstaltung/weekend-uferhaus-24/2025-08-24/
LOCATION:Uferhaus\, Rollfährestraße 200\, Klosterneuburg\, 3400\, Austria
CATEGORIES:Clubbings & Parties,Kulinarik & Wein,Kunst & Kultur,Musik & Konzerte
ATTACH;FMTTYPE=image/jpeg:https://www.stadtmarketing-klosterneuburg.at/wp-content/uploads/2022/04/Uferhaus-c-Uferhaus.jpg
END:VEVENT
BEGIN:VEVENT
DTSTART;TZID=Europe/Vienna:20250823T140000
DTEND;TZID=Europe/Vienna:20250823T233000
DTSTAMP:20260421T113551
CREATED:20250820T135459Z
LAST-MODIFIED:20250826T153308Z
UID:10042748-1755957600-1755991800@www.stadtmarketing-klosterneuburg.at
SUMMARY:Weekend @Uferhaus
DESCRIPTION:Freitag\, 22.8. 14 Uhr | DJ Eisbær – Best of Rock\nSamstag\, 23.8. 14 Uhr | DJs Andy & Scott – Afro tribal house\nSonntag 24.8. 14 Uhr | DJ Eisbær – Blues & Jazz
URL:https://www.stadtmarketing-klosterneuburg.at/veranstaltung/weekend-uferhaus-24/2025-08-23/
LOCATION:Uferhaus\, Rollfährestraße 200\, Klosterneuburg\, 3400\, Austria
CATEGORIES:Clubbings & Parties,Kulinarik & Wein,Kunst & Kultur,Musik & Konzerte
ATTACH;FMTTYPE=image/jpeg:https://www.stadtmarketing-klosterneuburg.at/wp-content/uploads/2022/04/Uferhaus-c-Uferhaus.jpg
END:VEVENT
BEGIN:VEVENT
DTSTART;TZID=Europe/Vienna:20250822T140000
DTEND;TZID=Europe/Vienna:20250822T233000
DTSTAMP:20260421T113551
CREATED:20250820T135459Z
LAST-MODIFIED:20250826T153308Z
UID:10042747-1755871200-1755905400@www.stadtmarketing-klosterneuburg.at
SUMMARY:Weekend @Uferhaus
DESCRIPTION:Freitag\, 22.8. 14 Uhr | DJ Eisbær – Best of Rock\nSamstag\, 23.8. 14 Uhr | DJs Andy & Scott – Afro tribal house\nSonntag 24.8. 14 Uhr | DJ Eisbær – Blues & Jazz
URL:https://www.stadtmarketing-klosterneuburg.at/veranstaltung/weekend-uferhaus-24/2025-08-22/
LOCATION:Uferhaus\, Rollfährestraße 200\, Klosterneuburg\, 3400\, Austria
CATEGORIES:Clubbings & Parties,Kulinarik & Wein,Kunst & Kultur,Musik & Konzerte
ATTACH;FMTTYPE=image/jpeg:https://www.stadtmarketing-klosterneuburg.at/wp-content/uploads/2022/04/Uferhaus-c-Uferhaus.jpg
END:VEVENT
BEGIN:VEVENT
DTSTART;TZID=Europe/Vienna:20250817T140000
DTEND;TZID=Europe/Vienna:20250817T233000
DTSTAMP:20260421T113551
CREATED:20250811T181953Z
LAST-MODIFIED:20250811T182020Z
UID:10042619-1755439200-1755473400@www.stadtmarketing-klosterneuburg.at
SUMMARY:Weekend @Uferhaus
DESCRIPTION:Donnerstag\, 14.8. / 14 Uhr / DJ Eisbær – Bossa Nova & Salsa\nFreitag\, 15.8.  / 14 Uhr / DJ Eisbær – Deep House\nSamstag\, 16.8. / 14 Uhr / Beachparty mit DJs Andy & MischKulanz – Cubano Classico Techno & Afro Tribal House\nSonntag\, 17.8. / 14 Uhr / DJ Eisbær – Chill House
URL:https://www.stadtmarketing-klosterneuburg.at/veranstaltung/weekend-uferhaus-23/2025-08-17/
LOCATION:Uferhaus\, Rollfährestraße 200\, Klosterneuburg\, 3400\, Austria
CATEGORIES:Clubbings & Parties,Kulinarik & Wein,Kunst & Kultur,Musik & Konzerte
ATTACH;FMTTYPE=image/jpeg:https://www.stadtmarketing-klosterneuburg.at/wp-content/uploads/2022/04/Uferhaus-c-Uferhaus.jpg
END:VEVENT
BEGIN:VEVENT
DTSTART;TZID=Europe/Vienna:20250816T140000
DTEND;TZID=Europe/Vienna:20250816T233000
DTSTAMP:20260421T113551
CREATED:20250811T181953Z
LAST-MODIFIED:20250811T182020Z
UID:10042618-1755352800-1755387000@www.stadtmarketing-klosterneuburg.at
SUMMARY:Weekend @Uferhaus
DESCRIPTION:Donnerstag\, 14.8. / 14 Uhr / DJ Eisbær – Bossa Nova & Salsa\nFreitag\, 15.8.  / 14 Uhr / DJ Eisbær – Deep House\nSamstag\, 16.8. / 14 Uhr / Beachparty mit DJs Andy & MischKulanz – Cubano Classico Techno & Afro Tribal House\nSonntag\, 17.8. / 14 Uhr / DJ Eisbær – Chill House
URL:https://www.stadtmarketing-klosterneuburg.at/veranstaltung/weekend-uferhaus-23/2025-08-16/
LOCATION:Uferhaus\, Rollfährestraße 200\, Klosterneuburg\, 3400\, Austria
CATEGORIES:Clubbings & Parties,Kulinarik & Wein,Kunst & Kultur,Musik & Konzerte
ATTACH;FMTTYPE=image/jpeg:https://www.stadtmarketing-klosterneuburg.at/wp-content/uploads/2022/04/Uferhaus-c-Uferhaus.jpg
END:VEVENT
BEGIN:VEVENT
DTSTART;TZID=Europe/Vienna:20250815T140000
DTEND;TZID=Europe/Vienna:20250815T233000
DTSTAMP:20260421T113551
CREATED:20250811T181953Z
LAST-MODIFIED:20250811T182020Z
UID:10042617-1755266400-1755300600@www.stadtmarketing-klosterneuburg.at
SUMMARY:Weekend @Uferhaus
DESCRIPTION:Donnerstag\, 14.8. / 14 Uhr / DJ Eisbær – Bossa Nova & Salsa\nFreitag\, 15.8.  / 14 Uhr / DJ Eisbær – Deep House\nSamstag\, 16.8. / 14 Uhr / Beachparty mit DJs Andy & MischKulanz – Cubano Classico Techno & Afro Tribal House\nSonntag\, 17.8. / 14 Uhr / DJ Eisbær – Chill House
URL:https://www.stadtmarketing-klosterneuburg.at/veranstaltung/weekend-uferhaus-23/2025-08-15/
LOCATION:Uferhaus\, Rollfährestraße 200\, Klosterneuburg\, 3400\, Austria
CATEGORIES:Clubbings & Parties,Kulinarik & Wein,Kunst & Kultur,Musik & Konzerte
ATTACH;FMTTYPE=image/jpeg:https://www.stadtmarketing-klosterneuburg.at/wp-content/uploads/2022/04/Uferhaus-c-Uferhaus.jpg
END:VEVENT
BEGIN:VEVENT
DTSTART;TZID=Europe/Vienna:20250814T140000
DTEND;TZID=Europe/Vienna:20250814T233000
DTSTAMP:20260421T113551
CREATED:20250811T181953Z
LAST-MODIFIED:20250811T182020Z
UID:10042616-1755180000-1755214200@www.stadtmarketing-klosterneuburg.at
SUMMARY:Weekend @Uferhaus
DESCRIPTION:Donnerstag\, 14.8. / 14 Uhr / DJ Eisbær – Bossa Nova & Salsa\nFreitag\, 15.8.  / 14 Uhr / DJ Eisbær – Deep House\nSamstag\, 16.8. / 14 Uhr / Beachparty mit DJs Andy & MischKulanz – Cubano Classico Techno & Afro Tribal House\nSonntag\, 17.8. / 14 Uhr / DJ Eisbær – Chill House
URL:https://www.stadtmarketing-klosterneuburg.at/veranstaltung/weekend-uferhaus-23/2025-08-14/
LOCATION:Uferhaus\, Rollfährestraße 200\, Klosterneuburg\, 3400\, Austria
CATEGORIES:Clubbings & Parties,Kulinarik & Wein,Kunst & Kultur,Musik & Konzerte
ATTACH;FMTTYPE=image/jpeg:https://www.stadtmarketing-klosterneuburg.at/wp-content/uploads/2022/04/Uferhaus-c-Uferhaus.jpg
END:VEVENT
BEGIN:VEVENT
DTSTART;TZID=Europe/Vienna:20250809T140000
DTEND;TZID=Europe/Vienna:20250809T233000
DTSTAMP:20260421T113551
CREATED:20250714T072037Z
LAST-MODIFIED:20250714T072054Z
UID:10042531-1754748000-1754782200@www.stadtmarketing-klosterneuburg.at
SUMMARY:Full Moon Party @Uferhaus
DESCRIPTION:Afro Tribal House by DJ Andy @Full Moon ab 14 Uhr
URL:https://www.stadtmarketing-klosterneuburg.at/veranstaltung/full-moon-party-uferhaus/
LOCATION:Uferhaus\, Rollfährestraße 200\, Klosterneuburg\, 3400\, Austria
CATEGORIES:Clubbings & Parties,Kulinarik & Wein,Kunst & Kultur,Musik & Konzerte
ATTACH;FMTTYPE=image/jpeg:https://www.stadtmarketing-klosterneuburg.at/wp-content/uploads/2025/07/Full-Moon-Party-c-Uferhaus.jpg
END:VEVENT
BEGIN:VEVENT
DTSTART;TZID=Europe/Vienna:20250727T140000
DTEND;TZID=Europe/Vienna:20250727T235900
DTSTAMP:20260421T113551
CREATED:20250605T100827Z
LAST-MODIFIED:20250630T083103Z
UID:10042451-1753624800-1753660740@www.stadtmarketing-klosterneuburg.at
SUMMARY:Summerfeeling @Uferhaus
DESCRIPTION:by DJ Eisbær / ab 14 Uhr 
URL:https://www.stadtmarketing-klosterneuburg.at/veranstaltung/summerfeeling-uferhaus-5/2025-07-27/
LOCATION:Uferhaus\, Rollfährestraße 200\, Klosterneuburg\, 3400\, Austria
CATEGORIES:Clubbings & Parties,Kulinarik & Wein,Kunst & Kultur,Musik & Konzerte
ATTACH;FMTTYPE=image/jpeg:https://www.stadtmarketing-klosterneuburg.at/wp-content/uploads/2022/04/Uferhaus-c-Uferhaus.jpg
END:VEVENT
BEGIN:VEVENT
DTSTART;TZID=Europe/Vienna:20250726T140000
DTEND;TZID=Europe/Vienna:20250726T233000
DTSTAMP:20260421T113551
CREATED:20250605T095518Z
LAST-MODIFIED:20250605T095522Z
UID:10042215-1753538400-1753572600@www.stadtmarketing-klosterneuburg.at
SUMMARY:Beachparty @Uferhaus
DESCRIPTION:Mit DJ Andy – UferHouse
URL:https://www.stadtmarketing-klosterneuburg.at/veranstaltung/beachparty-uferhaus/
LOCATION:Uferhaus\, Rollfährestraße 200\, Klosterneuburg\, 3400\, Austria
CATEGORIES:Clubbings & Parties,Kulinarik & Wein,Kunst & Kultur,Musik & Konzerte
ATTACH;FMTTYPE=image/jpeg:https://www.stadtmarketing-klosterneuburg.at/wp-content/uploads/2022/04/Uferhaus-c-Uferhaus.jpg
END:VEVENT
BEGIN:VEVENT
DTSTART;TZID=Europe/Vienna:20250725T140000
DTEND;TZID=Europe/Vienna:20250725T235900
DTSTAMP:20260421T113551
CREATED:20250605T100827Z
LAST-MODIFIED:20250630T083103Z
UID:10042455-1753452000-1753487940@www.stadtmarketing-klosterneuburg.at
SUMMARY:Summerfeeling @Uferhaus
DESCRIPTION:by DJ Eisbær / ab 14 Uhr 
URL:https://www.stadtmarketing-klosterneuburg.at/veranstaltung/summerfeeling-uferhaus-5/2025-07-25/
LOCATION:Uferhaus\, Rollfährestraße 200\, Klosterneuburg\, 3400\, Austria
CATEGORIES:Clubbings & Parties,Kulinarik & Wein,Kunst & Kultur,Musik & Konzerte
ATTACH;FMTTYPE=image/jpeg:https://www.stadtmarketing-klosterneuburg.at/wp-content/uploads/2022/04/Uferhaus-c-Uferhaus.jpg
END:VEVENT
BEGIN:VEVENT
DTSTART;TZID=Europe/Vienna:20250724T140000
DTEND;TZID=Europe/Vienna:20250724T235900
DTSTAMP:20260421T113551
CREATED:20250605T100827Z
LAST-MODIFIED:20250630T083103Z
UID:10042450-1753365600-1753401540@www.stadtmarketing-klosterneuburg.at
SUMMARY:Summerfeeling @Uferhaus
DESCRIPTION:by DJ Eisbær / ab 14 Uhr 
URL:https://www.stadtmarketing-klosterneuburg.at/veranstaltung/summerfeeling-uferhaus-5/2025-07-24/
LOCATION:Uferhaus\, Rollfährestraße 200\, Klosterneuburg\, 3400\, Austria
CATEGORIES:Clubbings & Parties,Kulinarik & Wein,Kunst & Kultur,Musik & Konzerte
ATTACH;FMTTYPE=image/jpeg:https://www.stadtmarketing-klosterneuburg.at/wp-content/uploads/2022/04/Uferhaus-c-Uferhaus.jpg
END:VEVENT
BEGIN:VEVENT
DTSTART;TZID=Europe/Vienna:20250720T140000
DTEND;TZID=Europe/Vienna:20250720T235900
DTSTAMP:20260421T113551
CREATED:20250605T100827Z
LAST-MODIFIED:20250630T083103Z
UID:10042454-1753020000-1753055940@www.stadtmarketing-klosterneuburg.at
SUMMARY:Summerfeeling @Uferhaus
DESCRIPTION:by DJ Eisbær / ab 14 Uhr 
URL:https://www.stadtmarketing-klosterneuburg.at/veranstaltung/summerfeeling-uferhaus-5/2025-07-20/
LOCATION:Uferhaus\, Rollfährestraße 200\, Klosterneuburg\, 3400\, Austria
CATEGORIES:Clubbings & Parties,Kulinarik & Wein,Kunst & Kultur,Musik & Konzerte
ATTACH;FMTTYPE=image/jpeg:https://www.stadtmarketing-klosterneuburg.at/wp-content/uploads/2022/04/Uferhaus-c-Uferhaus.jpg
END:VEVENT
BEGIN:VEVENT
DTSTART;TZID=Europe/Vienna:20250719T140000
DTEND;TZID=Europe/Vienna:20250719T235900
DTSTAMP:20260421T113551
CREATED:20250605T100827Z
LAST-MODIFIED:20250630T083103Z
UID:10042453-1752933600-1752969540@www.stadtmarketing-klosterneuburg.at
SUMMARY:Summerfeeling @Uferhaus
DESCRIPTION:by DJ Eisbær / ab 14 Uhr 
URL:https://www.stadtmarketing-klosterneuburg.at/veranstaltung/summerfeeling-uferhaus-5/2025-07-19/
LOCATION:Uferhaus\, Rollfährestraße 200\, Klosterneuburg\, 3400\, Austria
CATEGORIES:Clubbings & Parties,Kulinarik & Wein,Kunst & Kultur,Musik & Konzerte
ATTACH;FMTTYPE=image/jpeg:https://www.stadtmarketing-klosterneuburg.at/wp-content/uploads/2022/04/Uferhaus-c-Uferhaus.jpg
END:VEVENT
BEGIN:VEVENT
DTSTART;TZID=Europe/Vienna:20250718T140000
DTEND;TZID=Europe/Vienna:20250718T235900
DTSTAMP:20260421T113551
CREATED:20250605T100827Z
LAST-MODIFIED:20250630T083103Z
UID:10042452-1752847200-1752883140@www.stadtmarketing-klosterneuburg.at
SUMMARY:Summerfeeling @Uferhaus
DESCRIPTION:by DJ Eisbær / ab 14 Uhr 
URL:https://www.stadtmarketing-klosterneuburg.at/veranstaltung/summerfeeling-uferhaus-5/2025-07-18/
LOCATION:Uferhaus\, Rollfährestraße 200\, Klosterneuburg\, 3400\, Austria
CATEGORIES:Clubbings & Parties,Kulinarik & Wein,Kunst & Kultur,Musik & Konzerte
ATTACH;FMTTYPE=image/jpeg:https://www.stadtmarketing-klosterneuburg.at/wp-content/uploads/2022/04/Uferhaus-c-Uferhaus.jpg
END:VEVENT
BEGIN:VEVENT
DTSTART;TZID=Europe/Vienna:20250713T140000
DTEND;TZID=Europe/Vienna:20250713T235900
DTSTAMP:20260421T113551
CREATED:20250605T100827Z
LAST-MODIFIED:20250630T083103Z
UID:10042456-1752415200-1752451140@www.stadtmarketing-klosterneuburg.at
SUMMARY:Summerfeeling @Uferhaus
DESCRIPTION:by DJ Eisbær / ab 14 Uhr 
URL:https://www.stadtmarketing-klosterneuburg.at/veranstaltung/summerfeeling-uferhaus-5/2025-07-13/
LOCATION:Uferhaus\, Rollfährestraße 200\, Klosterneuburg\, 3400\, Austria
CATEGORIES:Clubbings & Parties,Kulinarik & Wein,Kunst & Kultur,Musik & Konzerte
ATTACH;FMTTYPE=image/jpeg:https://www.stadtmarketing-klosterneuburg.at/wp-content/uploads/2022/04/Uferhaus-c-Uferhaus.jpg
END:VEVENT
BEGIN:VEVENT
DTSTART;TZID=Europe/Vienna:20250712T140000
DTEND;TZID=Europe/Vienna:20250712T235900
DTSTAMP:20260421T113551
CREATED:20250605T132044Z
LAST-MODIFIED:20250605T132106Z
UID:10042222-1752328800-1752364740@www.stadtmarketing-klosterneuburg.at
SUMMARY:Vinyl only! @Uferhaus
DESCRIPTION:Danny the head – Vinyl only! \nVinyl Hits by Danny the head / ab 14 Uhr
URL:https://www.stadtmarketing-klosterneuburg.at/veranstaltung/vinyl-only-uferhaus/
LOCATION:Uferhaus\, Rollfährestraße 200\, Klosterneuburg\, 3400\, Austria
CATEGORIES:Clubbings & Parties,Kulinarik & Wein,Kunst & Kultur,Musik & Konzerte
ATTACH;FMTTYPE=image/jpeg:https://www.stadtmarketing-klosterneuburg.at/wp-content/uploads/2022/04/Uferhaus-c-Uferhaus.jpg
END:VEVENT
BEGIN:VEVENT
DTSTART;TZID=Europe/Vienna:20250711T140000
DTEND;TZID=Europe/Vienna:20250711T235900
DTSTAMP:20260421T113551
CREATED:20250605T100827Z
LAST-MODIFIED:20250630T083103Z
UID:10042447-1752242400-1752278340@www.stadtmarketing-klosterneuburg.at
SUMMARY:Summerfeeling @Uferhaus
DESCRIPTION:by DJ Eisbær / ab 14 Uhr 
URL:https://www.stadtmarketing-klosterneuburg.at/veranstaltung/summerfeeling-uferhaus-5/2025-07-11/
LOCATION:Uferhaus\, Rollfährestraße 200\, Klosterneuburg\, 3400\, Austria
CATEGORIES:Clubbings & Parties,Kulinarik & Wein,Kunst & Kultur,Musik & Konzerte
ATTACH;FMTTYPE=image/jpeg:https://www.stadtmarketing-klosterneuburg.at/wp-content/uploads/2022/04/Uferhaus-c-Uferhaus.jpg
END:VEVENT
BEGIN:VEVENT
DTSTART;TZID=Europe/Vienna:20250706T140000
DTEND;TZID=Europe/Vienna:20250706T235900
DTSTAMP:20260421T113551
CREATED:20250605T100827Z
LAST-MODIFIED:20250630T083103Z
UID:10042449-1751810400-1751846340@www.stadtmarketing-klosterneuburg.at
SUMMARY:Summerfeeling @Uferhaus
DESCRIPTION:by DJ Eisbær / ab 14 Uhr 
URL:https://www.stadtmarketing-klosterneuburg.at/veranstaltung/summerfeeling-uferhaus-5/2025-07-06/
LOCATION:Uferhaus\, Rollfährestraße 200\, Klosterneuburg\, 3400\, Austria
CATEGORIES:Clubbings & Parties,Kulinarik & Wein,Kunst & Kultur,Musik & Konzerte
ATTACH;FMTTYPE=image/jpeg:https://www.stadtmarketing-klosterneuburg.at/wp-content/uploads/2022/04/Uferhaus-c-Uferhaus.jpg
END:VEVENT
BEGIN:VEVENT
DTSTART;TZID=Europe/Vienna:20250704T140000
DTEND;TZID=Europe/Vienna:20250704T233000
DTSTAMP:20260421T113551
CREATED:20250624T154216Z
LAST-MODIFIED:20250624T154503Z
UID:10042375-1751637600-1751671800@www.stadtmarketing-klosterneuburg.at
SUMMARY:The Wash & Edictum @Uferhaus
DESCRIPTION:Eine melodische Reise\, um den Sommer zu feiern ab 14 Uhr\n\nFolgende Genres werden geboten:\n– House (Progressive\, Melodic\, Deep)\n– Trance (Progressive\, Uplifting\, Tech\, Hard)\n– Techno (Melodic)\n– Synthwave
URL:https://www.stadtmarketing-klosterneuburg.at/veranstaltung/the-wash-edictum-uferhaus/
LOCATION:Uferhaus\, Rollfährestraße 200\, Klosterneuburg\, 3400\, Austria
CATEGORIES:Clubbings & Parties,Kulinarik & Wein,Kunst & Kultur,Musik & Konzerte
ATTACH;FMTTYPE=image/jpeg:https://www.stadtmarketing-klosterneuburg.at/wp-content/uploads/2025/06/The-Wash_Edictum-c-Uferhaus.jpg
END:VEVENT
BEGIN:VEVENT
DTSTART;TZID=Europe/Vienna:20250629T140000
DTEND;TZID=Europe/Vienna:20250629T233000
DTSTAMP:20260421T113551
CREATED:20250623T110723Z
LAST-MODIFIED:20250623T110723Z
UID:10042366-1751205600-1751239800@www.stadtmarketing-klosterneuburg.at
SUMMARY:Music Weekend @Uferhaus
DESCRIPTION:Freitag\, 27.6. / 14 Uhr / DJ Andy – Afro tribal house\nSamstag\, 28.6. / 14 Uhr / DJs Edictum & Pumperstilzchen – Beach Club\nSonntag\, 29.6. / 14 Uhr / DJ Martino Enrico – Italo Hits
URL:https://www.stadtmarketing-klosterneuburg.at/veranstaltung/music-weekend-uferhaus-3/2025-06-29/
LOCATION:Uferhaus\, Rollfährestraße 200\, Klosterneuburg\, 3400\, Austria
CATEGORIES:Clubbings & Parties,Kulinarik & Wein,Kunst & Kultur,Musik & Konzerte
ATTACH;FMTTYPE=image/jpeg:https://www.stadtmarketing-klosterneuburg.at/wp-content/uploads/2022/04/Uferhaus-c-Uferhaus.jpg
END:VEVENT
BEGIN:VEVENT
DTSTART;TZID=Europe/Vienna:20250628T150000
DTEND;TZID=Europe/Vienna:20250628T220000
DTSTAMP:20260421T113551
CREATED:20250628T072211Z
LAST-MODIFIED:20250628T072615Z
UID:10042430-1751122800-1751148000@www.stadtmarketing-klosterneuburg.at
SUMMARY:Kloburger Beachparty
DESCRIPTION:KLOBURGER BEACHPARTY 2025 – STRANDBAD EDITION\nSAMSTAG | 28.06.2025 | 15 – 22 Uhr | STRANDBAD KLOSTERNEUBURG | AB 16 \nRaus aus dem Alltag\, rein ins Gefühl! \nDie KLOBURGER BEACHPARTY ist mehr als nur ein Event – es ist dieser Moment\, wenn Sand zwischen den Zehen steckt\, der Beat über das Wasser rollt und du einfach weißt: Der Sommer ist da. Mitten im Strandbad\, mitten im Vibe\, mitten im Leben. Tanz in der Sonne\, chill im Schatten\, gönn dir Drinks & Beats – mit deiner Crew am Wasser und dem perfekten Mix aus Urlaubsfeeling & Partyenergie. \n\nBeach-Vibes direkt am Wasser\nChillout-Area & eisgekühlte Summer Drinks\nOutdoor Games – Beerpong\, Spikeball & mehr\nDJs liefern den Soundtrack deines Tages\nSommerdeko\, Sonnenuntergang & Love in the Air\n\n  \nEinlass ab 16 Jahren (Lichtbildausweis erforderlich). Wichtig: Auch mit gültigem Ticket kein Einlass unter 16 oder bei übermäßigem Alkoholkonsum. \nDresscode: Beach-ready\, sommerlich\, comfy & cool \nTischreservierung: office@laviesta.at \nAlle Infos: Stadtgemeinde Klosterneuburg – Home – Kultur – Veranstaltungen \nBaracuda Lounge – mitten im Strandbad Klosterneuburg\, Oasenweg 247\, 3400 Klosterneuburg
URL:https://www.stadtmarketing-klosterneuburg.at/veranstaltung/kloburger-beachparty/
LOCATION:Uferhaus\, Rollfährestraße 200\, Klosterneuburg\, 3400\, Austria
CATEGORIES:Clubbings & Parties,Kulinarik & Wein,Kunst & Kultur,Musik & Konzerte
ATTACH;FMTTYPE=image/jpeg:https://www.stadtmarketing-klosterneuburg.at/wp-content/uploads/2025/06/Kloburger-Beachparty-c-Kloburger-Beachparty-Strandbad-Edition.jpg
END:VEVENT
BEGIN:VEVENT
DTSTART;TZID=Europe/Vienna:20250628T140000
DTEND;TZID=Europe/Vienna:20250628T233000
DTSTAMP:20260421T113551
CREATED:20250623T110723Z
LAST-MODIFIED:20250623T110723Z
UID:10042365-1751119200-1751153400@www.stadtmarketing-klosterneuburg.at
SUMMARY:Music Weekend @Uferhaus
DESCRIPTION:Freitag\, 27.6. / 14 Uhr / DJ Andy – Afro tribal house\nSamstag\, 28.6. / 14 Uhr / DJs Edictum & Pumperstilzchen – Beach Club\nSonntag\, 29.6. / 14 Uhr / DJ Martino Enrico – Italo Hits
URL:https://www.stadtmarketing-klosterneuburg.at/veranstaltung/music-weekend-uferhaus-3/2025-06-28/
LOCATION:Uferhaus\, Rollfährestraße 200\, Klosterneuburg\, 3400\, Austria
CATEGORIES:Clubbings & Parties,Kulinarik & Wein,Kunst & Kultur,Musik & Konzerte
ATTACH;FMTTYPE=image/jpeg:https://www.stadtmarketing-klosterneuburg.at/wp-content/uploads/2022/04/Uferhaus-c-Uferhaus.jpg
END:VEVENT
BEGIN:VEVENT
DTSTART;TZID=Europe/Vienna:20250627T140000
DTEND;TZID=Europe/Vienna:20250627T233000
DTSTAMP:20260421T113551
CREATED:20250623T110723Z
LAST-MODIFIED:20250623T110723Z
UID:10042364-1751032800-1751067000@www.stadtmarketing-klosterneuburg.at
SUMMARY:Music Weekend @Uferhaus
DESCRIPTION:Freitag\, 27.6. / 14 Uhr / DJ Andy – Afro tribal house\nSamstag\, 28.6. / 14 Uhr / DJs Edictum & Pumperstilzchen – Beach Club\nSonntag\, 29.6. / 14 Uhr / DJ Martino Enrico – Italo Hits
URL:https://www.stadtmarketing-klosterneuburg.at/veranstaltung/music-weekend-uferhaus-3/2025-06-27/
LOCATION:Uferhaus\, Rollfährestraße 200\, Klosterneuburg\, 3400\, Austria
CATEGORIES:Clubbings & Parties,Kulinarik & Wein,Kunst & Kultur,Musik & Konzerte
ATTACH;FMTTYPE=image/jpeg:https://www.stadtmarketing-klosterneuburg.at/wp-content/uploads/2022/04/Uferhaus-c-Uferhaus.jpg
END:VEVENT
BEGIN:VEVENT
DTSTART;TZID=Europe/Vienna:20250621T140000
DTEND;TZID=Europe/Vienna:20250621T235900
DTSTAMP:20260421T113551
CREATED:20250605T100551Z
LAST-MODIFIED:20250605T100617Z
UID:10042216-1750514400-1750550340@www.stadtmarketing-klosterneuburg.at
SUMMARY:Sonnwendfeier @Uferhaus
DESCRIPTION:14 Uhr DJ MischKulanz – Latino Classico Techno\n17.30 Uhr DJ Andy – Afro Tribal House\n20.15 Uhr Sonnwendfeuer
URL:https://www.stadtmarketing-klosterneuburg.at/veranstaltung/sonnwendfeier-uferhaus-2/
LOCATION:Uferhaus\, Rollfährestraße 200\, Klosterneuburg\, 3400\, Austria
CATEGORIES:Clubbings & Parties,Kulinarik & Wein,Kunst & Kultur,Musik & Konzerte
ATTACH;FMTTYPE=image/jpeg:https://www.stadtmarketing-klosterneuburg.at/wp-content/uploads/2025/06/Sonnwendfeier-2025-c-Uferhaus.jpg
END:VEVENT
BEGIN:VEVENT
DTSTART;TZID=Europe/Vienna:20250620T140000
DTEND;TZID=Europe/Vienna:20250620T230000
DTSTAMP:20260421T113551
CREATED:20250605T124039Z
LAST-MODIFIED:20250615T104911Z
UID:10042281-1750428000-1750460400@www.stadtmarketing-klosterneuburg.at
SUMMARY:Eisbærs Disco @Uferhaus
DESCRIPTION:70ies & 80ies Disco by DJ Eisbær / ab 14 Uhr 
URL:https://www.stadtmarketing-klosterneuburg.at/veranstaltung/eisbaers-discouferhaus/2025-06-20/
LOCATION:Uferhaus\, Rollfährestraße 200\, Klosterneuburg\, 3400\, Austria
CATEGORIES:Clubbings & Parties,Kulinarik & Wein,Kunst & Kultur,Musik & Konzerte
ATTACH;FMTTYPE=image/jpeg:https://www.stadtmarketing-klosterneuburg.at/wp-content/uploads/2022/04/Uferhaus-c-Uferhaus.jpg
END:VEVENT
BEGIN:VEVENT
DTSTART;TZID=Europe/Vienna:20250619T140000
DTEND;TZID=Europe/Vienna:20250619T220000
DTSTAMP:20260421T113551
CREATED:20250615T103932Z
LAST-MODIFIED:20250615T103948Z
UID:10042280-1750341600-1750370400@www.stadtmarketing-klosterneuburg.at
SUMMARY:Vinyl only! @Uferhaus
DESCRIPTION:Give me the Funk! Vinyl only! ab 14 Uhr\nDanny the Head legt die besten Sounds aus Soul\, Funk und R’n’B auf die Plattenteller …
URL:https://www.stadtmarketing-klosterneuburg.at/veranstaltung/vinyl-only-uferhaus-2/
LOCATION:Uferhaus\, Rollfährestraße 200\, Klosterneuburg\, 3400\, Austria
CATEGORIES:Clubbings & Parties,Kulinarik & Wein,Kunst & Kultur,Musik & Konzerte
ATTACH;FMTTYPE=image/jpeg:https://www.stadtmarketing-klosterneuburg.at/wp-content/uploads/2022/04/Uferhaus-c-Uferhaus.jpg
END:VEVENT
BEGIN:VEVENT
DTSTART;TZID=Europe/Vienna:20250618T140000
DTEND;TZID=Europe/Vienna:20250618T235900
DTSTAMP:20260421T113551
CREATED:20250605T124039Z
LAST-MODIFIED:20250615T104911Z
UID:10042218-1750255200-1750291140@www.stadtmarketing-klosterneuburg.at
SUMMARY:Eisbærs Disco @Uferhaus
DESCRIPTION:70ies & 80ies Disco by DJ Eisbær / ab 14 Uhr 
URL:https://www.stadtmarketing-klosterneuburg.at/veranstaltung/eisbaers-discouferhaus/2025-06-18/
LOCATION:Uferhaus\, Rollfährestraße 200\, Klosterneuburg\, 3400\, Austria
CATEGORIES:Clubbings & Parties,Kulinarik & Wein,Kunst & Kultur,Musik & Konzerte
ATTACH;FMTTYPE=image/jpeg:https://www.stadtmarketing-klosterneuburg.at/wp-content/uploads/2022/04/Uferhaus-c-Uferhaus.jpg
END:VEVENT
BEGIN:VEVENT
DTSTART;TZID=Europe/Vienna:20250613T140000
DTEND;TZID=Europe/Vienna:20250613T220000
DTSTAMP:20260421T113551
CREATED:20250605T131634Z
LAST-MODIFIED:20250605T131721Z
UID:10042221-1749823200-1749852000@www.stadtmarketing-klosterneuburg.at
SUMMARY:Eis am Stiel @Uferhaus
DESCRIPTION:By DJ Wiz / ab 14 Uhr 
URL:https://www.stadtmarketing-klosterneuburg.at/veranstaltung/eis-am-stiel-uferhaus/
LOCATION:Uferhaus\, Rollfährestraße 200\, Klosterneuburg\, 3400\, Austria
CATEGORIES:Clubbings & Parties,Kulinarik & Wein,Kunst & Kultur,Musik & Konzerte
ATTACH;FMTTYPE=image/jpeg:https://www.stadtmarketing-klosterneuburg.at/wp-content/uploads/2022/04/Uferhaus-c-Uferhaus.jpg
END:VEVENT
BEGIN:VEVENT
DTSTART;TZID=Europe/Vienna:20250609T140000
DTEND;TZID=Europe/Vienna:20250609T220000
DTSTAMP:20260421T113551
CREATED:20250531T100948Z
LAST-MODIFIED:20250607T102520Z
UID:10042174-1749477600-1749506400@www.stadtmarketing-klosterneuburg.at
SUMMARY:Pfingsten @Uferhaus
DESCRIPTION:2000er & 2010er HITS / Freitag\, 6. Juni 2025 / 14 – 22 Uhr / by DJ Eisbær\nSUMMER VIBES / Samstag\, 7. Juni 2025 / 14 – 22 Uhr / by DJ Luis > Wegen Unwettergefahr ins UPTOWN verlegt!\nVATERTAG / Sonntag\, 8. Juni 2025 / 14 – 22 Uhr / by DJ Eisbær\n\nBLUES & BLUESROCK / Montag\, 9. Juni 2025 / 14 – 22 Uhr / by DJ Eisbær
URL:https://www.stadtmarketing-klosterneuburg.at/veranstaltung/weekend-uferhaus-22/2025-06-09/
LOCATION:Uferhaus\, Rollfährestraße 200\, Klosterneuburg\, 3400\, Austria
CATEGORIES:Clubbings & Parties,Kulinarik & Wein,Kunst & Kultur,Musik & Konzerte
ATTACH;FMTTYPE=image/jpeg:https://www.stadtmarketing-klosterneuburg.at/wp-content/uploads/2022/04/Uferhaus-c-Uferhaus.jpg
END:VEVENT
END:VCALENDAR