BEGIN:VCALENDAR
VERSION:2.0
PRODID:-//Stadtmarketing Klosterneuburg - ECPv6.15.20//NONSGML v1.0//EN
CALSCALE:GREGORIAN
METHOD:PUBLISH
X-WR-CALNAME:Stadtmarketing Klosterneuburg
X-ORIGINAL-URL:https://www.stadtmarketing-klosterneuburg.at
X-WR-CALDESC:Veranstaltungen für Stadtmarketing Klosterneuburg
REFRESH-INTERVAL;VALUE=DURATION:PT1H
X-Robots-Tag:noindex
X-PUBLISHED-TTL:PT1H
BEGIN:VTIMEZONE
TZID:Europe/Vienna
BEGIN:DAYLIGHT
TZOFFSETFROM:+0100
TZOFFSETTO:+0200
TZNAME:CEST
DTSTART:20230326T010000
END:DAYLIGHT
BEGIN:STANDARD
TZOFFSETFROM:+0200
TZOFFSETTO:+0100
TZNAME:CET
DTSTART:20231029T010000
END:STANDARD
BEGIN:DAYLIGHT
TZOFFSETFROM:+0100
TZOFFSETTO:+0200
TZNAME:CEST
DTSTART:20240331T010000
END:DAYLIGHT
BEGIN:STANDARD
TZOFFSETFROM:+0200
TZOFFSETTO:+0100
TZNAME:CET
DTSTART:20241027T010000
END:STANDARD
BEGIN:DAYLIGHT
TZOFFSETFROM:+0100
TZOFFSETTO:+0200
TZNAME:CEST
DTSTART:20250330T010000
END:DAYLIGHT
BEGIN:STANDARD
TZOFFSETFROM:+0200
TZOFFSETTO:+0100
TZNAME:CET
DTSTART:20251026T010000
END:STANDARD
BEGIN:DAYLIGHT
TZOFFSETFROM:+0100
TZOFFSETTO:+0200
TZNAME:CEST
DTSTART:20260329T010000
END:DAYLIGHT
BEGIN:STANDARD
TZOFFSETFROM:+0200
TZOFFSETTO:+0100
TZNAME:CET
DTSTART:20261025T010000
END:STANDARD
END:VTIMEZONE
BEGIN:VEVENT
DTSTART;TZID=Europe/Vienna:20250608T140000
DTEND;TZID=Europe/Vienna:20250608T220000
DTSTAMP:20260422T033013
CREATED:20250531T100948Z
LAST-MODIFIED:20250607T102520Z
UID:10042173-1749391200-1749420000@www.stadtmarketing-klosterneuburg.at
SUMMARY:Pfingsten @Uferhaus
DESCRIPTION:2000er & 2010er HITS / Freitag\, 6. Juni 2025 / 14 – 22 Uhr / by DJ Eisbær\nSUMMER VIBES / Samstag\, 7. Juni 2025 / 14 – 22 Uhr / by DJ Luis > Wegen Unwettergefahr ins UPTOWN verlegt!\nVATERTAG / Sonntag\, 8. Juni 2025 / 14 – 22 Uhr / by DJ Eisbær\n\nBLUES & BLUESROCK / Montag\, 9. Juni 2025 / 14 – 22 Uhr / by DJ Eisbær
URL:https://www.stadtmarketing-klosterneuburg.at/veranstaltung/weekend-uferhaus-22/2025-06-08/
LOCATION:Uferhaus\, Rollfährestraße 200\, Klosterneuburg\, 3400\, Austria
CATEGORIES:Clubbings & Parties,Kulinarik & Wein,Kunst & Kultur,Musik & Konzerte
ATTACH;FMTTYPE=image/jpeg:https://www.stadtmarketing-klosterneuburg.at/wp-content/uploads/2022/04/Uferhaus-c-Uferhaus.jpg
END:VEVENT
BEGIN:VEVENT
DTSTART;TZID=Europe/Vienna:20250607T140000
DTEND;TZID=Europe/Vienna:20250607T220000
DTSTAMP:20260422T033013
CREATED:20250531T100948Z
LAST-MODIFIED:20250607T102520Z
UID:10042172-1749304800-1749333600@www.stadtmarketing-klosterneuburg.at
SUMMARY:Pfingsten @Uferhaus
DESCRIPTION:2000er & 2010er HITS / Freitag\, 6. Juni 2025 / 14 – 22 Uhr / by DJ Eisbær\nSUMMER VIBES / Samstag\, 7. Juni 2025 / 14 – 22 Uhr / by DJ Luis > Wegen Unwettergefahr ins UPTOWN verlegt!\nVATERTAG / Sonntag\, 8. Juni 2025 / 14 – 22 Uhr / by DJ Eisbær\n\nBLUES & BLUESROCK / Montag\, 9. Juni 2025 / 14 – 22 Uhr / by DJ Eisbær
URL:https://www.stadtmarketing-klosterneuburg.at/veranstaltung/weekend-uferhaus-22/2025-06-07/
LOCATION:Uferhaus\, Rollfährestraße 200\, Klosterneuburg\, 3400\, Austria
CATEGORIES:Clubbings & Parties,Kulinarik & Wein,Kunst & Kultur,Musik & Konzerte
ATTACH;FMTTYPE=image/jpeg:https://www.stadtmarketing-klosterneuburg.at/wp-content/uploads/2022/04/Uferhaus-c-Uferhaus.jpg
END:VEVENT
BEGIN:VEVENT
DTSTART;TZID=Europe/Vienna:20250606T140000
DTEND;TZID=Europe/Vienna:20250606T220000
DTSTAMP:20260422T033013
CREATED:20250531T100948Z
LAST-MODIFIED:20250607T102520Z
UID:10042169-1749218400-1749247200@www.stadtmarketing-klosterneuburg.at
SUMMARY:Pfingsten @Uferhaus
DESCRIPTION:2000er & 2010er HITS / Freitag\, 6. Juni 2025 / 14 – 22 Uhr / by DJ Eisbær\nSUMMER VIBES / Samstag\, 7. Juni 2025 / 14 – 22 Uhr / by DJ Luis > Wegen Unwettergefahr ins UPTOWN verlegt!\nVATERTAG / Sonntag\, 8. Juni 2025 / 14 – 22 Uhr / by DJ Eisbær\n\nBLUES & BLUESROCK / Montag\, 9. Juni 2025 / 14 – 22 Uhr / by DJ Eisbær
URL:https://www.stadtmarketing-klosterneuburg.at/veranstaltung/weekend-uferhaus-22/2025-06-06/
LOCATION:Uferhaus\, Rollfährestraße 200\, Klosterneuburg\, 3400\, Austria
CATEGORIES:Clubbings & Parties,Kulinarik & Wein,Kunst & Kultur,Musik & Konzerte
ATTACH;FMTTYPE=image/jpeg:https://www.stadtmarketing-klosterneuburg.at/wp-content/uploads/2022/04/Uferhaus-c-Uferhaus.jpg
END:VEVENT
BEGIN:VEVENT
DTSTART;TZID=Europe/Vienna:20250605T140000
DTEND;TZID=Europe/Vienna:20250605T203000
DTSTAMP:20260422T033013
CREATED:20250630T083601Z
LAST-MODIFIED:20250714T072717Z
UID:10042459-1749132000-1749155400@www.stadtmarketing-klosterneuburg.at
SUMMARY:Loungemusic @Uferhaus
DESCRIPTION:by DJ Eisbær / ab 14 Uhr 
URL:https://www.stadtmarketing-klosterneuburg.at/veranstaltung/loungemusic-uferhaus/2025-06-05/
LOCATION:Uferhaus\, Rollfährestraße 200\, Klosterneuburg\, 3400\, Austria
CATEGORIES:Clubbings & Parties,Kulinarik & Wein,Kunst & Kultur,Musik & Konzerte
ATTACH;FMTTYPE=image/jpeg:https://www.stadtmarketing-klosterneuburg.at/wp-content/uploads/2022/04/Uferhaus-c-Uferhaus.jpg
END:VEVENT
BEGIN:VEVENT
DTSTART;TZID=Europe/Vienna:20250531T160000
DTEND;TZID=Europe/Vienna:20250531T233000
DTSTAMP:20260422T033013
CREATED:20250529T054135Z
LAST-MODIFIED:20250529T054733Z
UID:10042128-1748707200-1748734200@www.stadtmarketing-klosterneuburg.at
SUMMARY:SoundJause deluxe @Uferhaus
DESCRIPTION:Organic House\nDeep House\nTechhouse\nMelodic Techno\n\nDJ´s: \nWinsLey (SoundJause)\nChris MareS (Tryst)\nJesse Hansen\nRichard Steinschlag
URL:https://www.stadtmarketing-klosterneuburg.at/veranstaltung/soundjause-deluxe-uferhaus-4/
LOCATION:Uferhaus\, Rollfährestraße 200\, Klosterneuburg\, 3400\, Austria
CATEGORIES:Clubbings & Parties,Kulinarik & Wein,Kunst & Kultur,Musik & Konzerte
ATTACH;FMTTYPE=image/jpeg:https://www.stadtmarketing-klosterneuburg.at/wp-content/uploads/2025/05/Sound-Jause-3-c-Uferhaus.jpg
END:VEVENT
BEGIN:VEVENT
DTSTART;TZID=Europe/Vienna:20250531T140000
DTEND;TZID=Europe/Vienna:20250531T160000
DTSTAMP:20260422T033013
CREATED:20250529T054852Z
LAST-MODIFIED:20250529T074937Z
UID:10042129-1748700000-1748707200@www.stadtmarketing-klosterneuburg.at
SUMMARY:Cubano Classico Techno @Uferhaus
DESCRIPTION:By MischKulanz\nab 14 Uhr geht es los…
URL:https://www.stadtmarketing-klosterneuburg.at/veranstaltung/cubano-classico-techno-uferhaus/
LOCATION:Uferhaus\, Rollfährestraße 200\, Klosterneuburg\, 3400\, Austria
CATEGORIES:Clubbings & Parties,Kulinarik & Wein,Kunst & Kultur,Musik & Konzerte
ATTACH;FMTTYPE=image/jpeg:https://www.stadtmarketing-klosterneuburg.at/wp-content/uploads/2022/04/Uferhaus-c-Uferhaus.jpg
END:VEVENT
BEGIN:VEVENT
DTSTART;TZID=Europe/Vienna:20250528T160000
DTEND;TZID=Europe/Vienna:20250528T233000
DTSTAMP:20260422T033013
CREATED:20250516T095011Z
LAST-MODIFIED:20250529T053258Z
UID:10042019-1748448000-1748475000@www.stadtmarketing-klosterneuburg.at
SUMMARY:SoundJause deluxe @Uferhaus
DESCRIPTION:Organic House\nDeep House\nTechhouse\nMelodic Techno\n\nDJ´s: \nWinsLey (SoundJause)\nChris MareS (Tryst)\nJesse Hansen\nRichard Steinschlag
URL:https://www.stadtmarketing-klosterneuburg.at/veranstaltung/soundjause-deluxe-uferhaus-3/
LOCATION:Uferhaus\, Rollfährestraße 200\, Klosterneuburg\, 3400\, Austria
CATEGORIES:Clubbings & Parties,Kulinarik & Wein,Kunst & Kultur,Musik & Konzerte
ATTACH;FMTTYPE=image/jpeg:https://www.stadtmarketing-klosterneuburg.at/wp-content/uploads/2025/05/Sound-Jause-2-c-Uferhaus.jpg
END:VEVENT
BEGIN:VEVENT
DTSTART;TZID=Europe/Vienna:20250528T140000
DTEND;TZID=Europe/Vienna:20250528T160000
DTSTAMP:20260422T033013
CREATED:20250527T071844Z
LAST-MODIFIED:20250529T054826Z
UID:10042117-1748440800-1748448000@www.stadtmarketing-klosterneuburg.at
SUMMARY:Cubano Classico Techno @Uferhaus
DESCRIPTION:By MischKulanz\nab 14 Uhr geht es los…
URL:https://www.stadtmarketing-klosterneuburg.at/veranstaltung/cubano-classico-techno-uferhaus-vorlage/
LOCATION:Uferhaus\, Rollfährestraße 200\, Klosterneuburg\, 3400\, Austria
CATEGORIES:Clubbings & Parties,Kulinarik & Wein,Kunst & Kultur,Musik & Konzerte
ATTACH;FMTTYPE=image/jpeg:https://www.stadtmarketing-klosterneuburg.at/wp-content/uploads/2022/04/Uferhaus-c-Uferhaus.jpg
END:VEVENT
BEGIN:VEVENT
DTSTART;TZID=Europe/Vienna:20250516T150000
DTEND;TZID=Europe/Vienna:20250516T200000
DTSTAMP:20260422T033013
CREATED:20250509T111618Z
LAST-MODIFIED:20250516T111810Z
UID:10041978-1747407600-1747425600@www.stadtmarketing-klosterneuburg.at
SUMMARY:SoundJause deluxe @Uferhaus
DESCRIPTION:Organic House\nDeep House\nTechhouse\nMelodic Techno\n\nDJ´s: \nWinsLey (SoundJause)\nChris MareS (Tryst)\nJesse Hansen\nRichard Steinschlag
URL:https://www.stadtmarketing-klosterneuburg.at/veranstaltung/soundjause-deluxe-uferhaus-2/
LOCATION:Uferhaus\, Rollfährestraße 200\, Klosterneuburg\, 3400\, Austria
CATEGORIES:Clubbings & Parties,Kulinarik & Wein,Kunst & Kultur,Musik & Konzerte
ATTACH;FMTTYPE=image/jpeg:https://www.stadtmarketing-klosterneuburg.at/wp-content/uploads/2025/05/Sound-Jause-2-c-Uferhaus.jpg
END:VEVENT
BEGIN:VEVENT
DTSTART;TZID=Europe/Vienna:20250510T140000
DTEND;TZID=Europe/Vienna:20250510T200000
DTSTAMP:20260422T033013
CREATED:20250413T075437Z
LAST-MODIFIED:20250509T112147Z
UID:10041164-1746885600-1746907200@www.stadtmarketing-klosterneuburg.at
SUMMARY:SoundJause deluxe @Uferhaus
DESCRIPTION:Organic House\nDeep House\nTechhouse\nMelodic Techno\n\nDJ´s: \nWinsLey (SoundJause)\nChris MareS (Tryst)\nJesse Hansen\nGlitzer & Bass
URL:https://www.stadtmarketing-klosterneuburg.at/veranstaltung/soundjause-deluxe-uferhaus/
LOCATION:Uferhaus\, Rollfährestraße 200\, Klosterneuburg\, 3400\, Austria
CATEGORIES:Clubbings & Parties,Kulinarik & Wein,Kunst & Kultur,Musik & Konzerte
ATTACH;FMTTYPE=image/jpeg:https://www.stadtmarketing-klosterneuburg.at/wp-content/uploads/2025/04/Sound-Jause-c-Uferhaus.jpg
END:VEVENT
BEGIN:VEVENT
DTSTART;TZID=Europe/Vienna:20250501T140000
DTEND;TZID=Europe/Vienna:20250501T200000
DTSTAMP:20260422T033013
CREATED:20250413T070747Z
LAST-MODIFIED:20250413T070828Z
UID:10041087-1746108000-1746129600@www.stadtmarketing-klosterneuburg.at
SUMMARY:Austropop @Uferhaus
DESCRIPTION:by DJ Eisbær\nab 14 Uhr geht es los…
URL:https://www.stadtmarketing-klosterneuburg.at/veranstaltung/austropop-uferhaus/
LOCATION:Uferhaus\, Rollfährestraße 200\, Klosterneuburg\, 3400\, Austria
CATEGORIES:Clubbings & Parties,Kulinarik & Wein,Kunst & Kultur,Musik & Konzerte
ATTACH;FMTTYPE=image/jpeg:https://www.stadtmarketing-klosterneuburg.at/wp-content/uploads/2022/04/Uferhaus-c-Uferhaus.jpg
END:VEVENT
BEGIN:VEVENT
DTSTART;TZID=Europe/Vienna:20250430T140000
DTEND;TZID=Europe/Vienna:20250430T235900
DTSTAMP:20260422T033013
CREATED:20250428T082811Z
LAST-MODIFIED:20250428T084350Z
UID:10041598-1746021600-1746057540@www.stadtmarketing-klosterneuburg.at
SUMMARY:Walpurgisfest beim Uferhaus
DESCRIPTION:14 Uhr / Yachtrock by DJ Eisbær\nMit Lagerfeuer ab 18.30 Uhr
URL:https://www.stadtmarketing-klosterneuburg.at/veranstaltung/walpurgisfest-beim-uferhaus/
LOCATION:Uferhaus\, Rollfährestraße 200\, Klosterneuburg\, 3400\, Austria
CATEGORIES:Clubbings & Parties,Kulinarik & Wein,Musik & Konzerte
ATTACH;FMTTYPE=image/jpeg:https://www.stadtmarketing-klosterneuburg.at/wp-content/uploads/2023/04/Walpurgisfeier-c-Uferhaus.jpg
END:VEVENT
BEGIN:VEVENT
DTSTART;TZID=Europe/Vienna:20250413T140000
DTEND;TZID=Europe/Vienna:20250413T200000
DTSTAMP:20260422T033013
CREATED:20250407T153932Z
LAST-MODIFIED:20250407T153958Z
UID:10041037-1744552800-1744574400@www.stadtmarketing-klosterneuburg.at
SUMMARY:UferHouse @Uferhaus
DESCRIPTION:mit DJ Eisbær\nab 14 Uhr geht es los…
URL:https://www.stadtmarketing-klosterneuburg.at/veranstaltung/uferhouse-uferhaus-2/
LOCATION:Uferhaus\, Rollfährestraße 200\, Klosterneuburg\, 3400\, Austria
CATEGORIES:Clubbings & Parties,Kulinarik & Wein,Kunst & Kultur,Musik & Konzerte
ATTACH;FMTTYPE=image/jpeg:https://www.stadtmarketing-klosterneuburg.at/wp-content/uploads/2022/04/Uferhaus-c-Uferhaus.jpg
END:VEVENT
BEGIN:VEVENT
DTSTART;TZID=Europe/Vienna:20250412T140000
DTEND;TZID=Europe/Vienna:20250412T200000
DTSTAMP:20260422T033013
CREATED:20250407T140257Z
LAST-MODIFIED:20250407T140333Z
UID:10041033-1744466400-1744488000@www.stadtmarketing-klosterneuburg.at
SUMMARY:Saison Opening @Uferhaus
DESCRIPTION:Nach dem vorzeitigen Saisonende durch das verheerende Hochwasser des letzten Jahres freut sich das Uferhaus-Team ganz besonders über die Wiedereröffnung und den Start in die neue Saison!\n\nBegleitet wird die Eröffnungsfeier musikalisch von einem Vinyl-DJ-Set von Edictum\, der eine Mischung aus Synthwave und Deep/Melodic/Progressive House auflegen wird\, um einen entspannten lebensfrohen und sommerlichen Nachmittag zu garantieren. Zudem wird die limitierte Vinyl-Edition des neuen Albums „A Cosmic Scale“ zu einem vergünstigten Preis erhältlich sein. Geplant ist der Betrieb bis 20 Uhr!
URL:https://www.stadtmarketing-klosterneuburg.at/veranstaltung/saison-opening-uferhaus/
LOCATION:Uferhaus\, Rollfährestraße 200\, Klosterneuburg\, 3400\, Austria
CATEGORIES:Clubbings & Parties,Kulinarik & Wein,Kunst & Kultur,Musik & Konzerte
ATTACH;FMTTYPE=image/jpeg:https://www.stadtmarketing-klosterneuburg.at/wp-content/uploads/2025/04/Uferhaus-Saison-Opening-2025-c-Uferhaus.jpg
END:VEVENT
BEGIN:VEVENT
DTSTART;TZID=Europe/Vienna:20240921T173000
DTEND;TZID=Europe/Vienna:20240921T233000
DTSTAMP:20260422T033013
CREATED:20240822T113622Z
LAST-MODIFIED:20240918T102632Z
UID:10037381-1726939800-1726961400@www.stadtmarketing-klosterneuburg.at
SUMMARY:Summerclosing @Uferhaus
DESCRIPTION:Sound Jause de luxe mit großem Feuer\nDJs: Mogli (SoundJause)\, Pumperstilzchen\, WinsLey (SoundJause)\, Flani (Club Pompadour)\, Edictum\n\n\nDas Team vom Uferhaus möchte euch ein fulminantes Saisonende bescheren und lädt zum Mitfeiern und Tanzen ein!\nDie Sonne genießen und chillen direkt an der Donau!\nMusikalisch erwarten Euch nur die feinsten elektronischen Tanz-Schmankerl von House\, Deep House bis Melodic Techno!\nKein Eintritt! Spende für die Musik erbeten! Als Dankeschön gibt’s einen Rumshot (Ron Abuelo de Panama)
URL:https://www.stadtmarketing-klosterneuburg.at/veranstaltung/summerclosing-uferhaus/
LOCATION:Uferhaus\, Rollfährestraße 200\, Klosterneuburg\, 3400\, Austria
CATEGORIES:Clubbings & Parties,Kulinarik & Wein,Kunst & Kultur,Musik & Konzerte
ATTACH;FMTTYPE=image/jpeg:https://www.stadtmarketing-klosterneuburg.at/wp-content/uploads/2022/04/Uferhaus-c-Uferhaus.jpg
END:VEVENT
BEGIN:VEVENT
DTSTART;TZID=Europe/Vienna:20240921T140000
DTEND;TZID=Europe/Vienna:20240921T173000
DTSTAMP:20260422T033013
CREATED:20240909T123948Z
LAST-MODIFIED:20240918T102512Z
UID:10037670-1726927200-1726939800@www.stadtmarketing-klosterneuburg.at
SUMMARY:MischKulanz @Uferhaus
DESCRIPTION:Soundjause Warm Up\nCuban Tech House
URL:https://www.stadtmarketing-klosterneuburg.at/veranstaltung/mischkulanz-uferhaus/
LOCATION:Uferhaus\, Rollfährestraße 200\, Klosterneuburg\, 3400\, Austria
CATEGORIES:Clubbings & Parties,Kulinarik & Wein,Kunst & Kultur,Musik & Konzerte
ATTACH;FMTTYPE=image/jpeg:https://www.stadtmarketing-klosterneuburg.at/wp-content/uploads/2022/04/Uferhaus-c-Uferhaus.jpg
END:VEVENT
BEGIN:VEVENT
DTSTART;TZID=Europe/Vienna:20240830T140000
DTEND;TZID=Europe/Vienna:20240830T220000
DTSTAMP:20260422T033013
CREATED:20240812T131112Z
LAST-MODIFIED:20240812T131742Z
UID:10037256-1725026400-1725055200@www.stadtmarketing-klosterneuburg.at
SUMMARY:House @Uferhaus
DESCRIPTION:mit DJ EbiJay / ab 14 Uhr 
URL:https://www.stadtmarketing-klosterneuburg.at/veranstaltung/house-uferhaus/
LOCATION:Uferhaus\, Rollfährestraße 200\, Klosterneuburg\, 3400\, Austria
CATEGORIES:Clubbings & Parties,Kulinarik & Wein,Kunst & Kultur,Musik & Konzerte
ATTACH;FMTTYPE=image/jpeg:https://www.stadtmarketing-klosterneuburg.at/wp-content/uploads/2022/04/Uferhaus-c-Uferhaus.jpg
END:VEVENT
BEGIN:VEVENT
DTSTART;TZID=Europe/Vienna:20240825T140000
DTEND;TZID=Europe/Vienna:20240825T180000
DTSTAMP:20260422T033013
CREATED:20240812T130849Z
LAST-MODIFIED:20240812T130952Z
UID:10037255-1724594400-1724608800@www.stadtmarketing-klosterneuburg.at
SUMMARY:Summerfeeling @Uferhaus
DESCRIPTION:mit DJ Eisbær / ab 14 Uhr 
URL:https://www.stadtmarketing-klosterneuburg.at/veranstaltung/summerfeeling-uferhaus-3/
LOCATION:Uferhaus\, Rollfährestraße 200\, Klosterneuburg\, 3400\, Austria
CATEGORIES:Clubbings & Parties,Kulinarik & Wein,Kunst & Kultur,Musik & Konzerte
ATTACH;FMTTYPE=image/jpeg:https://www.stadtmarketing-klosterneuburg.at/wp-content/uploads/2022/04/Uferhaus-c-Uferhaus.jpg
END:VEVENT
BEGIN:VEVENT
DTSTART;TZID=Europe/Vienna:20240824T140000
DTEND;TZID=Europe/Vienna:20240824T180000
DTSTAMP:20260422T033013
CREATED:20240812T130503Z
LAST-MODIFIED:20240812T130619Z
UID:10037254-1724508000-1724522400@www.stadtmarketing-klosterneuburg.at
SUMMARY:Deep House Session @Uferhaus
DESCRIPTION:Deep House Session mit DJ Andy\, Support: DJ MischKulanz / ab 14 Uhr 
URL:https://www.stadtmarketing-klosterneuburg.at/veranstaltung/music-uferhaus-4/
LOCATION:Uferhaus\, Rollfährestraße 200\, Klosterneuburg\, 3400\, Austria
CATEGORIES:Clubbings & Parties,Kulinarik & Wein,Kunst & Kultur,Musik & Konzerte
ATTACH;FMTTYPE=image/jpeg:https://www.stadtmarketing-klosterneuburg.at/wp-content/uploads/2022/04/Uferhaus-c-Uferhaus.jpg
END:VEVENT
BEGIN:VEVENT
DTSTART;TZID=Europe/Vienna:20240823T140000
DTEND;TZID=Europe/Vienna:20240823T220000
DTSTAMP:20260422T033013
CREATED:20240615T104240Z
LAST-MODIFIED:20240821T110957Z
UID:10036790-1724421600-1724450400@www.stadtmarketing-klosterneuburg.at
SUMMARY:Summer Music @Uferhaus
DESCRIPTION:Vinyl Only! mit Dan The Head\nab 14 Uhr
URL:https://www.stadtmarketing-klosterneuburg.at/veranstaltung/summer-music-uferhaus/
LOCATION:Uferhaus\, Rollfährestraße 200\, Klosterneuburg\, 3400\, Austria
CATEGORIES:Clubbings & Parties,Kulinarik & Wein,Kunst & Kultur,Musik & Konzerte
ATTACH;FMTTYPE=image/jpeg:https://www.stadtmarketing-klosterneuburg.at/wp-content/uploads/2022/04/Uferhaus-c-Uferhaus.jpg
END:VEVENT
BEGIN:VEVENT
DTSTART;TZID=Europe/Vienna:20240818T140000
DTEND;TZID=Europe/Vienna:20240818T233000
DTSTAMP:20260422T033013
CREATED:20240807T092522Z
LAST-MODIFIED:20240807T093133Z
UID:10037236-1723989600-1724023800@www.stadtmarketing-klosterneuburg.at
SUMMARY:Summer Weekend @Uferhaus
DESCRIPTION:Donnerstag\, 15.8. / ab 14 Uhr „Yacht Soul“ mit DJ Eisbær\nFreitag\, 16.8. / ab 14 Uhr „Summer Music“ mit DJ Eisbær\nSamstag\, 17.8. / ab 14 Uhr „Eis am Stiel“ mit DJ Wiz\nSonntag\, 18.8. / ab 14 Uhr „Summer Music“ mit DJ Eisbær
URL:https://www.stadtmarketing-klosterneuburg.at/veranstaltung/summer-weekend-uferhaus/2024-08-18/
LOCATION:Uferhaus\, Rollfährestraße 200\, Klosterneuburg\, 3400\, Austria
CATEGORIES:Clubbings & Parties,Kulinarik & Wein,Kunst & Kultur,Musik & Konzerte
ATTACH;FMTTYPE=image/jpeg:https://www.stadtmarketing-klosterneuburg.at/wp-content/uploads/2022/04/Uferhaus-c-Uferhaus.jpg
END:VEVENT
BEGIN:VEVENT
DTSTART;TZID=Europe/Vienna:20240817T140000
DTEND;TZID=Europe/Vienna:20240817T233000
DTSTAMP:20260422T033013
CREATED:20240807T092522Z
LAST-MODIFIED:20240807T093133Z
UID:10037235-1723903200-1723937400@www.stadtmarketing-klosterneuburg.at
SUMMARY:Summer Weekend @Uferhaus
DESCRIPTION:Donnerstag\, 15.8. / ab 14 Uhr „Yacht Soul“ mit DJ Eisbær\nFreitag\, 16.8. / ab 14 Uhr „Summer Music“ mit DJ Eisbær\nSamstag\, 17.8. / ab 14 Uhr „Eis am Stiel“ mit DJ Wiz\nSonntag\, 18.8. / ab 14 Uhr „Summer Music“ mit DJ Eisbær
URL:https://www.stadtmarketing-klosterneuburg.at/veranstaltung/summer-weekend-uferhaus/2024-08-17/
LOCATION:Uferhaus\, Rollfährestraße 200\, Klosterneuburg\, 3400\, Austria
CATEGORIES:Clubbings & Parties,Kulinarik & Wein,Kunst & Kultur,Musik & Konzerte
ATTACH;FMTTYPE=image/jpeg:https://www.stadtmarketing-klosterneuburg.at/wp-content/uploads/2022/04/Uferhaus-c-Uferhaus.jpg
END:VEVENT
BEGIN:VEVENT
DTSTART;TZID=Europe/Vienna:20240816T140000
DTEND;TZID=Europe/Vienna:20240816T233000
DTSTAMP:20260422T033013
CREATED:20240807T092522Z
LAST-MODIFIED:20240807T093133Z
UID:10037234-1723816800-1723851000@www.stadtmarketing-klosterneuburg.at
SUMMARY:Summer Weekend @Uferhaus
DESCRIPTION:Donnerstag\, 15.8. / ab 14 Uhr „Yacht Soul“ mit DJ Eisbær\nFreitag\, 16.8. / ab 14 Uhr „Summer Music“ mit DJ Eisbær\nSamstag\, 17.8. / ab 14 Uhr „Eis am Stiel“ mit DJ Wiz\nSonntag\, 18.8. / ab 14 Uhr „Summer Music“ mit DJ Eisbær
URL:https://www.stadtmarketing-klosterneuburg.at/veranstaltung/summer-weekend-uferhaus/2024-08-16/
LOCATION:Uferhaus\, Rollfährestraße 200\, Klosterneuburg\, 3400\, Austria
CATEGORIES:Clubbings & Parties,Kulinarik & Wein,Kunst & Kultur,Musik & Konzerte
ATTACH;FMTTYPE=image/jpeg:https://www.stadtmarketing-klosterneuburg.at/wp-content/uploads/2022/04/Uferhaus-c-Uferhaus.jpg
END:VEVENT
BEGIN:VEVENT
DTSTART;TZID=Europe/Vienna:20240815T140000
DTEND;TZID=Europe/Vienna:20240815T233000
DTSTAMP:20260422T033013
CREATED:20240807T092522Z
LAST-MODIFIED:20240807T093133Z
UID:10037233-1723730400-1723764600@www.stadtmarketing-klosterneuburg.at
SUMMARY:Summer Weekend @Uferhaus
DESCRIPTION:Donnerstag\, 15.8. / ab 14 Uhr „Yacht Soul“ mit DJ Eisbær\nFreitag\, 16.8. / ab 14 Uhr „Summer Music“ mit DJ Eisbær\nSamstag\, 17.8. / ab 14 Uhr „Eis am Stiel“ mit DJ Wiz\nSonntag\, 18.8. / ab 14 Uhr „Summer Music“ mit DJ Eisbær
URL:https://www.stadtmarketing-klosterneuburg.at/veranstaltung/summer-weekend-uferhaus/2024-08-15/
LOCATION:Uferhaus\, Rollfährestraße 200\, Klosterneuburg\, 3400\, Austria
CATEGORIES:Clubbings & Parties,Kulinarik & Wein,Kunst & Kultur,Musik & Konzerte
ATTACH;FMTTYPE=image/jpeg:https://www.stadtmarketing-klosterneuburg.at/wp-content/uploads/2022/04/Uferhaus-c-Uferhaus.jpg
END:VEVENT
BEGIN:VEVENT
DTSTART;TZID=Europe/Vienna:20240811T140000
DTEND;TZID=Europe/Vienna:20240811T220000
DTSTAMP:20260422T033013
CREATED:20240805T144546Z
LAST-MODIFIED:20240806T112451Z
UID:10037228-1723384800-1723413600@www.stadtmarketing-klosterneuburg.at
SUMMARY:Summer Weekend @Uferhaus
DESCRIPTION:Freitag\, 9.8. / ab 14 Uhr DJ Eisbær spielt auf zahlreichen Wunsch „Was Gscheits“\nSamstag\, 10.8. / 14h Deep House mit DJ MischKulanz & 16h UferHouse mit DJ Simon Krauter\nSonntag\, 11.8. / ab 14 Uhr DJ Eisbær: Gesellschaftsfähige Musik für gesellschaftsfähige Menschen
URL:https://www.stadtmarketing-klosterneuburg.at/veranstaltung/summer-music-uferhaus-3/2024-08-11/
LOCATION:Uferhaus\, Rollfährestraße 200\, Klosterneuburg\, 3400\, Austria
CATEGORIES:Clubbings & Parties,Kulinarik & Wein,Kunst & Kultur,Musik & Konzerte
ATTACH;FMTTYPE=image/jpeg:https://www.stadtmarketing-klosterneuburg.at/wp-content/uploads/2022/04/Uferhaus-c-Uferhaus.jpg
END:VEVENT
BEGIN:VEVENT
DTSTART;TZID=Europe/Vienna:20240810T140000
DTEND;TZID=Europe/Vienna:20240810T220000
DTSTAMP:20260422T033013
CREATED:20240805T144546Z
LAST-MODIFIED:20240806T112451Z
UID:10037227-1723298400-1723327200@www.stadtmarketing-klosterneuburg.at
SUMMARY:Summer Weekend @Uferhaus
DESCRIPTION:Freitag\, 9.8. / ab 14 Uhr DJ Eisbær spielt auf zahlreichen Wunsch „Was Gscheits“\nSamstag\, 10.8. / 14h Deep House mit DJ MischKulanz & 16h UferHouse mit DJ Simon Krauter\nSonntag\, 11.8. / ab 14 Uhr DJ Eisbær: Gesellschaftsfähige Musik für gesellschaftsfähige Menschen
URL:https://www.stadtmarketing-klosterneuburg.at/veranstaltung/summer-music-uferhaus-3/2024-08-10/
LOCATION:Uferhaus\, Rollfährestraße 200\, Klosterneuburg\, 3400\, Austria
CATEGORIES:Clubbings & Parties,Kulinarik & Wein,Kunst & Kultur,Musik & Konzerte
ATTACH;FMTTYPE=image/jpeg:https://www.stadtmarketing-klosterneuburg.at/wp-content/uploads/2022/04/Uferhaus-c-Uferhaus.jpg
END:VEVENT
BEGIN:VEVENT
DTSTART;TZID=Europe/Vienna:20240809T140000
DTEND;TZID=Europe/Vienna:20240809T220000
DTSTAMP:20260422T033013
CREATED:20240805T144546Z
LAST-MODIFIED:20240806T112451Z
UID:10037224-1723212000-1723240800@www.stadtmarketing-klosterneuburg.at
SUMMARY:Summer Weekend @Uferhaus
DESCRIPTION:Freitag\, 9.8. / ab 14 Uhr DJ Eisbær spielt auf zahlreichen Wunsch „Was Gscheits“\nSamstag\, 10.8. / 14h Deep House mit DJ MischKulanz & 16h UferHouse mit DJ Simon Krauter\nSonntag\, 11.8. / ab 14 Uhr DJ Eisbær: Gesellschaftsfähige Musik für gesellschaftsfähige Menschen
URL:https://www.stadtmarketing-klosterneuburg.at/veranstaltung/summer-music-uferhaus-3/2024-08-09/
LOCATION:Uferhaus\, Rollfährestraße 200\, Klosterneuburg\, 3400\, Austria
CATEGORIES:Clubbings & Parties,Kulinarik & Wein,Kunst & Kultur,Musik & Konzerte
ATTACH;FMTTYPE=image/jpeg:https://www.stadtmarketing-klosterneuburg.at/wp-content/uploads/2022/04/Uferhaus-c-Uferhaus.jpg
END:VEVENT
BEGIN:VEVENT
DTSTART;TZID=Europe/Vienna:20240728T140000
DTEND;TZID=Europe/Vienna:20240728T220000
DTSTAMP:20260422T033013
CREATED:20240720T084656Z
LAST-MODIFIED:20240720T084720Z
UID:10037164-1722175200-1722204000@www.stadtmarketing-klosterneuburg.at
SUMMARY:Music @Uferhaus
DESCRIPTION:Lido dello Rollofähro Uferhaus / ab 14 Uhr mit  DJ Martino Enrico
URL:https://www.stadtmarketing-klosterneuburg.at/veranstaltung/music-uferhaus-3/
LOCATION:Uferhaus\, Rollfährestraße 200\, Klosterneuburg\, 3400\, Austria
CATEGORIES:Clubbings & Parties,Kulinarik & Wein,Kunst & Kultur,Musik & Konzerte
ATTACH;FMTTYPE=image/jpeg:https://www.stadtmarketing-klosterneuburg.at/wp-content/uploads/2022/04/Uferhaus-c-Uferhaus.jpg
END:VEVENT
BEGIN:VEVENT
DTSTART;TZID=Europe/Vienna:20240727T180000
DTEND;TZID=Europe/Vienna:20240727T220000
DTSTAMP:20260422T033013
CREATED:20240713T082015Z
LAST-MODIFIED:20240720T084154Z
UID:10037132-1722103200-1722117600@www.stadtmarketing-klosterneuburg.at
SUMMARY:Summer 2024 @Uferhaus
DESCRIPTION:Sarah B\, Sonic Seven feat. Sax ´n Soul – Beach Party\nDie Kombination von DJ und Saxophonist ist ein besonderes Highlight! Moderne DJ Sounds treffen auf jazzig\, soulige live Musik.
URL:https://www.stadtmarketing-klosterneuburg.at/veranstaltung/summer-2024-uferhaus/
LOCATION:Uferhaus\, Rollfährestraße 200\, Klosterneuburg\, 3400\, Austria
CATEGORIES:Clubbings & Parties,Kulinarik & Wein,Kunst & Kultur,Musik & Konzerte
ATTACH;FMTTYPE=image/jpeg:https://www.stadtmarketing-klosterneuburg.at/wp-content/uploads/2024/07/Summer-2024-c-Sonic-Seven.jpg
END:VEVENT
BEGIN:VEVENT
DTSTART;TZID=Europe/Vienna:20240727T140000
DTEND;TZID=Europe/Vienna:20240727T170000
DTSTAMP:20260422T033013
CREATED:20240720T084406Z
LAST-MODIFIED:20240720T102908Z
UID:10037163-1722088800-1722099600@www.stadtmarketing-klosterneuburg.at
SUMMARY:Beachparty Warm Up @Uferhaus
DESCRIPTION:ab 14 Uhr mit DJ Eisbær
URL:https://www.stadtmarketing-klosterneuburg.at/veranstaltung/beachparty-warm-up-uferhaus/
LOCATION:Uferhaus\, Rollfährestraße 200\, Klosterneuburg\, 3400\, Austria
CATEGORIES:Clubbings & Parties,Kulinarik & Wein,Kunst & Kultur,Musik & Konzerte
ATTACH;FMTTYPE=image/jpeg:https://www.stadtmarketing-klosterneuburg.at/wp-content/uploads/2022/04/Uferhaus-c-Uferhaus.jpg
END:VEVENT
END:VCALENDAR