BEGIN:VCALENDAR
VERSION:2.0
PRODID:-//Stadtmarketing Klosterneuburg - ECPv6.15.20//NONSGML v1.0//EN
CALSCALE:GREGORIAN
METHOD:PUBLISH
X-WR-CALNAME:Stadtmarketing Klosterneuburg
X-ORIGINAL-URL:https://www.stadtmarketing-klosterneuburg.at
X-WR-CALDESC:Veranstaltungen für Stadtmarketing Klosterneuburg
REFRESH-INTERVAL;VALUE=DURATION:PT1H
X-Robots-Tag:noindex
X-PUBLISHED-TTL:PT1H
BEGIN:VTIMEZONE
TZID:Europe/Vienna
BEGIN:DAYLIGHT
TZOFFSETFROM:+0100
TZOFFSETTO:+0200
TZNAME:CEST
DTSTART:20250330T010000
END:DAYLIGHT
BEGIN:STANDARD
TZOFFSETFROM:+0200
TZOFFSETTO:+0100
TZNAME:CET
DTSTART:20251026T010000
END:STANDARD
BEGIN:DAYLIGHT
TZOFFSETFROM:+0100
TZOFFSETTO:+0200
TZNAME:CEST
DTSTART:20260329T010000
END:DAYLIGHT
BEGIN:STANDARD
TZOFFSETFROM:+0200
TZOFFSETTO:+0100
TZNAME:CET
DTSTART:20261025T010000
END:STANDARD
BEGIN:DAYLIGHT
TZOFFSETFROM:+0100
TZOFFSETTO:+0200
TZNAME:CEST
DTSTART:20270328T010000
END:DAYLIGHT
BEGIN:STANDARD
TZOFFSETFROM:+0200
TZOFFSETTO:+0100
TZNAME:CET
DTSTART:20271031T010000
END:STANDARD
END:VTIMEZONE
BEGIN:VEVENT
DTSTART;TZID=Europe/Vienna:20260213T090000
DTEND;TZID=Europe/Vienna:20260213T170000
DTSTAMP:20260421T105941
CREATED:20260212T161318Z
LAST-MODIFIED:20260212T163138Z
UID:10044752-1770973200-1771002000@www.stadtmarketing-klosterneuburg.at
SUMMARY:Ausstellung "Science in the Making"
DESCRIPTION:Interaktive Ausstellung „Science in the Making“ – Wie entsteht das Wissen von morgen?\nIm VISTA Science Experience Center entdeckt man die Welt der Spitzenforschung und ist zu Besuch am lebendigen Campus des Institute of Science and Technology Austria (ISTA). \nTauchen Sie  ein in die Ideen\, die Menschen und überraschenden Prozesse hinter aktuellen Forschungsprojekten. Nach einer kurzen Einführung durch die VISTA Science Mediators können Sie in der interaktiven Ausstellung die Wissenschaft des 21. Jahrhunderts auf eigene Faust entdecken. \nNeugierige Köpfe jeden Alters sind herzlich willkommen! \nAusstellung und Führungen sind kostenlos\, um Anmeldung wird gebeten! \n  \nÖffnungszeiten:\n\nDienstag – Freitag / jeweils 9 – 17 Uhr\nSamstag\, Sonntag\, Feiertag / jeweils 10 – 17 Uhr\nGeschlossen: 6.4.2026\, 1. Mai 2026\, 25.5.2026\, 24.12.2026 – 1.1.2027\n\n  \nKontakt & Anmeldung:\nONLINE \n 
URL:https://www.stadtmarketing-klosterneuburg.at/veranstaltung/ausstellung-science-in-the-making/2026-02-13/
LOCATION:VISTA Science Experience Center\, Am Campus 1\, Klosterneuburg\, Niederösterreich\, 3400\, Austria
CATEGORIES:Ausstellungen & Messen,Bildung
ATTACH;FMTTYPE=image/jpeg:https://www.stadtmarketing-klosterneuburg.at/wp-content/uploads/2026/02/Vista-Interaktive-Ausstellung-c-ISTA_Niko-Havranek.jpg
END:VEVENT
BEGIN:VEVENT
DTSTART;TZID=Europe/Vienna:20260212T090000
DTEND;TZID=Europe/Vienna:20260212T170000
DTSTAMP:20260421T105941
CREATED:20260212T161318Z
LAST-MODIFIED:20260212T163138Z
UID:10044751-1770886800-1770915600@www.stadtmarketing-klosterneuburg.at
SUMMARY:Ausstellung "Science in the Making"
DESCRIPTION:Interaktive Ausstellung „Science in the Making“ – Wie entsteht das Wissen von morgen?\nIm VISTA Science Experience Center entdeckt man die Welt der Spitzenforschung und ist zu Besuch am lebendigen Campus des Institute of Science and Technology Austria (ISTA). \nTauchen Sie  ein in die Ideen\, die Menschen und überraschenden Prozesse hinter aktuellen Forschungsprojekten. Nach einer kurzen Einführung durch die VISTA Science Mediators können Sie in der interaktiven Ausstellung die Wissenschaft des 21. Jahrhunderts auf eigene Faust entdecken. \nNeugierige Köpfe jeden Alters sind herzlich willkommen! \nAusstellung und Führungen sind kostenlos\, um Anmeldung wird gebeten! \n  \nÖffnungszeiten:\n\nDienstag – Freitag / jeweils 9 – 17 Uhr\nSamstag\, Sonntag\, Feiertag / jeweils 10 – 17 Uhr\nGeschlossen: 6.4.2026\, 1. Mai 2026\, 25.5.2026\, 24.12.2026 – 1.1.2027\n\n  \nKontakt & Anmeldung:\nONLINE \n 
URL:https://www.stadtmarketing-klosterneuburg.at/veranstaltung/ausstellung-science-in-the-making/2026-02-12/
LOCATION:VISTA Science Experience Center\, Am Campus 1\, Klosterneuburg\, Niederösterreich\, 3400\, Austria
CATEGORIES:Ausstellungen & Messen,Bildung
ATTACH;FMTTYPE=image/jpeg:https://www.stadtmarketing-klosterneuburg.at/wp-content/uploads/2026/02/Vista-Interaktive-Ausstellung-c-ISTA_Niko-Havranek.jpg
END:VEVENT
BEGIN:VEVENT
DTSTART;TZID=Europe/Vienna:20260211T090000
DTEND;TZID=Europe/Vienna:20260211T170000
DTSTAMP:20260421T105941
CREATED:20260212T161318Z
LAST-MODIFIED:20260212T163138Z
UID:10044750-1770800400-1770829200@www.stadtmarketing-klosterneuburg.at
SUMMARY:Ausstellung "Science in the Making"
DESCRIPTION:Interaktive Ausstellung „Science in the Making“ – Wie entsteht das Wissen von morgen?\nIm VISTA Science Experience Center entdeckt man die Welt der Spitzenforschung und ist zu Besuch am lebendigen Campus des Institute of Science and Technology Austria (ISTA). \nTauchen Sie  ein in die Ideen\, die Menschen und überraschenden Prozesse hinter aktuellen Forschungsprojekten. Nach einer kurzen Einführung durch die VISTA Science Mediators können Sie in der interaktiven Ausstellung die Wissenschaft des 21. Jahrhunderts auf eigene Faust entdecken. \nNeugierige Köpfe jeden Alters sind herzlich willkommen! \nAusstellung und Führungen sind kostenlos\, um Anmeldung wird gebeten! \n  \nÖffnungszeiten:\n\nDienstag – Freitag / jeweils 9 – 17 Uhr\nSamstag\, Sonntag\, Feiertag / jeweils 10 – 17 Uhr\nGeschlossen: 6.4.2026\, 1. Mai 2026\, 25.5.2026\, 24.12.2026 – 1.1.2027\n\n  \nKontakt & Anmeldung:\nONLINE \n 
URL:https://www.stadtmarketing-klosterneuburg.at/veranstaltung/ausstellung-science-in-the-making/2026-02-11/
LOCATION:VISTA Science Experience Center\, Am Campus 1\, Klosterneuburg\, Niederösterreich\, 3400\, Austria
CATEGORIES:Ausstellungen & Messen,Bildung
ATTACH;FMTTYPE=image/jpeg:https://www.stadtmarketing-klosterneuburg.at/wp-content/uploads/2026/02/Vista-Interaktive-Ausstellung-c-ISTA_Niko-Havranek.jpg
END:VEVENT
BEGIN:VEVENT
DTSTART;TZID=Europe/Vienna:20260210T090000
DTEND;TZID=Europe/Vienna:20260210T170000
DTSTAMP:20260421T105941
CREATED:20260212T161318Z
LAST-MODIFIED:20260212T163138Z
UID:10044748-1770714000-1770742800@www.stadtmarketing-klosterneuburg.at
SUMMARY:Ausstellung "Science in the Making"
DESCRIPTION:Interaktive Ausstellung „Science in the Making“ – Wie entsteht das Wissen von morgen?\nIm VISTA Science Experience Center entdeckt man die Welt der Spitzenforschung und ist zu Besuch am lebendigen Campus des Institute of Science and Technology Austria (ISTA). \nTauchen Sie  ein in die Ideen\, die Menschen und überraschenden Prozesse hinter aktuellen Forschungsprojekten. Nach einer kurzen Einführung durch die VISTA Science Mediators können Sie in der interaktiven Ausstellung die Wissenschaft des 21. Jahrhunderts auf eigene Faust entdecken. \nNeugierige Köpfe jeden Alters sind herzlich willkommen! \nAusstellung und Führungen sind kostenlos\, um Anmeldung wird gebeten! \n  \nÖffnungszeiten:\n\nDienstag – Freitag / jeweils 9 – 17 Uhr\nSamstag\, Sonntag\, Feiertag / jeweils 10 – 17 Uhr\nGeschlossen: 6.4.2026\, 1. Mai 2026\, 25.5.2026\, 24.12.2026 – 1.1.2027\n\n  \nKontakt & Anmeldung:\nONLINE \n 
URL:https://www.stadtmarketing-klosterneuburg.at/veranstaltung/ausstellung-science-in-the-making/2026-02-10/
LOCATION:VISTA Science Experience Center\, Am Campus 1\, Klosterneuburg\, Niederösterreich\, 3400\, Austria
CATEGORIES:Ausstellungen & Messen,Bildung
ATTACH;FMTTYPE=image/jpeg:https://www.stadtmarketing-klosterneuburg.at/wp-content/uploads/2026/02/Vista-Interaktive-Ausstellung-c-ISTA_Niko-Havranek.jpg
END:VEVENT
END:VCALENDAR