BEGIN:VCALENDAR
VERSION:2.0
PRODID:-//Stadtmarketing Klosterneuburg - ECPv6.15.20//NONSGML v1.0//EN
CALSCALE:GREGORIAN
METHOD:PUBLISH
X-WR-CALNAME:Stadtmarketing Klosterneuburg
X-ORIGINAL-URL:https://www.stadtmarketing-klosterneuburg.at
X-WR-CALDESC:Veranstaltungen für Stadtmarketing Klosterneuburg
REFRESH-INTERVAL;VALUE=DURATION:PT1H
X-Robots-Tag:noindex
X-PUBLISHED-TTL:PT1H
BEGIN:VTIMEZONE
TZID:Europe/Vienna
BEGIN:DAYLIGHT
TZOFFSETFROM:+0100
TZOFFSETTO:+0200
TZNAME:CEST
DTSTART:20210328T010000
END:DAYLIGHT
BEGIN:STANDARD
TZOFFSETFROM:+0200
TZOFFSETTO:+0100
TZNAME:CET
DTSTART:20211031T010000
END:STANDARD
BEGIN:DAYLIGHT
TZOFFSETFROM:+0100
TZOFFSETTO:+0200
TZNAME:CEST
DTSTART:20220327T010000
END:DAYLIGHT
BEGIN:STANDARD
TZOFFSETFROM:+0200
TZOFFSETTO:+0100
TZNAME:CET
DTSTART:20221030T010000
END:STANDARD
BEGIN:DAYLIGHT
TZOFFSETFROM:+0100
TZOFFSETTO:+0200
TZNAME:CEST
DTSTART:20230326T010000
END:DAYLIGHT
BEGIN:STANDARD
TZOFFSETFROM:+0200
TZOFFSETTO:+0100
TZNAME:CET
DTSTART:20231029T010000
END:STANDARD
END:VTIMEZONE
BEGIN:VEVENT
DTSTART;TZID=Europe/Vienna:20221023T140000
DTEND;TZID=Europe/Vienna:20221023T230000
DTSTAMP:20260422T051021
CREATED:20220825T081754Z
LAST-MODIFIED:20221017T074521Z
UID:10022276-1666533600-1666566000@www.stadtmarketing-klosterneuburg.at
SUMMARY:Wein+Deli Tage im Bio Weingut Hauerhof 99
DESCRIPTION:An den Wein+Deli Tagen öffnet das Bio Weingut Hauerhof 99 die Pforten seines ebenerdigen Gewölbekellers und bietet einen phantasievollen Mix aus traditionell österreichischer\, mediterraner und kreativer Landhausküche mit internationaler Abwechslung sowie Qualitätsweine an. \nSpezialitäten im Oktober: Details folgen … \nGeöffnet 17 – 23 Uhr\, warme Küche ab 18 Uhr \nAlle Infos: www.hauerhof.at/das-lokal/ \nBitte um Tischreservierung: +43/ (0)676/ 430 59 79 \nFoto: (c) Isabella Rohringer
URL:https://www.stadtmarketing-klosterneuburg.at/veranstaltung/weindeli-tage-im-bio-weingut-hauerhof-99-14/2022-10-23/
LOCATION:Bio Weingut Hauerhof 99\, Hauptstraße 99\, Kritzendorf\, 3420\, Austria
CATEGORIES:Heurigen & Buschenschenke,Kulinarik & Wein,Kulinarische Veranstaltung
ATTACH;FMTTYPE=image/jpeg:https://www.stadtmarketing-klosterneuburg.at/wp-content/uploads/2020/06/42078-235696-weindeli_lokal_norm-detail-420x315-1.jpg
END:VEVENT
BEGIN:VEVENT
DTSTART;TZID=Europe/Vienna:20221022T140000
DTEND;TZID=Europe/Vienna:20221022T230000
DTSTAMP:20260422T051021
CREATED:20220825T081754Z
LAST-MODIFIED:20221017T074521Z
UID:10022275-1666447200-1666479600@www.stadtmarketing-klosterneuburg.at
SUMMARY:Wein+Deli Tage im Bio Weingut Hauerhof 99
DESCRIPTION:An den Wein+Deli Tagen öffnet das Bio Weingut Hauerhof 99 die Pforten seines ebenerdigen Gewölbekellers und bietet einen phantasievollen Mix aus traditionell österreichischer\, mediterraner und kreativer Landhausküche mit internationaler Abwechslung sowie Qualitätsweine an. \nSpezialitäten im Oktober: Details folgen … \nGeöffnet 17 – 23 Uhr\, warme Küche ab 18 Uhr \nAlle Infos: www.hauerhof.at/das-lokal/ \nBitte um Tischreservierung: +43/ (0)676/ 430 59 79 \nFoto: (c) Isabella Rohringer
URL:https://www.stadtmarketing-klosterneuburg.at/veranstaltung/weindeli-tage-im-bio-weingut-hauerhof-99-14/2022-10-22/
LOCATION:Bio Weingut Hauerhof 99\, Hauptstraße 99\, Kritzendorf\, 3420\, Austria
CATEGORIES:Heurigen & Buschenschenke,Kulinarik & Wein,Kulinarische Veranstaltung
ATTACH;FMTTYPE=image/jpeg:https://www.stadtmarketing-klosterneuburg.at/wp-content/uploads/2020/06/42078-235696-weindeli_lokal_norm-detail-420x315-1.jpg
END:VEVENT
BEGIN:VEVENT
DTSTART;TZID=Europe/Vienna:20221021T140000
DTEND;TZID=Europe/Vienna:20221021T230000
DTSTAMP:20260422T051021
CREATED:20220825T081754Z
LAST-MODIFIED:20221017T074521Z
UID:10022274-1666360800-1666393200@www.stadtmarketing-klosterneuburg.at
SUMMARY:Wein+Deli Tage im Bio Weingut Hauerhof 99
DESCRIPTION:An den Wein+Deli Tagen öffnet das Bio Weingut Hauerhof 99 die Pforten seines ebenerdigen Gewölbekellers und bietet einen phantasievollen Mix aus traditionell österreichischer\, mediterraner und kreativer Landhausküche mit internationaler Abwechslung sowie Qualitätsweine an. \nSpezialitäten im Oktober: Details folgen … \nGeöffnet 17 – 23 Uhr\, warme Küche ab 18 Uhr \nAlle Infos: www.hauerhof.at/das-lokal/ \nBitte um Tischreservierung: +43/ (0)676/ 430 59 79 \nFoto: (c) Isabella Rohringer
URL:https://www.stadtmarketing-klosterneuburg.at/veranstaltung/weindeli-tage-im-bio-weingut-hauerhof-99-14/2022-10-21/
LOCATION:Bio Weingut Hauerhof 99\, Hauptstraße 99\, Kritzendorf\, 3420\, Austria
CATEGORIES:Heurigen & Buschenschenke,Kulinarik & Wein,Kulinarische Veranstaltung
ATTACH;FMTTYPE=image/jpeg:https://www.stadtmarketing-klosterneuburg.at/wp-content/uploads/2020/06/42078-235696-weindeli_lokal_norm-detail-420x315-1.jpg
END:VEVENT
BEGIN:VEVENT
DTSTART;TZID=Europe/Vienna:20221020T140000
DTEND;TZID=Europe/Vienna:20221020T230000
DTSTAMP:20260422T051021
CREATED:20220825T081754Z
LAST-MODIFIED:20221017T074521Z
UID:10022273-1666274400-1666306800@www.stadtmarketing-klosterneuburg.at
SUMMARY:Wein+Deli Tage im Bio Weingut Hauerhof 99
DESCRIPTION:An den Wein+Deli Tagen öffnet das Bio Weingut Hauerhof 99 die Pforten seines ebenerdigen Gewölbekellers und bietet einen phantasievollen Mix aus traditionell österreichischer\, mediterraner und kreativer Landhausküche mit internationaler Abwechslung sowie Qualitätsweine an. \nSpezialitäten im Oktober: Details folgen … \nGeöffnet 17 – 23 Uhr\, warme Küche ab 18 Uhr \nAlle Infos: www.hauerhof.at/das-lokal/ \nBitte um Tischreservierung: +43/ (0)676/ 430 59 79 \nFoto: (c) Isabella Rohringer
URL:https://www.stadtmarketing-klosterneuburg.at/veranstaltung/weindeli-tage-im-bio-weingut-hauerhof-99-14/2022-10-20/
LOCATION:Bio Weingut Hauerhof 99\, Hauptstraße 99\, Kritzendorf\, 3420\, Austria
CATEGORIES:Heurigen & Buschenschenke,Kulinarik & Wein,Kulinarische Veranstaltung
ATTACH;FMTTYPE=image/jpeg:https://www.stadtmarketing-klosterneuburg.at/wp-content/uploads/2020/06/42078-235696-weindeli_lokal_norm-detail-420x315-1.jpg
END:VEVENT
BEGIN:VEVENT
DTSTART;TZID=Europe/Vienna:20221019T140000
DTEND;TZID=Europe/Vienna:20221019T230000
DTSTAMP:20260422T051021
CREATED:20220825T081754Z
LAST-MODIFIED:20221017T074521Z
UID:10022272-1666188000-1666220400@www.stadtmarketing-klosterneuburg.at
SUMMARY:Wein+Deli Tage im Bio Weingut Hauerhof 99
DESCRIPTION:An den Wein+Deli Tagen öffnet das Bio Weingut Hauerhof 99 die Pforten seines ebenerdigen Gewölbekellers und bietet einen phantasievollen Mix aus traditionell österreichischer\, mediterraner und kreativer Landhausküche mit internationaler Abwechslung sowie Qualitätsweine an. \nSpezialitäten im Oktober: Details folgen … \nGeöffnet 17 – 23 Uhr\, warme Küche ab 18 Uhr \nAlle Infos: www.hauerhof.at/das-lokal/ \nBitte um Tischreservierung: +43/ (0)676/ 430 59 79 \nFoto: (c) Isabella Rohringer
URL:https://www.stadtmarketing-klosterneuburg.at/veranstaltung/weindeli-tage-im-bio-weingut-hauerhof-99-14/2022-10-19/
LOCATION:Bio Weingut Hauerhof 99\, Hauptstraße 99\, Kritzendorf\, 3420\, Austria
CATEGORIES:Heurigen & Buschenschenke,Kulinarik & Wein,Kulinarische Veranstaltung
ATTACH;FMTTYPE=image/jpeg:https://www.stadtmarketing-klosterneuburg.at/wp-content/uploads/2020/06/42078-235696-weindeli_lokal_norm-detail-420x315-1.jpg
END:VEVENT
BEGIN:VEVENT
DTSTART;TZID=Europe/Vienna:20221012T190000
DTEND;TZID=Europe/Vienna:20221012T223000
DTSTAMP:20260422T051021
CREATED:20220519T192353Z
LAST-MODIFIED:20220519T194255Z
UID:10021770-1665601200-1665613800@www.stadtmarketing-klosterneuburg.at
SUMMARY:Magic & Dinner Show im Hauerhof
DESCRIPTION:4-Gänge Menü & zauberhafte Unterhaltung \nIm alten Gewölbekeller werden Wein und Delikatessen aus eigener Produktion mit saisonalen und vorwiegend regionalen Produkten serviert. \nDurch das Programm führen die beiden Zauberkünstler Mecki (Ludwig Gantner) und Salini (Christian Armberger) \nEinlass: 19 Uhr\, Beginn: 19.30 Uhr \nMenü & Zauberei pro Person: € 59 \nReservierung unbedingt erforderlich unter: www.salini.wien/reservierungen
URL:https://www.stadtmarketing-klosterneuburg.at/veranstaltung/magic-dinner-show-2/2022-10-12/
LOCATION:Bio Weingut Hauerhof 99\, Hauptstraße 99\, Kritzendorf\, 3420\, Austria
CATEGORIES:Kleinkunst & Kabarett,Kulinarik & Wein,Kulinarische Veranstaltung,Kunst & Kultur
ATTACH;FMTTYPE=image/jpeg:https://www.stadtmarketing-klosterneuburg.at/wp-content/uploads/2022/05/Magic-Dinner-c-Hauerhof.jpg
END:VEVENT
END:VCALENDAR