BEGIN:VCALENDAR
VERSION:2.0
PRODID:-//Stadtmarketing Klosterneuburg - ECPv6.15.17.1//NONSGML v1.0//EN
CALSCALE:GREGORIAN
METHOD:PUBLISH
X-ORIGINAL-URL:https://www.stadtmarketing-klosterneuburg.at
X-WR-CALDESC:Veranstaltungen für Stadtmarketing Klosterneuburg
REFRESH-INTERVAL;VALUE=DURATION:PT1H
X-Robots-Tag:noindex
X-PUBLISHED-TTL:PT1H
BEGIN:VTIMEZONE
TZID:Europe/Vienna
BEGIN:DAYLIGHT
TZOFFSETFROM:+0100
TZOFFSETTO:+0200
TZNAME:CEST
DTSTART:20210328T010000
END:DAYLIGHT
BEGIN:STANDARD
TZOFFSETFROM:+0200
TZOFFSETTO:+0100
TZNAME:CET
DTSTART:20211031T010000
END:STANDARD
BEGIN:DAYLIGHT
TZOFFSETFROM:+0100
TZOFFSETTO:+0200
TZNAME:CEST
DTSTART:20220327T010000
END:DAYLIGHT
BEGIN:STANDARD
TZOFFSETFROM:+0200
TZOFFSETTO:+0100
TZNAME:CET
DTSTART:20221030T010000
END:STANDARD
BEGIN:DAYLIGHT
TZOFFSETFROM:+0100
TZOFFSETTO:+0200
TZNAME:CEST
DTSTART:20230326T010000
END:DAYLIGHT
BEGIN:STANDARD
TZOFFSETFROM:+0200
TZOFFSETTO:+0100
TZNAME:CET
DTSTART:20231029T010000
END:STANDARD
BEGIN:DAYLIGHT
TZOFFSETFROM:+0100
TZOFFSETTO:+0200
TZNAME:CEST
DTSTART:20240331T010000
END:DAYLIGHT
BEGIN:STANDARD
TZOFFSETFROM:+0200
TZOFFSETTO:+0100
TZNAME:CET
DTSTART:20241027T010000
END:STANDARD
BEGIN:DAYLIGHT
TZOFFSETFROM:+0100
TZOFFSETTO:+0200
TZNAME:CEST
DTSTART:20250330T010000
END:DAYLIGHT
BEGIN:STANDARD
TZOFFSETFROM:+0200
TZOFFSETTO:+0100
TZNAME:CET
DTSTART:20251026T010000
END:STANDARD
BEGIN:DAYLIGHT
TZOFFSETFROM:+0100
TZOFFSETTO:+0200
TZNAME:CEST
DTSTART:20260329T010000
END:DAYLIGHT
BEGIN:STANDARD
TZOFFSETFROM:+0200
TZOFFSETTO:+0100
TZNAME:CET
DTSTART:20261025T010000
END:STANDARD
END:VTIMEZONE
BEGIN:VEVENT
DTSTART;TZID=Europe/Vienna:20250426T100000
DTEND;TZID=Europe/Vienna:20250426T170000
DTSTAMP:20260420T031416
CREATED:20250415T123432Z
LAST-MODIFIED:20250415T123938Z
UID:10041202-1745661600-1745686800@www.stadtmarketing-klosterneuburg.at
SUMMARY:Art Area im WKO-Innenhof
DESCRIPTION:Die Art Area lädt im stimmungsvollen Innenhof der WKO zum Verweilen\, Entdecken und Genießen ein.\nIn entspannter Atmosphäre präsentieren regionale Künstler:innen ihre Werke – begleitet von einem Glas Champagner. \nMit dabei: Taraneh Asgari\, Artur Bodenstein\, Philippe Chauvin\, Gertraud Kostiuk\, Lydia Leydolf\, Johanna Mayer\, Edith Mitsch\, Sigrid Moschner\, Monika Stahl\, Peter Strausky\, Werner Szendi sowie die Galerie Gugging. \nBesonderes Highlight für Kids am Samstag:\nKreativ- & Kunstworkshops um 14 Uhr und 15 Uhr – hier stellen die Kinder ihre eigenen Temperafarben her und gestalten damit ein frühlingshaftes Kunstwerk. Dauer je 1 Stunde\, Teilnahmegebühr € 5 pro Kind (inkl. Material\, Bezahlung vor Ort). Voranmeldung im Stadtmarketing erforderlich: stadtmarketing@klosterneuburg.net \n@ frühlingserwachen
URL:https://www.stadtmarketing-klosterneuburg.at/veranstaltung/art-area-im-wko-innenhof-2/
LOCATION:Wirtschaftskammer NÖ – Außenstelle Klosterneuburg\, Rathausplatz 5\, Klosterneuburg\, Niederösterreich\, 3400\, Austria
CATEGORIES:Clubbings & Parties,Familien,Frühlingserwachen,Kinder,Kulinarik & Wein,Kunst & Kultur,Kurse, Seminare & Workshops
ATTACH;FMTTYPE=image/jpeg:https://www.stadtmarketing-klosterneuburg.at/wp-content/uploads/2025/04/Art-Area-c-ChatGPT.jpg
END:VEVENT
BEGIN:VEVENT
DTSTART;TZID=Europe/Vienna:20250425T100000
DTEND;TZID=Europe/Vienna:20250425T180000
DTSTAMP:20260420T031416
CREATED:20250415T122735Z
LAST-MODIFIED:20250425T081646Z
UID:10041199-1745575200-1745604000@www.stadtmarketing-klosterneuburg.at
SUMMARY:Art Area im WKO-Innenhof
DESCRIPTION:Schlechtwetterbedingt muss die Art Area am Freitag leider abgesagt werden!\n\nDie Art Area lädt im stimmungsvollen Innenhof der WKO zum Verweilen\, Entdecken und Genießen ein.\nIn entspannter Atmosphäre präsentieren regionale Künstler:innen ihre Werke – begleitet von einem Glas Champagner. \nMit dabei: Taraneh Asgari\, Artur Bodenstein\, Philippe Chauvin\, Gertraud Kostiuk\, Lydia Leydolf\, Johanna Mayer\, Edith Mitsch\, Sigrid Moschner\, Monika Stahl\, Peter Strausky\, Werner Szendi sowie die Galerie Gugging. \nFür kleine Kreative gibt es am Freitag 15 – 18 Uhr einen kostenlosen Basteltisch\, der zum Mitmachen einlädt – ganz ohne Anmeldung. \n  \n@ frühlingserwachen
URL:https://www.stadtmarketing-klosterneuburg.at/veranstaltung/art-area-im-wko-innenhof/
LOCATION:Wirtschaftskammer NÖ – Außenstelle Klosterneuburg\, Rathausplatz 5\, Klosterneuburg\, Niederösterreich\, 3400\, Austria
CATEGORIES:Clubbings & Parties,Familien,Frühlingserwachen,Kinder,Kulinarik & Wein,Kunst & Kultur,Kurse, Seminare & Workshops
ATTACH;FMTTYPE=image/jpeg:https://www.stadtmarketing-klosterneuburg.at/wp-content/uploads/2025/04/Art-Area-c-ChatGPT.jpg
END:VEVENT
BEGIN:VEVENT
DTSTART;TZID=Europe/Vienna:20221202T073000
DTEND;TZID=Europe/Vienna:20221202T160000
DTSTAMP:20260420T031416
CREATED:20221104T131335Z
LAST-MODIFIED:20221104T151328Z
UID:10023289-1669966200-1669996800@www.stadtmarketing-klosterneuburg.at
SUMMARY:Ausstellung "Bilder der Energie"
DESCRIPTION:Die Kierlinger Wirtin und Künstlerin Barbara Probst lässt ihre positive Lebensenergie in ihre Bilder einfließen und so entstehen farbenfrohe Bilder\, die dem Betrachter Stärke\, Energie und Mut übermitteln. \nDie Ausstellung ist in den Räumlichkeiten der Wirtschaftskammer bis einschließlich 2.12.2022 zu besichtigen.\nÖffnungszeiten: wochentags jeweils 7.30 – 16 Uhr\nOrt: 3400 Klosterneuburg\, Rathausplatz 5 \n 
URL:https://www.stadtmarketing-klosterneuburg.at/veranstaltung/ausstellung-bilder-der-energie/2022-12-02/
LOCATION:Wirtschaftskammer NÖ – Außenstelle Klosterneuburg\, Rathausplatz 5\, Klosterneuburg\, Niederösterreich\, 3400\, Austria
CATEGORIES:Ausstellungen & Messen,Kunst & Kultur
ATTACH;FMTTYPE=image/jpeg:https://www.stadtmarketing-klosterneuburg.at/wp-content/uploads/2022/11/Bilder-der-Energie-c-Barbara-Probst.jpg
END:VEVENT
BEGIN:VEVENT
DTSTART;TZID=Europe/Vienna:20221201T073000
DTEND;TZID=Europe/Vienna:20221201T160000
DTSTAMP:20260420T031417
CREATED:20221104T131335Z
LAST-MODIFIED:20221104T151328Z
UID:10023288-1669879800-1669910400@www.stadtmarketing-klosterneuburg.at
SUMMARY:Ausstellung "Bilder der Energie"
DESCRIPTION:Die Kierlinger Wirtin und Künstlerin Barbara Probst lässt ihre positive Lebensenergie in ihre Bilder einfließen und so entstehen farbenfrohe Bilder\, die dem Betrachter Stärke\, Energie und Mut übermitteln. \nDie Ausstellung ist in den Räumlichkeiten der Wirtschaftskammer bis einschließlich 2.12.2022 zu besichtigen.\nÖffnungszeiten: wochentags jeweils 7.30 – 16 Uhr\nOrt: 3400 Klosterneuburg\, Rathausplatz 5 \n 
URL:https://www.stadtmarketing-klosterneuburg.at/veranstaltung/ausstellung-bilder-der-energie/2022-12-01/
LOCATION:Wirtschaftskammer NÖ – Außenstelle Klosterneuburg\, Rathausplatz 5\, Klosterneuburg\, Niederösterreich\, 3400\, Austria
CATEGORIES:Ausstellungen & Messen,Kunst & Kultur
ATTACH;FMTTYPE=image/jpeg:https://www.stadtmarketing-klosterneuburg.at/wp-content/uploads/2022/11/Bilder-der-Energie-c-Barbara-Probst.jpg
END:VEVENT
BEGIN:VEVENT
DTSTART;TZID=Europe/Vienna:20221130T073000
DTEND;TZID=Europe/Vienna:20221130T160000
DTSTAMP:20260420T031417
CREATED:20221104T131335Z
LAST-MODIFIED:20221104T151328Z
UID:10023287-1669793400-1669824000@www.stadtmarketing-klosterneuburg.at
SUMMARY:Ausstellung "Bilder der Energie"
DESCRIPTION:Die Kierlinger Wirtin und Künstlerin Barbara Probst lässt ihre positive Lebensenergie in ihre Bilder einfließen und so entstehen farbenfrohe Bilder\, die dem Betrachter Stärke\, Energie und Mut übermitteln. \nDie Ausstellung ist in den Räumlichkeiten der Wirtschaftskammer bis einschließlich 2.12.2022 zu besichtigen.\nÖffnungszeiten: wochentags jeweils 7.30 – 16 Uhr\nOrt: 3400 Klosterneuburg\, Rathausplatz 5 \n 
URL:https://www.stadtmarketing-klosterneuburg.at/veranstaltung/ausstellung-bilder-der-energie/2022-11-30/
LOCATION:Wirtschaftskammer NÖ – Außenstelle Klosterneuburg\, Rathausplatz 5\, Klosterneuburg\, Niederösterreich\, 3400\, Austria
CATEGORIES:Ausstellungen & Messen,Kunst & Kultur
ATTACH;FMTTYPE=image/jpeg:https://www.stadtmarketing-klosterneuburg.at/wp-content/uploads/2022/11/Bilder-der-Energie-c-Barbara-Probst.jpg
END:VEVENT
BEGIN:VEVENT
DTSTART;TZID=Europe/Vienna:20221129T073000
DTEND;TZID=Europe/Vienna:20221129T160000
DTSTAMP:20260420T031417
CREATED:20221104T131335Z
LAST-MODIFIED:20221104T151328Z
UID:10023286-1669707000-1669737600@www.stadtmarketing-klosterneuburg.at
SUMMARY:Ausstellung "Bilder der Energie"
DESCRIPTION:Die Kierlinger Wirtin und Künstlerin Barbara Probst lässt ihre positive Lebensenergie in ihre Bilder einfließen und so entstehen farbenfrohe Bilder\, die dem Betrachter Stärke\, Energie und Mut übermitteln. \nDie Ausstellung ist in den Räumlichkeiten der Wirtschaftskammer bis einschließlich 2.12.2022 zu besichtigen.\nÖffnungszeiten: wochentags jeweils 7.30 – 16 Uhr\nOrt: 3400 Klosterneuburg\, Rathausplatz 5 \n 
URL:https://www.stadtmarketing-klosterneuburg.at/veranstaltung/ausstellung-bilder-der-energie/2022-11-29/
LOCATION:Wirtschaftskammer NÖ – Außenstelle Klosterneuburg\, Rathausplatz 5\, Klosterneuburg\, Niederösterreich\, 3400\, Austria
CATEGORIES:Ausstellungen & Messen,Kunst & Kultur
ATTACH;FMTTYPE=image/jpeg:https://www.stadtmarketing-klosterneuburg.at/wp-content/uploads/2022/11/Bilder-der-Energie-c-Barbara-Probst.jpg
END:VEVENT
BEGIN:VEVENT
DTSTART;TZID=Europe/Vienna:20221128T073000
DTEND;TZID=Europe/Vienna:20221128T160000
DTSTAMP:20260420T031417
CREATED:20221104T131335Z
LAST-MODIFIED:20221104T151328Z
UID:10023285-1669620600-1669651200@www.stadtmarketing-klosterneuburg.at
SUMMARY:Ausstellung "Bilder der Energie"
DESCRIPTION:Die Kierlinger Wirtin und Künstlerin Barbara Probst lässt ihre positive Lebensenergie in ihre Bilder einfließen und so entstehen farbenfrohe Bilder\, die dem Betrachter Stärke\, Energie und Mut übermitteln. \nDie Ausstellung ist in den Räumlichkeiten der Wirtschaftskammer bis einschließlich 2.12.2022 zu besichtigen.\nÖffnungszeiten: wochentags jeweils 7.30 – 16 Uhr\nOrt: 3400 Klosterneuburg\, Rathausplatz 5 \n 
URL:https://www.stadtmarketing-klosterneuburg.at/veranstaltung/ausstellung-bilder-der-energie/2022-11-28/
LOCATION:Wirtschaftskammer NÖ – Außenstelle Klosterneuburg\, Rathausplatz 5\, Klosterneuburg\, Niederösterreich\, 3400\, Austria
CATEGORIES:Ausstellungen & Messen,Kunst & Kultur
ATTACH;FMTTYPE=image/jpeg:https://www.stadtmarketing-klosterneuburg.at/wp-content/uploads/2022/11/Bilder-der-Energie-c-Barbara-Probst.jpg
END:VEVENT
BEGIN:VEVENT
DTSTART;TZID=Europe/Vienna:20221125T073000
DTEND;TZID=Europe/Vienna:20221125T160000
DTSTAMP:20260420T031417
CREATED:20221104T131335Z
LAST-MODIFIED:20221104T151328Z
UID:10023282-1669361400-1669392000@www.stadtmarketing-klosterneuburg.at
SUMMARY:Ausstellung "Bilder der Energie"
DESCRIPTION:Die Kierlinger Wirtin und Künstlerin Barbara Probst lässt ihre positive Lebensenergie in ihre Bilder einfließen und so entstehen farbenfrohe Bilder\, die dem Betrachter Stärke\, Energie und Mut übermitteln. \nDie Ausstellung ist in den Räumlichkeiten der Wirtschaftskammer bis einschließlich 2.12.2022 zu besichtigen.\nÖffnungszeiten: wochentags jeweils 7.30 – 16 Uhr\nOrt: 3400 Klosterneuburg\, Rathausplatz 5 \n 
URL:https://www.stadtmarketing-klosterneuburg.at/veranstaltung/ausstellung-bilder-der-energie/2022-11-25/
LOCATION:Wirtschaftskammer NÖ – Außenstelle Klosterneuburg\, Rathausplatz 5\, Klosterneuburg\, Niederösterreich\, 3400\, Austria
CATEGORIES:Ausstellungen & Messen,Kunst & Kultur
ATTACH;FMTTYPE=image/jpeg:https://www.stadtmarketing-klosterneuburg.at/wp-content/uploads/2022/11/Bilder-der-Energie-c-Barbara-Probst.jpg
END:VEVENT
BEGIN:VEVENT
DTSTART;TZID=Europe/Vienna:20221124T190000
DTEND;TZID=Europe/Vienna:20221124T210000
DTSTAMP:20260420T031417
CREATED:20221104T130629Z
LAST-MODIFIED:20221104T130629Z
UID:10023280-1669316400-1669323600@www.stadtmarketing-klosterneuburg.at
SUMMARY:Vernissage "Bilder der Energie"
DESCRIPTION:Die Kierlinger Wirtin und Künstlerin Barbara Probst lässt ihre positive Lebensenergie in ihre Bilder einfließen und so entstehen farbenfrohe Bilder\, die dem Betrachter Stärke\, Energie und Mut übermitteln. \nVernissage am 24. November 2022 um 19 Uhr\nmit feierlicher Eröffnung. \nUm Anmeldung bis 21.11. wird gebeten:\n\n+43/ (0)2243/ 327 68\nklosterneuburg@wknoe.at\n\nDie Ausstellung ist bis einschließlich 2.12.2022 geöffnet.\nOrt: 3400 Klosterneuburg\, Rathausplatz 5 \n 
URL:https://www.stadtmarketing-klosterneuburg.at/veranstaltung/vernissage-bilder-der-energie/
LOCATION:Wirtschaftskammer NÖ – Außenstelle Klosterneuburg\, Rathausplatz 5\, Klosterneuburg\, Niederösterreich\, 3400\, Austria
CATEGORIES:Ausstellungen & Messen,Kunst & Kultur
ATTACH;FMTTYPE=image/jpeg:https://www.stadtmarketing-klosterneuburg.at/wp-content/uploads/2022/11/Bilder-der-Energie-c-Barbara-Probst.jpg
END:VEVENT
END:VCALENDAR